BEGIN:VCALENDAR
VERSION:2.0
PRODID:-//St Peter&#039;s Barge - ECPv6.15.20//NONSGML v1.0//EN
CALSCALE:GREGORIAN
METHOD:PUBLISH
X-WR-CALNAME:St Peter&#039;s Barge
X-ORIGINAL-URL:https://stpetersbarge.org
X-WR-CALDESC:Events for St Peter&#039;s Barge
REFRESH-INTERVAL;VALUE=DURATION:PT1H
X-Robots-Tag:noindex
X-PUBLISHED-TTL:PT1H
BEGIN:VTIMEZONE
TZID:Europe/London
BEGIN:DAYLIGHT
TZOFFSETFROM:+0000
TZOFFSETTO:+0100
TZNAME:BST
DTSTART:20130331T010000
END:DAYLIGHT
BEGIN:STANDARD
TZOFFSETFROM:+0100
TZOFFSETTO:+0000
TZNAME:GMT
DTSTART:20131027T010000
END:STANDARD
BEGIN:DAYLIGHT
TZOFFSETFROM:+0000
TZOFFSETTO:+0100
TZNAME:BST
DTSTART:20140330T010000
END:DAYLIGHT
BEGIN:STANDARD
TZOFFSETFROM:+0100
TZOFFSETTO:+0000
TZNAME:GMT
DTSTART:20141026T010000
END:STANDARD
BEGIN:DAYLIGHT
TZOFFSETFROM:+0000
TZOFFSETTO:+0100
TZNAME:BST
DTSTART:20150329T010000
END:DAYLIGHT
BEGIN:STANDARD
TZOFFSETFROM:+0100
TZOFFSETTO:+0000
TZNAME:GMT
DTSTART:20151025T010000
END:STANDARD
END:VTIMEZONE
BEGIN:VEVENT
DTSTART;TZID=Europe/London:20140615T103000
DTEND;TZID=Europe/London:20140615T120000
DTSTAMP:20260423T063702
CREATED:20140523T151900Z
LAST-MODIFIED:20140606T151312Z
UID:1773-1402828200-1402833600@stpetersbarge.org
SUMMARY:Baptism service at 10:30am (with Sunday School)
DESCRIPTION:Guest service with baptism at 10:30AM\n\n  \nHow to be a total loser (Luke 14:15-24)\nSpeaker: Andrew Latimer
URL:https://stpetersbarge.org/bargeevent/baptism-service-at-1030am-with-sunday-school/
LOCATION:St Peter’s Barge\, St Peter's Barge\, London\, E14 4AL
CATEGORIES:Baptism,Sunday service
END:VEVENT
BEGIN:VEVENT
DTSTART;TZID=Europe/London:20140518T103000
DTEND;TZID=Europe/London:20140518T120000
DTSTAMP:20260423T063702
CREATED:20140425T165010Z
LAST-MODIFIED:20140507T091340Z
UID:1581-1400409000-1400414400@stpetersbarge.org
SUMMARY:Baptism service at 10:30am (with Sunday School)
DESCRIPTION:Isaiah 25-27 / baptism service at 10:30am\, evangelistic talk\nSpeaker: Marcus Nodder
URL:https://stpetersbarge.org/bargeevent/sunday-service-at-1030amwith-sunday-school-at-6pm-4/
LOCATION:St Peter’s Barge\, St Peter's Barge\, London\, E14 4AL
CATEGORIES:Baptism,Sunday service
END:VEVENT
END:VCALENDAR