BEGIN:VCALENDAR
VERSION:2.0
PRODID:-//St Peter&#039;s Barge - ECPv6.15.20//NONSGML v1.0//EN
CALSCALE:GREGORIAN
METHOD:PUBLISH
X-WR-CALNAME:St Peter&#039;s Barge
X-ORIGINAL-URL:https://stpetersbarge.org
X-WR-CALDESC:Events for St Peter&#039;s Barge
REFRESH-INTERVAL;VALUE=DURATION:PT1H
X-Robots-Tag:noindex
X-PUBLISHED-TTL:PT1H
BEGIN:VTIMEZONE
TZID:Europe/London
BEGIN:DAYLIGHT
TZOFFSETFROM:+0000
TZOFFSETTO:+0100
TZNAME:BST
DTSTART:20170326T010000
END:DAYLIGHT
BEGIN:STANDARD
TZOFFSETFROM:+0100
TZOFFSETTO:+0000
TZNAME:GMT
DTSTART:20171029T010000
END:STANDARD
BEGIN:DAYLIGHT
TZOFFSETFROM:+0000
TZOFFSETTO:+0100
TZNAME:BST
DTSTART:20180325T010000
END:DAYLIGHT
BEGIN:STANDARD
TZOFFSETFROM:+0100
TZOFFSETTO:+0000
TZNAME:GMT
DTSTART:20181028T010000
END:STANDARD
BEGIN:DAYLIGHT
TZOFFSETFROM:+0000
TZOFFSETTO:+0100
TZNAME:BST
DTSTART:20190331T010000
END:DAYLIGHT
BEGIN:STANDARD
TZOFFSETFROM:+0100
TZOFFSETTO:+0000
TZNAME:GMT
DTSTART:20191027T010000
END:STANDARD
BEGIN:DAYLIGHT
TZOFFSETFROM:+0000
TZOFFSETTO:+0100
TZNAME:BST
DTSTART:20200329T010000
END:DAYLIGHT
BEGIN:STANDARD
TZOFFSETFROM:+0100
TZOFFSETTO:+0000
TZNAME:GMT
DTSTART:20201025T010000
END:STANDARD
END:VTIMEZONE
BEGIN:VEVENT
DTSTART;TZID=Europe/London:20190522T193000
DTEND;TZID=Europe/London:20190522T210000
DTSTAMP:20260421T140333
CREATED:20190410T145721Z
LAST-MODIFIED:20190410T145721Z
UID:9693-1558553400-1558558800@stpetersbarge.org
SUMMARY:Growth Group
DESCRIPTION:Growth Groups provide an opportunity to study the Bible\, pray & get to know others in a smaller group.  Groups meet on the Barge. \nGroups meet from 7:30-9pm. Door opens at 7pm for dinner.
URL:https://stpetersbarge.org/bargeevent/growth-group-120/
LOCATION:St Peter’s Barge\, St Peter's Barge\, London\, E14 4AL
CATEGORIES:Growth Groups
END:VEVENT
BEGIN:VEVENT
DTSTART;TZID=Europe/London:20190515T193000
DTEND;TZID=Europe/London:20190515T210000
DTSTAMP:20260421T140333
CREATED:20190410T145655Z
LAST-MODIFIED:20190410T145655Z
UID:9692-1557948600-1557954000@stpetersbarge.org
SUMMARY:Growth Group
DESCRIPTION:Growth Groups provide an opportunity to study the Bible\, pray & get to know others in a smaller group.  Groups meet on the Barge. \nGroups meet from 7:30-9pm. Door opens at 7pm for dinner.
URL:https://stpetersbarge.org/bargeevent/growth-group-119/
LOCATION:St Peter’s Barge\, St Peter's Barge\, London\, E14 4AL
CATEGORIES:Growth Groups
END:VEVENT
BEGIN:VEVENT
DTSTART;TZID=Europe/London:20190508T193000
DTEND;TZID=Europe/London:20190508T210000
DTSTAMP:20260421T140333
CREATED:20190410T145633Z
LAST-MODIFIED:20190410T145633Z
UID:9691-1557343800-1557349200@stpetersbarge.org
SUMMARY:Growth Group
DESCRIPTION:Growth Groups provide an opportunity to study the Bible\, pray & get to know others in a smaller group.  Groups meet on the Barge. \nGroups meet from 7:30-9pm. Door opens at 7pm for dinner.
URL:https://stpetersbarge.org/bargeevent/growth-group-118/
LOCATION:St Peter’s Barge\, St Peter's Barge\, London\, E14 4AL
CATEGORIES:Growth Groups
END:VEVENT
BEGIN:VEVENT
DTSTART;TZID=Europe/London:20190501T193000
DTEND;TZID=Europe/London:20190501T210000
DTSTAMP:20260421T140333
CREATED:20190410T145614Z
LAST-MODIFIED:20190410T145614Z
UID:9690-1556739000-1556744400@stpetersbarge.org
SUMMARY:Growth Group
DESCRIPTION:Growth Groups provide an opportunity to study the Bible\, pray & get to know others in a smaller group.  Groups meet on the Barge. \nGroups meet from 7:30-9pm. Door opens at 7pm for dinner.
URL:https://stpetersbarge.org/bargeevent/growth-group-117/
LOCATION:St Peter’s Barge\, St Peter's Barge\, London\, E14 4AL
CATEGORIES:Growth Groups
END:VEVENT
BEGIN:VEVENT
DTSTART;TZID=Europe/London:20190424T193000
DTEND;TZID=Europe/London:20190424T210000
DTSTAMP:20260421T140333
CREATED:20181224T164750Z
LAST-MODIFIED:20181224T164750Z
UID:9277-1556134200-1556139600@stpetersbarge.org
SUMMARY:Growth Group
DESCRIPTION:Growth Groups provide an opportunity to study the Bible\, pray & get to know others in a smaller group.  Groups meet on the Barge. \nGroups meet from 7:30-9pm. Door opens at 7pm for dinner.
URL:https://stpetersbarge.org/bargeevent/growth-group-116/
LOCATION:St Peter’s Barge\, St Peter's Barge\, London\, E14 4AL
CATEGORIES:Growth Groups
END:VEVENT
BEGIN:VEVENT
DTSTART;TZID=Europe/London:20190417T190000
DTEND;TZID=Europe/London:20190417T210000
DTSTAMP:20260421T140333
CREATED:20190416T103046Z
LAST-MODIFIED:20190416T103619Z
UID:9866-1555527600-1555534800@stpetersbarge.org
SUMMARY:Film evening on the Barge
DESCRIPTION:‘Risen’ film\, starring Joseph Fiennes\, shown on the Barge. 7.00pm food (BYO or order pizza); 7.30pm film. For trailer see https://www.youtube.com/watch?v=OcTVLfn5i8g
URL:https://stpetersbarge.org/bargeevent/film-evening-on-the-barge/
LOCATION:St Peter’s Barge\, St Peter's Barge\, London\, E14 4AL
CATEGORIES:Growth Groups
END:VEVENT
BEGIN:VEVENT
DTSTART;TZID=Europe/London:20190327T193000
DTEND;TZID=Europe/London:20190327T210000
DTSTAMP:20260421T140333
CREATED:20181224T164717Z
LAST-MODIFIED:20181224T164717Z
UID:9276-1553715000-1553720400@stpetersbarge.org
SUMMARY:Growth Group
DESCRIPTION:Growth Groups provide an opportunity to study the Bible\, pray & get to know others in a smaller group.  Groups meet on the Barge. \nGroups meet from 7:30-9pm. Door opens at 7pm for dinner.
URL:https://stpetersbarge.org/bargeevent/growth-group-115/
LOCATION:St Peter’s Barge\, St Peter's Barge\, London\, E14 4AL
CATEGORIES:Growth Groups
END:VEVENT
BEGIN:VEVENT
DTSTART;TZID=Europe/London:20190320T193000
DTEND;TZID=Europe/London:20190320T210000
DTSTAMP:20260421T140333
CREATED:20181224T164646Z
LAST-MODIFIED:20181224T164646Z
UID:9275-1553110200-1553115600@stpetersbarge.org
SUMMARY:Growth Group
DESCRIPTION:Growth Groups provide an opportunity to study the Bible\, pray & get to know others in a smaller group.  Groups meet on the Barge. \nGroups meet from 7:30-9pm. Door opens at 7pm for dinner.
URL:https://stpetersbarge.org/bargeevent/growth-group-114/
LOCATION:St Peter’s Barge\, St Peter's Barge\, London\, E14 4AL
CATEGORIES:Growth Groups
END:VEVENT
BEGIN:VEVENT
DTSTART;TZID=Europe/London:20190313T193000
DTEND;TZID=Europe/London:20190313T210000
DTSTAMP:20260421T140333
CREATED:20181224T164622Z
LAST-MODIFIED:20181224T164622Z
UID:9274-1552505400-1552510800@stpetersbarge.org
SUMMARY:Growth Group
DESCRIPTION:Growth Groups provide an opportunity to study the Bible\, pray & get to know others in a smaller group.  Groups meet on the Barge. \nGroups meet from 7:30-9pm. Door opens at 7pm for dinner.
URL:https://stpetersbarge.org/bargeevent/growth-group-113/
LOCATION:St Peter’s Barge\, St Peter's Barge\, London\, E14 4AL
CATEGORIES:Growth Groups
END:VEVENT
BEGIN:VEVENT
DTSTART;TZID=Europe/London:20190306T193000
DTEND;TZID=Europe/London:20190306T210000
DTSTAMP:20260421T140333
CREATED:20181224T164558Z
LAST-MODIFIED:20181224T164558Z
UID:9273-1551900600-1551906000@stpetersbarge.org
SUMMARY:Growth Group
DESCRIPTION:Growth Groups provide an opportunity to study the Bible\, pray & get to know others in a smaller group.  Groups meet on the Barge. \nGroups meet from 7:30-9pm. Door opens at 7pm for dinner.
URL:https://stpetersbarge.org/bargeevent/growth-group-112/
LOCATION:St Peter’s Barge\, St Peter's Barge\, London\, E14 4AL
CATEGORIES:Growth Groups
END:VEVENT
BEGIN:VEVENT
DTSTART;TZID=Europe/London:20190227T193000
DTEND;TZID=Europe/London:20190227T210000
DTSTAMP:20260421T140333
CREATED:20181113T170311Z
LAST-MODIFIED:20181113T170311Z
UID:8989-1551295800-1551301200@stpetersbarge.org
SUMMARY:Growth Group
DESCRIPTION:Growth Groups provide an opportunity to study the Bible\, pray & get to know others in a smaller group.  Groups meet on the Barge. \nGroups meet from 7:30-9pm. Door opens at 7pm for dinner.
URL:https://stpetersbarge.org/bargeevent/growth-group-111/
LOCATION:St Peter’s Barge\, St Peter's Barge\, London\, E14 4AL
CATEGORIES:Growth Groups
END:VEVENT
BEGIN:VEVENT
DTSTART;TZID=Europe/London:20190220T193000
DTEND;TZID=Europe/London:20190220T210000
DTSTAMP:20260421T140333
CREATED:20181113T170242Z
LAST-MODIFIED:20181113T170242Z
UID:8988-1550691000-1550696400@stpetersbarge.org
SUMMARY:Growth Group
DESCRIPTION:Growth Groups provide an opportunity to study the Bible\, pray & get to know others in a smaller group.  Groups meet on the Barge. \nGroups meet from 7:30-9pm. Door opens at 7pm for dinner.
URL:https://stpetersbarge.org/bargeevent/growth-group-110/
LOCATION:St Peter’s Barge\, St Peter's Barge\, London\, E14 4AL
CATEGORIES:Growth Groups
END:VEVENT
BEGIN:VEVENT
DTSTART;TZID=Europe/London:20190213T193000
DTEND;TZID=Europe/London:20190213T210000
DTSTAMP:20260421T140333
CREATED:20181113T170219Z
LAST-MODIFIED:20181113T170219Z
UID:8987-1550086200-1550091600@stpetersbarge.org
SUMMARY:Growth Group
DESCRIPTION:Growth Groups provide an opportunity to study the Bible\, pray & get to know others in a smaller group.  Groups meet on the Barge. \nGroups meet from 7:30-9pm. Door opens at 7pm for dinner.
URL:https://stpetersbarge.org/bargeevent/growth-group-109/
LOCATION:St Peter’s Barge\, St Peter's Barge\, London\, E14 4AL
CATEGORIES:Growth Groups
END:VEVENT
BEGIN:VEVENT
DTSTART;TZID=Europe/London:20190206T193000
DTEND;TZID=Europe/London:20190206T210000
DTSTAMP:20260421T140333
CREATED:20181113T170157Z
LAST-MODIFIED:20181113T170157Z
UID:8986-1549481400-1549486800@stpetersbarge.org
SUMMARY:Growth Group
DESCRIPTION:Growth Groups provide an opportunity to study the Bible\, pray & get to know others in a smaller group.  Groups meet on the Barge. \nGroups meet from 7:30-9pm. Door opens at 7pm for dinner.
URL:https://stpetersbarge.org/bargeevent/growth-group-108/
LOCATION:St Peter’s Barge\, St Peter's Barge\, London\, E14 4AL
CATEGORIES:Growth Groups
END:VEVENT
BEGIN:VEVENT
DTSTART;TZID=Europe/London:20190130T193000
DTEND;TZID=Europe/London:20190130T210000
DTSTAMP:20260421T140333
CREATED:20181113T170137Z
LAST-MODIFIED:20181113T170137Z
UID:8985-1548876600-1548882000@stpetersbarge.org
SUMMARY:Growth Group
DESCRIPTION:Growth Groups provide an opportunity to study the Bible\, pray & get to know others in a smaller group.  Groups meet on the Barge. \nGroups meet from 7:30-9pm. Door opens at 7pm for dinner.
URL:https://stpetersbarge.org/bargeevent/growth-group-107/
LOCATION:St Peter’s Barge\, St Peter's Barge\, London\, E14 4AL
CATEGORIES:Growth Groups
END:VEVENT
BEGIN:VEVENT
DTSTART;TZID=Europe/London:20190123T193000
DTEND;TZID=Europe/London:20190123T210000
DTSTAMP:20260421T140333
CREATED:20181113T170117Z
LAST-MODIFIED:20181113T170117Z
UID:8984-1548271800-1548277200@stpetersbarge.org
SUMMARY:Growth Group
DESCRIPTION:Growth Groups provide an opportunity to study the Bible\, pray & get to know others in a smaller group.  Groups meet on the Barge. \nGroups meet from 7:30-9pm. Door opens at 7pm for dinner.
URL:https://stpetersbarge.org/bargeevent/growth-group-106/
LOCATION:St Peter’s Barge\, St Peter's Barge\, London\, E14 4AL
CATEGORIES:Growth Groups
END:VEVENT
BEGIN:VEVENT
DTSTART;TZID=Europe/London:20190116T193000
DTEND;TZID=Europe/London:20190116T210000
DTSTAMP:20260421T140333
CREATED:20181113T170056Z
LAST-MODIFIED:20181113T170056Z
UID:8983-1547667000-1547672400@stpetersbarge.org
SUMMARY:Growth Group
DESCRIPTION:Growth Groups provide an opportunity to study the Bible\, pray & get to know others in a smaller group.  Groups meet on the Barge. \nGroups meet from 7:30-9pm. Door opens at 7pm for dinner.
URL:https://stpetersbarge.org/bargeevent/growth-group-94/
LOCATION:St Peter’s Barge\, St Peter's Barge\, London\, E14 4AL
CATEGORIES:Growth Groups
END:VEVENT
BEGIN:VEVENT
DTSTART;TZID=Europe/London:20190109T193000
DTEND;TZID=Europe/London:20190109T210000
DTSTAMP:20260421T140333
CREATED:20181113T170033Z
LAST-MODIFIED:20181113T170033Z
UID:8982-1547062200-1547067600@stpetersbarge.org
SUMMARY:Growth Group
DESCRIPTION:Growth Groups provide an opportunity to study the Bible\, pray & get to know others in a smaller group.  Groups meet on the Barge. \nGroups meet from 7:30-9pm. Door opens at 7pm for dinner.
URL:https://stpetersbarge.org/bargeevent/growth-group-93/
LOCATION:St Peter’s Barge\, St Peter's Barge\, London\, E14 4AL
CATEGORIES:Growth Groups
END:VEVENT
BEGIN:VEVENT
DTSTART;TZID=Europe/London:20181212T193000
DTEND;TZID=Europe/London:20181212T210000
DTSTAMP:20260421T140333
CREATED:20180618T144451Z
LAST-MODIFIED:20180618T144451Z
UID:8354-1544643000-1544648400@stpetersbarge.org
SUMMARY:Growth Group
DESCRIPTION:Growth Groups provide an opportunity to study the Bible\, pray & get to know others in a smaller group.  Groups meet on the Barge. \nGroups meet from 7:30-9pm. Door opens at 7pm for dinner.
URL:https://stpetersbarge.org/bargeevent/growth-group-105/
LOCATION:St Peter’s Barge\, St Peter's Barge\, London\, E14 4AL
CATEGORIES:Growth Groups
END:VEVENT
BEGIN:VEVENT
DTSTART;TZID=Europe/London:20181205T193000
DTEND;TZID=Europe/London:20181205T210000
DTSTAMP:20260421T140333
CREATED:20180618T144424Z
LAST-MODIFIED:20180618T144424Z
UID:8353-1544038200-1544043600@stpetersbarge.org
SUMMARY:Growth Group
DESCRIPTION:Growth Groups provide an opportunity to study the Bible\, pray & get to know others in a smaller group.  Groups meet on the Barge. \nGroups meet from 7:30-9pm. Door opens at 7pm for dinner.
URL:https://stpetersbarge.org/bargeevent/growth-group-104/
LOCATION:St Peter’s Barge\, St Peter's Barge\, London\, E14 4AL
CATEGORIES:Growth Groups
END:VEVENT
BEGIN:VEVENT
DTSTART;TZID=Europe/London:20181128T193000
DTEND;TZID=Europe/London:20181128T210000
DTSTAMP:20260421T140333
CREATED:20180618T144354Z
LAST-MODIFIED:20180618T144354Z
UID:8352-1543433400-1543438800@stpetersbarge.org
SUMMARY:Growth Group
DESCRIPTION:Growth Groups provide an opportunity to study the Bible\, pray & get to know others in a smaller group.  Groups meet on the Barge. \nGroups meet from 7:30-9pm. Door opens at 7pm for dinner.
URL:https://stpetersbarge.org/bargeevent/growth-group-103/
LOCATION:St Peter’s Barge\, St Peter's Barge\, London\, E14 4AL
CATEGORIES:Growth Groups
END:VEVENT
BEGIN:VEVENT
DTSTART;TZID=Europe/London:20181121T193000
DTEND;TZID=Europe/London:20181121T210000
DTSTAMP:20260421T140333
CREATED:20180618T144236Z
LAST-MODIFIED:20180618T144236Z
UID:8351-1542828600-1542834000@stpetersbarge.org
SUMMARY:Growth Group
DESCRIPTION:Growth Groups provide an opportunity to study the Bible\, pray & get to know others in a smaller group.  Groups meet on the Barge. \nGroups meet from 7:30-9pm. Door opens at 7pm for dinner.
URL:https://stpetersbarge.org/bargeevent/growth-group-102/
LOCATION:St Peter’s Barge\, St Peter's Barge\, London\, E14 4AL
CATEGORIES:Growth Groups
END:VEVENT
BEGIN:VEVENT
DTSTART;TZID=Europe/London:20181114T193000
DTEND;TZID=Europe/London:20181114T210000
DTSTAMP:20260421T140333
CREATED:20180618T144208Z
LAST-MODIFIED:20180618T144208Z
UID:8350-1542223800-1542229200@stpetersbarge.org
SUMMARY:Growth Group
DESCRIPTION:Growth Groups provide an opportunity to study the Bible\, pray & get to know others in a smaller group.  Groups meet on the Barge. \nGroups meet from 7:30-9pm. Door opens at 7pm for dinner.
URL:https://stpetersbarge.org/bargeevent/growth-group-101/
LOCATION:St Peter’s Barge\, St Peter's Barge\, London\, E14 4AL
CATEGORIES:Growth Groups
END:VEVENT
BEGIN:VEVENT
DTSTART;TZID=Europe/London:20181107T193000
DTEND;TZID=Europe/London:20181107T210000
DTSTAMP:20260421T140333
CREATED:20180618T143915Z
LAST-MODIFIED:20180618T143915Z
UID:8341-1541619000-1541624400@stpetersbarge.org
SUMMARY:Growth Group
DESCRIPTION:Growth Groups provide an opportunity to study the Bible\, pray & get to know others in a smaller group.  Groups meet on the Barge. \nGroups meet from 7:30-9pm. Door opens at 7pm for dinner.
URL:https://stpetersbarge.org/bargeevent/growth-group-100/
LOCATION:St Peter’s Barge\, St Peter's Barge\, London\, E14 4AL
CATEGORIES:Growth Groups
END:VEVENT
BEGIN:VEVENT
DTSTART;TZID=Europe/London:20181031T193000
DTEND;TZID=Europe/London:20181031T210000
DTSTAMP:20260421T140333
CREATED:20180618T143753Z
LAST-MODIFIED:20180618T143753Z
UID:8340-1541014200-1541019600@stpetersbarge.org
SUMMARY:Growth Group
DESCRIPTION:Growth Groups provide an opportunity to study the Bible\, pray & get to know others in a smaller group.  Groups meet on the Barge. \nGroups meet from 7:30-9pm. Door opens at 7pm for dinner.
URL:https://stpetersbarge.org/bargeevent/growth-group-99/
LOCATION:St Peter’s Barge\, St Peter's Barge\, London\, E14 4AL
CATEGORIES:Growth Groups
END:VEVENT
BEGIN:VEVENT
DTSTART;TZID=Europe/London:20181024T193000
DTEND;TZID=Europe/London:20181024T210000
DTSTAMP:20260421T140333
CREATED:20180618T143730Z
LAST-MODIFIED:20180618T143730Z
UID:8339-1540409400-1540414800@stpetersbarge.org
SUMMARY:Growth Group
DESCRIPTION:Growth Groups provide an opportunity to study the Bible\, pray & get to know others in a smaller group.  Groups meet on the Barge. \nGroups meet from 7:30-9pm. Door opens at 7pm for dinner.
URL:https://stpetersbarge.org/bargeevent/growth-group-98/
LOCATION:St Peter’s Barge\, St Peter's Barge\, London\, E14 4AL
CATEGORIES:Growth Groups
END:VEVENT
BEGIN:VEVENT
DTSTART;TZID=Europe/London:20181017T193000
DTEND;TZID=Europe/London:20181017T210000
DTSTAMP:20260421T140333
CREATED:20180618T143704Z
LAST-MODIFIED:20180618T143704Z
UID:8338-1539804600-1539810000@stpetersbarge.org
SUMMARY:Growth Group
DESCRIPTION:Growth Groups provide an opportunity to study the Bible\, pray & get to know others in a smaller group.  Groups meet on the Barge. \nGroups meet from 7:30-9pm. Door opens at 7pm for dinner.
URL:https://stpetersbarge.org/bargeevent/growth-group-97/
LOCATION:St Peter’s Barge\, St Peter's Barge\, London\, E14 4AL
CATEGORIES:Growth Groups
END:VEVENT
BEGIN:VEVENT
DTSTART;TZID=Europe/London:20181010T193000
DTEND;TZID=Europe/London:20181010T210000
DTSTAMP:20260421T140333
CREATED:20180618T143624Z
LAST-MODIFIED:20180618T143624Z
UID:8336-1539199800-1539205200@stpetersbarge.org
SUMMARY:Growth Group
DESCRIPTION:Growth Groups provide an opportunity to study the Bible\, pray & get to know others in a smaller group.  Groups meet on the Barge. \nGroups meet from 7:30-9pm. Door opens at 7pm for dinner.
URL:https://stpetersbarge.org/bargeevent/growth-group-96/
LOCATION:St Peter’s Barge\, St Peter's Barge\, London\, E14 4AL
CATEGORIES:Growth Groups
END:VEVENT
BEGIN:VEVENT
DTSTART;TZID=Europe/London:20181003T193000
DTEND;TZID=Europe/London:20181003T210000
DTSTAMP:20260421T140333
CREATED:20180618T143409Z
LAST-MODIFIED:20180618T143409Z
UID:8335-1538595000-1538600400@stpetersbarge.org
SUMMARY:Growth Group
DESCRIPTION:Growth Groups provide an opportunity to study the Bible\, pray & get to know others in a smaller group.  Groups meet on the Barge. \nGroups meet from 7:30-9pm. Door opens at 7pm for dinner.
URL:https://stpetersbarge.org/bargeevent/growth-group-95/
LOCATION:St Peter’s Barge\, St Peter's Barge\, London\, E14 4AL
CATEGORIES:Growth Groups
END:VEVENT
BEGIN:VEVENT
DTSTART;TZID=Europe/London:20180926T193000
DTEND;TZID=Europe/London:20180926T210000
DTSTAMP:20260421T140333
CREATED:20180420T132319Z
LAST-MODIFIED:20180420T132319Z
UID:8064-1537990200-1537995600@stpetersbarge.org
SUMMARY:Growth Group
DESCRIPTION:Growth Groups provide an opportunity to study the Bible\, pray & get to know others in a smaller group.  Groups meet on the Barge. \nGroups meet from 7:30-9pm. Door opens at 7pm for dinner.
URL:https://stpetersbarge.org/bargeevent/growth-group-92/
LOCATION:St Peter’s Barge\, St Peter's Barge\, London\, E14 4AL
CATEGORIES:Growth Groups
END:VEVENT
END:VCALENDAR