BEGIN:VCALENDAR
VERSION:2.0
PRODID:-//St Peter&#039;s Barge - ECPv6.15.20//NONSGML v1.0//EN
CALSCALE:GREGORIAN
METHOD:PUBLISH
X-ORIGINAL-URL:https://stpetersbarge.org
X-WR-CALDESC:Events for St Peter&#039;s Barge
REFRESH-INTERVAL;VALUE=DURATION:PT1H
X-Robots-Tag:noindex
X-PUBLISHED-TTL:PT1H
BEGIN:VTIMEZONE
TZID:Europe/London
BEGIN:DAYLIGHT
TZOFFSETFROM:+0000
TZOFFSETTO:+0100
TZNAME:BST
DTSTART:20140330T010000
END:DAYLIGHT
BEGIN:STANDARD
TZOFFSETFROM:+0100
TZOFFSETTO:+0000
TZNAME:GMT
DTSTART:20141026T010000
END:STANDARD
BEGIN:DAYLIGHT
TZOFFSETFROM:+0000
TZOFFSETTO:+0100
TZNAME:BST
DTSTART:20150329T010000
END:DAYLIGHT
BEGIN:STANDARD
TZOFFSETFROM:+0100
TZOFFSETTO:+0000
TZNAME:GMT
DTSTART:20151025T010000
END:STANDARD
BEGIN:DAYLIGHT
TZOFFSETFROM:+0000
TZOFFSETTO:+0100
TZNAME:BST
DTSTART:20160327T010000
END:DAYLIGHT
BEGIN:STANDARD
TZOFFSETFROM:+0100
TZOFFSETTO:+0000
TZNAME:GMT
DTSTART:20161030T010000
END:STANDARD
BEGIN:DAYLIGHT
TZOFFSETFROM:+0000
TZOFFSETTO:+0100
TZNAME:BST
DTSTART:20170326T010000
END:DAYLIGHT
BEGIN:STANDARD
TZOFFSETFROM:+0100
TZOFFSETTO:+0000
TZNAME:GMT
DTSTART:20171029T010000
END:STANDARD
END:VTIMEZONE
BEGIN:VEVENT
DTSTART;TZID=Europe/London:20160607T193000
DTEND;TZID=Europe/London:20160607T210000
DTSTAMP:20260421T235655
CREATED:20150813T091638Z
LAST-MODIFIED:20150813T091638Z
UID:3605-1465327800-1465333200@stpetersbarge.org
SUMMARY:Growth Group
DESCRIPTION:Growth Groups provide an opportunity to study the Bible\, pray & get to know others in a smaller group.  Groups meet on the Barge or in homes. \nGroups meet from 7:30-9pm. Barge groups meet from 6:45pm for dinner.
URL:https://stpetersbarge.org/bargeevent/growth-group-55/
CATEGORIES:Growth Groups
END:VEVENT
BEGIN:VEVENT
DTSTART;TZID=Europe/London:20160601T193000
DTEND;TZID=Europe/London:20160601T210000
DTSTAMP:20260421T235655
CREATED:20150812T160557Z
LAST-MODIFIED:20150812T160557Z
UID:3604-1464809400-1464814800@stpetersbarge.org
SUMMARY:Growth Group
DESCRIPTION:Growth Groups provide an opportunity to study the Bible\, pray & get to know others in a smaller group.  Groups meet on the Barge or in homes. \nGroups meet from 7:30-9pm. Barge groups meet from 6:45pm for dinner.
URL:https://stpetersbarge.org/bargeevent/growth-group-54/
CATEGORIES:Growth Groups
END:VEVENT
BEGIN:VEVENT
DTSTART;TZID=Europe/London:20160531T193000
DTEND;TZID=Europe/London:20160531T210000
DTSTAMP:20260421T235655
CREATED:20150812T160549Z
LAST-MODIFIED:20150812T160549Z
UID:3603-1464723000-1464728400@stpetersbarge.org
SUMMARY:Growth Group
DESCRIPTION:Growth Groups provide an opportunity to study the Bible\, pray & get to know others in a smaller group.  Groups meet on the Barge or in homes. \nGroups meet from 7:30-9pm. Barge groups meet from 6:45pm for dinner.
URL:https://stpetersbarge.org/bargeevent/growth-group-53/
CATEGORIES:Growth Groups
END:VEVENT
BEGIN:VEVENT
DTSTART;TZID=Europe/London:20160525T193000
DTEND;TZID=Europe/London:20160525T210000
DTSTAMP:20260421T235655
CREATED:20150812T160541Z
LAST-MODIFIED:20150812T160541Z
UID:3602-1464204600-1464210000@stpetersbarge.org
SUMMARY:Growth Group
DESCRIPTION:Growth Groups provide an opportunity to study the Bible\, pray & get to know others in a smaller group.  Groups meet on the Barge or in homes. \nGroups meet from 7:30-9pm. Barge groups meet from 6:45pm for dinner.
URL:https://stpetersbarge.org/bargeevent/growth-group-52/
CATEGORIES:Growth Groups
END:VEVENT
BEGIN:VEVENT
DTSTART;TZID=Europe/London:20160524T193000
DTEND;TZID=Europe/London:20160524T210000
DTSTAMP:20260421T235655
CREATED:20150812T160532Z
LAST-MODIFIED:20150812T160532Z
UID:3601-1464118200-1464123600@stpetersbarge.org
SUMMARY:Growth Group
DESCRIPTION:Growth Groups provide an opportunity to study the Bible\, pray & get to know others in a smaller group.  Groups meet on the Barge or in homes. \nGroups meet from 7:30-9pm. Barge groups meet from 6:45pm for dinner.
URL:https://stpetersbarge.org/bargeevent/growth-group-51/
CATEGORIES:Growth Groups
END:VEVENT
BEGIN:VEVENT
DTSTART;TZID=Europe/London:20160511T193000
DTEND;TZID=Europe/London:20160511T210000
DTSTAMP:20260421T235655
CREATED:20150812T160506Z
LAST-MODIFIED:20150812T160506Z
UID:3598-1462995000-1463000400@stpetersbarge.org
SUMMARY:Growth Group
DESCRIPTION:Growth Groups provide an opportunity to study the Bible\, pray & get to know others in a smaller group.  Groups meet on the Barge or in homes. \nGroups meet from 7:30-9pm. Barge groups meet from 6:45pm for dinner.
URL:https://stpetersbarge.org/bargeevent/growth-group-48/
CATEGORIES:Growth Groups
END:VEVENT
BEGIN:VEVENT
DTSTART;TZID=Europe/London:20160510T193000
DTEND;TZID=Europe/London:20160510T210000
DTSTAMP:20260421T235655
CREATED:20150812T160457Z
LAST-MODIFIED:20150812T160457Z
UID:3597-1462908600-1462914000@stpetersbarge.org
SUMMARY:Growth Group
DESCRIPTION:Growth Groups provide an opportunity to study the Bible\, pray & get to know others in a smaller group.  Groups meet on the Barge or in homes. \nGroups meet from 7:30-9pm. Barge groups meet from 6:45pm for dinner.
URL:https://stpetersbarge.org/bargeevent/growth-group-47/
CATEGORIES:Growth Groups
END:VEVENT
BEGIN:VEVENT
DTSTART;TZID=Europe/London:20160504T193000
DTEND;TZID=Europe/London:20160504T210000
DTSTAMP:20260421T235655
CREATED:20150812T160447Z
LAST-MODIFIED:20150812T160447Z
UID:3596-1462390200-1462395600@stpetersbarge.org
SUMMARY:Growth Group
DESCRIPTION:Growth Groups provide an opportunity to study the Bible\, pray & get to know others in a smaller group.  Groups meet on the Barge or in homes. \nGroups meet from 7:30-9pm. Barge groups meet from 6:45pm for dinner.
URL:https://stpetersbarge.org/bargeevent/growth-group-46/
CATEGORIES:Growth Groups
END:VEVENT
BEGIN:VEVENT
DTSTART;TZID=Europe/London:20160503T193000
DTEND;TZID=Europe/London:20160503T210000
DTSTAMP:20260421T235655
CREATED:20150812T160440Z
LAST-MODIFIED:20150812T160440Z
UID:3595-1462303800-1462309200@stpetersbarge.org
SUMMARY:Growth Group
DESCRIPTION:Growth Groups provide an opportunity to study the Bible\, pray & get to know others in a smaller group.  Groups meet on the Barge or in homes. \nGroups meet from 7:30-9pm. Barge groups meet from 6:45pm for dinner.
URL:https://stpetersbarge.org/bargeevent/growth-group-45/
CATEGORIES:Growth Groups
END:VEVENT
BEGIN:VEVENT
DTSTART;TZID=Europe/London:20160427T193000
DTEND;TZID=Europe/London:20160427T210000
DTSTAMP:20260421T235655
CREATED:20150812T154517Z
LAST-MODIFIED:20150812T154517Z
UID:3594-1461785400-1461790800@stpetersbarge.org
SUMMARY:Growth Group
DESCRIPTION:Growth Groups provide an opportunity to study the Bible\, pray & get to know others in a smaller group.  Groups meet on the Barge or in homes. \nGroups meet from 7:30-9pm. Barge groups meet from 6:45pm for dinner.
URL:https://stpetersbarge.org/bargeevent/growth-group-44/
CATEGORIES:Growth Groups
END:VEVENT
BEGIN:VEVENT
DTSTART;TZID=Europe/London:20160426T193000
DTEND;TZID=Europe/London:20160426T210000
DTSTAMP:20260421T235655
CREATED:20150812T154509Z
LAST-MODIFIED:20150812T154509Z
UID:3593-1461699000-1461704400@stpetersbarge.org
SUMMARY:Growth Group
DESCRIPTION:Growth Groups provide an opportunity to study the Bible\, pray & get to know others in a smaller group.  Groups meet on the Barge or in homes. \nGroups meet from 7:30-9pm. Barge groups meet from 6:45pm for dinner.
URL:https://stpetersbarge.org/bargeevent/growth-group-43/
CATEGORIES:Growth Groups
END:VEVENT
BEGIN:VEVENT
DTSTART;TZID=Europe/London:20160323T193000
DTEND;TZID=Europe/London:20160323T210000
DTSTAMP:20260421T235655
CREATED:20150812T154457Z
LAST-MODIFIED:20150812T154457Z
UID:3592-1458761400-1458766800@stpetersbarge.org
SUMMARY:Growth Group
DESCRIPTION:Growth Groups provide an opportunity to study the Bible\, pray & get to know others in a smaller group.  Groups meet on the Barge or in homes. \nGroups meet from 7:30-9pm. Barge groups meet from 6:45pm for dinner.
URL:https://stpetersbarge.org/bargeevent/growth-group-42/
CATEGORIES:Growth Groups
END:VEVENT
BEGIN:VEVENT
DTSTART;TZID=Europe/London:20160322T193000
DTEND;TZID=Europe/London:20160322T210000
DTSTAMP:20260421T235655
CREATED:20150812T154449Z
LAST-MODIFIED:20150812T154449Z
UID:3591-1458675000-1458680400@stpetersbarge.org
SUMMARY:Growth Group
DESCRIPTION:Growth Groups provide an opportunity to study the Bible\, pray & get to know others in a smaller group.  Groups meet on the Barge or in homes. \nGroups meet from 7:30-9pm. Barge groups meet from 6:45pm for dinner.
URL:https://stpetersbarge.org/bargeevent/growth-group-41/
CATEGORIES:Growth Groups
END:VEVENT
BEGIN:VEVENT
DTSTART;TZID=Europe/London:20160309T193000
DTEND;TZID=Europe/London:20160309T210000
DTSTAMP:20260421T235655
CREATED:20150812T154406Z
LAST-MODIFIED:20150812T154406Z
UID:3588-1457551800-1457557200@stpetersbarge.org
SUMMARY:Growth Group
DESCRIPTION:Growth Groups provide an opportunity to study the Bible\, pray & get to know others in a smaller group.  Groups meet on the Barge or in homes. \nGroups meet from 7:30-9pm. Barge groups meet from 6:45pm for dinner.
URL:https://stpetersbarge.org/bargeevent/growth-group-38/
CATEGORIES:Growth Groups
END:VEVENT
BEGIN:VEVENT
DTSTART;TZID=Europe/London:20160308T193000
DTEND;TZID=Europe/London:20160308T210000
DTSTAMP:20260421T235655
CREATED:20150812T154356Z
LAST-MODIFIED:20150812T154356Z
UID:3587-1457465400-1457470800@stpetersbarge.org
SUMMARY:Growth Group
DESCRIPTION:Growth Groups provide an opportunity to study the Bible\, pray & get to know others in a smaller group.  Groups meet on the Barge or in homes. \nGroups meet from 7:30-9pm. Barge groups meet from 6:45pm for dinner.
URL:https://stpetersbarge.org/bargeevent/growth-group-37/
CATEGORIES:Growth Groups
END:VEVENT
BEGIN:VEVENT
DTSTART;TZID=Europe/London:20160224T193000
DTEND;TZID=Europe/London:20160224T210000
DTSTAMP:20260421T235655
CREATED:20150812T154345Z
LAST-MODIFIED:20150812T154345Z
UID:3586-1456342200-1456347600@stpetersbarge.org
SUMMARY:Growth Group
DESCRIPTION:Growth Groups provide an opportunity to study the Bible\, pray & get to know others in a smaller group.  Groups meet on the Barge or in homes. \nGroups meet from 7:30-9pm. Barge groups meet from 6:45pm for dinner.
URL:https://stpetersbarge.org/bargeevent/growth-group-36/
CATEGORIES:Growth Groups
END:VEVENT
BEGIN:VEVENT
DTSTART;TZID=Europe/London:20160223T193000
DTEND;TZID=Europe/London:20160223T210000
DTSTAMP:20260421T235655
CREATED:20150812T154332Z
LAST-MODIFIED:20150812T154332Z
UID:3585-1456255800-1456261200@stpetersbarge.org
SUMMARY:Growth Group
DESCRIPTION:Growth Groups provide an opportunity to study the Bible\, pray & get to know others in a smaller group.  Groups meet on the Barge or in homes. \nGroups meet from 7:30-9pm. Barge groups meet from 6:45pm for dinner.
URL:https://stpetersbarge.org/bargeevent/growth-group-35/
CATEGORIES:Growth Groups
END:VEVENT
BEGIN:VEVENT
DTSTART;TZID=Europe/London:20160217T193000
DTEND;TZID=Europe/London:20160217T210000
DTSTAMP:20260421T235655
CREATED:20150812T153840Z
LAST-MODIFIED:20150812T153840Z
UID:3584-1455737400-1455742800@stpetersbarge.org
SUMMARY:Growth Group
DESCRIPTION:Growth Groups provide an opportunity to study the Bible\, pray & get to know others in a smaller group.  Groups meet on the Barge or in homes. \nGroups meet from 7:30-9pm. Barge groups meet from 6:45pm for dinner.
URL:https://stpetersbarge.org/bargeevent/growth-group-34/
CATEGORIES:Growth Groups
END:VEVENT
BEGIN:VEVENT
DTSTART;TZID=Europe/London:20160216T193000
DTEND;TZID=Europe/London:20160216T210000
DTSTAMP:20260421T235655
CREATED:20150812T153828Z
LAST-MODIFIED:20150812T153828Z
UID:3583-1455651000-1455656400@stpetersbarge.org
SUMMARY:Growth Group
DESCRIPTION:Growth Groups provide an opportunity to study the Bible\, pray & get to know others in a smaller group.  Groups meet on the Barge or in homes. \nGroups meet from 7:30-9pm. Barge groups meet from 6:45pm for dinner.
URL:https://stpetersbarge.org/bargeevent/growth-group-33/
CATEGORIES:Growth Groups
END:VEVENT
BEGIN:VEVENT
DTSTART;TZID=Europe/London:20160210T193000
DTEND;TZID=Europe/London:20160210T210000
DTSTAMP:20260421T235655
CREATED:20150812T153815Z
LAST-MODIFIED:20150812T153815Z
UID:3582-1455132600-1455138000@stpetersbarge.org
SUMMARY:Growth Group
DESCRIPTION:Growth Groups provide an opportunity to study the Bible\, pray & get to know others in a smaller group.  Groups meet on the Barge or in homes. \nGroups meet from 7:30-9pm. Barge groups meet from 6:45pm for dinner.
URL:https://stpetersbarge.org/bargeevent/growth-group-32/
CATEGORIES:Growth Groups
END:VEVENT
BEGIN:VEVENT
DTSTART;TZID=Europe/London:20160209T193000
DTEND;TZID=Europe/London:20160209T210000
DTSTAMP:20260421T235655
CREATED:20150812T153807Z
LAST-MODIFIED:20150812T153807Z
UID:3581-1455046200-1455051600@stpetersbarge.org
SUMMARY:Growth Group
DESCRIPTION:Growth Groups provide an opportunity to study the Bible\, pray & get to know others in a smaller group.  Groups meet on the Barge or in homes. \nGroups meet from 7:30-9pm. Barge groups meet from 6:45pm for dinner.
URL:https://stpetersbarge.org/bargeevent/growth-group-31/
CATEGORIES:Growth Groups
END:VEVENT
BEGIN:VEVENT
DTSTART;TZID=Europe/London:20160127T193000
DTEND;TZID=Europe/London:20160127T210000
DTSTAMP:20260421T235655
CREATED:20150812T153740Z
LAST-MODIFIED:20150812T153740Z
UID:3580-1453923000-1453928400@stpetersbarge.org
SUMMARY:Growth Group
DESCRIPTION:Growth Groups provide an opportunity to study the Bible\, pray & get to know others in a smaller group.  Groups meet on the Barge or in homes. \nGroups meet from 7:30-9pm. Barge groups meet from 6:45pm for dinner.
URL:https://stpetersbarge.org/bargeevent/growth-group-30/
CATEGORIES:Growth Groups
END:VEVENT
BEGIN:VEVENT
DTSTART;TZID=Europe/London:20160126T193000
DTEND;TZID=Europe/London:20160126T210000
DTSTAMP:20260421T235655
CREATED:20150812T153731Z
LAST-MODIFIED:20150812T153731Z
UID:3579-1453836600-1453842000@stpetersbarge.org
SUMMARY:Growth Group
DESCRIPTION:Growth Groups provide an opportunity to study the Bible\, pray & get to know others in a smaller group.  Groups meet on the Barge or in homes. \nGroups meet from 7:30-9pm. Barge groups meet from 6:45pm for dinner.
URL:https://stpetersbarge.org/bargeevent/growth-group-29/
CATEGORIES:Growth Groups
END:VEVENT
BEGIN:VEVENT
DTSTART;TZID=Europe/London:20160120T193000
DTEND;TZID=Europe/London:20160120T210000
DTSTAMP:20260421T235655
CREATED:20150812T153722Z
LAST-MODIFIED:20150812T153722Z
UID:3578-1453318200-1453323600@stpetersbarge.org
SUMMARY:Growth Group
DESCRIPTION:Growth Groups provide an opportunity to study the Bible\, pray & get to know others in a smaller group.  Groups meet on the Barge or in homes. \nGroups meet from 7:30-9pm. Barge groups meet from 6:45pm for dinner.
URL:https://stpetersbarge.org/bargeevent/growth-group-28/
CATEGORIES:Growth Groups
END:VEVENT
BEGIN:VEVENT
DTSTART;TZID=Europe/London:20160119T193000
DTEND;TZID=Europe/London:20160119T210000
DTSTAMP:20260421T235655
CREATED:20150812T153713Z
LAST-MODIFIED:20150812T153713Z
UID:3577-1453231800-1453237200@stpetersbarge.org
SUMMARY:Growth Group
DESCRIPTION:Growth Groups provide an opportunity to study the Bible\, pray & get to know others in a smaller group.  Groups meet on the Barge or in homes. \nGroups meet from 7:30-9pm. Barge groups meet from 6:45pm for dinner.
URL:https://stpetersbarge.org/bargeevent/growth-group-27/
CATEGORIES:Growth Groups
END:VEVENT
BEGIN:VEVENT
DTSTART;TZID=Europe/London:20160113T183000
DTEND;TZID=Europe/London:20160113T210000
DTSTAMP:20260421T235655
CREATED:20150812T153703Z
LAST-MODIFIED:20150812T153703Z
UID:3576-1452709800-1452718800@stpetersbarge.org
SUMMARY:Growth Group
DESCRIPTION:Growth Groups provide an opportunity to study the Bible\, pray & get to know others in a smaller group.  Groups meet on the Barge or in homes. \nGroups meet from 7:30-9pm. Barge groups meet from 6:45pm for dinner.
URL:https://stpetersbarge.org/bargeevent/growth-group-26/
CATEGORIES:Growth Groups
END:VEVENT
BEGIN:VEVENT
DTSTART;TZID=Europe/London:20160112T193000
DTEND;TZID=Europe/London:20160112T210000
DTSTAMP:20260421T235655
CREATED:20150812T153654Z
LAST-MODIFIED:20150812T153654Z
UID:3575-1452627000-1452632400@stpetersbarge.org
SUMMARY:Growth Group
DESCRIPTION:Growth Groups provide an opportunity to study the Bible\, pray & get to know others in a smaller group.  Groups meet on the Barge or in homes. \nGroups meet from 7:30-9pm. Barge groups meet from 6:45pm for dinner.
URL:https://stpetersbarge.org/bargeevent/growth-group-25/
CATEGORIES:Growth Groups
END:VEVENT
BEGIN:VEVENT
DTSTART;TZID=Europe/London:20151209T193000
DTEND;TZID=Europe/London:20151209T210000
DTSTAMP:20260421T235655
CREATED:20150812T152634Z
LAST-MODIFIED:20151109T154932Z
UID:3574-1449689400-1449694800@stpetersbarge.org
SUMMARY:Growth Group - Last meeting of the term
DESCRIPTION:Growth Groups provide an opportunity to study the Bible\, pray & get to know others in a smaller group.  Groups meet on the Barge or in homes. \nGroups meet from 7:30-9pm. Barge groups meet from 6:45pm for dinner.
URL:https://stpetersbarge.org/bargeevent/growth-group-24/
CATEGORIES:Growth Groups
END:VEVENT
BEGIN:VEVENT
DTSTART;TZID=Europe/London:20151208T193000
DTEND;TZID=Europe/London:20151208T210000
DTSTAMP:20260421T235655
CREATED:20150812T152626Z
LAST-MODIFIED:20151109T154941Z
UID:3573-1449603000-1449608400@stpetersbarge.org
SUMMARY:Growth Group - last meeting of the term
DESCRIPTION:Growth Groups provide an opportunity to study the Bible\, pray & get to know others in a smaller group.  Groups meet on the Barge or in homes. \nGroups meet from 7:30-9pm. Barge groups meet from 6:45pm for dinner.
URL:https://stpetersbarge.org/bargeevent/growth-group-23/
CATEGORIES:Growth Groups
END:VEVENT
BEGIN:VEVENT
DTSTART;TZID=Europe/London:20151202T193000
DTEND;TZID=Europe/London:20151202T210000
DTSTAMP:20260421T235655
CREATED:20150812T152617Z
LAST-MODIFIED:20150812T152617Z
UID:3572-1449084600-1449090000@stpetersbarge.org
SUMMARY:Growth Group
DESCRIPTION:Growth Groups provide an opportunity to study the Bible\, pray & get to know others in a smaller group.  Groups meet on the Barge or in homes. \nGroups meet from 7:30-9pm. Barge groups meet from 6:45pm for dinner.
URL:https://stpetersbarge.org/bargeevent/growth-group-22/
CATEGORIES:Growth Groups
END:VEVENT
END:VCALENDAR