BEGIN:VCALENDAR
VERSION:2.0
PRODID:-//St Peter&#039;s Barge - ECPv6.15.20//NONSGML v1.0//EN
CALSCALE:GREGORIAN
METHOD:PUBLISH
X-ORIGINAL-URL:https://stpetersbarge.org
X-WR-CALDESC:Events for St Peter&#039;s Barge
REFRESH-INTERVAL;VALUE=DURATION:PT1H
X-Robots-Tag:noindex
X-PUBLISHED-TTL:PT1H
BEGIN:VTIMEZONE
TZID:Europe/London
BEGIN:DAYLIGHT
TZOFFSETFROM:+0000
TZOFFSETTO:+0100
TZNAME:BST
DTSTART:20140330T010000
END:DAYLIGHT
BEGIN:STANDARD
TZOFFSETFROM:+0100
TZOFFSETTO:+0000
TZNAME:GMT
DTSTART:20141026T010000
END:STANDARD
BEGIN:DAYLIGHT
TZOFFSETFROM:+0000
TZOFFSETTO:+0100
TZNAME:BST
DTSTART:20150329T010000
END:DAYLIGHT
BEGIN:STANDARD
TZOFFSETFROM:+0100
TZOFFSETTO:+0000
TZNAME:GMT
DTSTART:20151025T010000
END:STANDARD
BEGIN:DAYLIGHT
TZOFFSETFROM:+0000
TZOFFSETTO:+0100
TZNAME:BST
DTSTART:20160327T010000
END:DAYLIGHT
BEGIN:STANDARD
TZOFFSETFROM:+0100
TZOFFSETTO:+0000
TZNAME:GMT
DTSTART:20161030T010000
END:STANDARD
END:VTIMEZONE
BEGIN:VEVENT
DTSTART;TZID=Europe/London:20151013T193000
DTEND;TZID=Europe/London:20151013T210000
DTSTAMP:20260422T060014
CREATED:20150812T151907Z
LAST-MODIFIED:20150812T151907Z
UID:3561-1444764600-1444770000@stpetersbarge.org
SUMMARY:Growth Group
DESCRIPTION:Growth Groups provide an opportunity to study the Bible\, pray & get to know others in a smaller group.  Groups meet on the Barge or in homes. \nGroups meet from 7:30-9pm. Barge groups meet from 6:45pm for dinner.
URL:https://stpetersbarge.org/bargeevent/growth-group-11/
CATEGORIES:Growth Groups
END:VEVENT
BEGIN:VEVENT
DTSTART;TZID=Europe/London:20151007T193000
DTEND;TZID=Europe/London:20151007T210000
DTSTAMP:20260422T060014
CREATED:20150812T151857Z
LAST-MODIFIED:20150812T151857Z
UID:3560-1444246200-1444251600@stpetersbarge.org
SUMMARY:Growth Group
DESCRIPTION:Growth Groups provide an opportunity to study the Bible\, pray & get to know others in a smaller group.  Groups meet on the Barge or in homes. \nGroups meet from 7:30-9pm. Barge groups meet from 6:45pm for dinner.
URL:https://stpetersbarge.org/bargeevent/growth-group-10/
CATEGORIES:Growth Groups
END:VEVENT
BEGIN:VEVENT
DTSTART;TZID=Europe/London:20151006T193000
DTEND;TZID=Europe/London:20151006T210000
DTSTAMP:20260422T060014
CREATED:20150812T151849Z
LAST-MODIFIED:20150812T151849Z
UID:3559-1444159800-1444165200@stpetersbarge.org
SUMMARY:Growth Group
DESCRIPTION:Growth Groups provide an opportunity to study the Bible\, pray & get to know others in a smaller group.  Groups meet on the Barge or in homes. \nGroups meet from 7:30-9pm. Barge groups meet from 6:45pm for dinner.
URL:https://stpetersbarge.org/bargeevent/growth-group-9/
CATEGORIES:Growth Groups
END:VEVENT
BEGIN:VEVENT
DTSTART;TZID=Europe/London:20150930T193000
DTEND;TZID=Europe/London:20150930T210000
DTSTAMP:20260422T060014
CREATED:20150812T151838Z
LAST-MODIFIED:20150812T151838Z
UID:3558-1443641400-1443646800@stpetersbarge.org
SUMMARY:Growth Group
DESCRIPTION:Growth Groups provide an opportunity to study the Bible\, pray & get to know others in a smaller group.  Groups meet on the Barge or in homes. \nGroups meet from 7:30-9pm. Barge groups meet from 6:45pm for dinner.
URL:https://stpetersbarge.org/bargeevent/growth-group-8/
CATEGORIES:Growth Groups
END:VEVENT
BEGIN:VEVENT
DTSTART;TZID=Europe/London:20150929T193000
DTEND;TZID=Europe/London:20150929T210000
DTSTAMP:20260422T060014
CREATED:20150812T151831Z
LAST-MODIFIED:20150812T151831Z
UID:3557-1443555000-1443560400@stpetersbarge.org
SUMMARY:Growth Group
DESCRIPTION:Growth Groups provide an opportunity to study the Bible\, pray & get to know others in a smaller group.  Groups meet on the Barge or in homes. \nGroups meet from 7:30-9pm. Barge groups meet from 6:45pm for dinner.
URL:https://stpetersbarge.org/bargeevent/growth-group-7/
CATEGORIES:Growth Groups
END:VEVENT
BEGIN:VEVENT
DTSTART;TZID=Europe/London:20150708T192500
DTEND;TZID=Europe/London:20150708T210000
DTSTAMP:20260422T060014
CREATED:20150630T154642Z
LAST-MODIFIED:20150713T150446Z
UID:3257-1436383500-1436389200@stpetersbarge.org
SUMMARY:Growth Group
DESCRIPTION:Growth Groups provide an opportunity to study the Bible\, pray & get to know others in a smaller group.  Groups meet on the Barge or in homes. \nGroups meet from 7:30-9pm. Barge groups meet from 6:45pm for dinner.
URL:https://stpetersbarge.org/bargeevent/growth-group-6/
LOCATION:St Peter’s Barge\, St Peter's Barge\, London\, E14 4AL
CATEGORIES:Growth Groups
END:VEVENT
BEGIN:VEVENT
DTSTART;TZID=Europe/London:20150707T193000
DTEND;TZID=Europe/London:20150707T210000
DTSTAMP:20260422T060014
CREATED:20150630T154614Z
LAST-MODIFIED:20150713T150445Z
UID:3256-1436297400-1436302800@stpetersbarge.org
SUMMARY:Growth Group
DESCRIPTION:Growth Groups provide an opportunity to study the Bible\, pray & get to know others in a smaller group.  Groups meet on the Barge or in homes. \nGroups meet from 7:30-9pm. Barge groups meet from 6:45pm for dinner.
URL:https://stpetersbarge.org/bargeevent/growth-group-5/
LOCATION:St Peter’s Barge\, St Peter's Barge\, London\, E14 4AL
CATEGORIES:Growth Groups
END:VEVENT
BEGIN:VEVENT
DTSTART;TZID=Europe/London:20150701T193000
DTEND;TZID=Europe/London:20150701T210000
DTSTAMP:20260422T060014
CREATED:20150630T154526Z
LAST-MODIFIED:20150713T150443Z
UID:3255-1435779000-1435784400@stpetersbarge.org
SUMMARY:Growth Group
DESCRIPTION:Growth Groups provide an opportunity to study the Bible\, pray & get to know others in a smaller group.  Groups meet on the Barge or in homes. \nGroups meet from 7:30-9pm. Barge groups meet from 6:45pm for dinner.
URL:https://stpetersbarge.org/bargeevent/growth-group-4/
LOCATION:St Peter’s Barge\, St Peter's Barge\, London\, E14 4AL
CATEGORIES:Growth Groups
END:VEVENT
BEGIN:VEVENT
DTSTART;TZID=Europe/London:20150630T193000
DTEND;TZID=Europe/London:20150630T210000
DTSTAMP:20260422T060014
CREATED:20150630T154500Z
LAST-MODIFIED:20150630T154500Z
UID:3254-1435692600-1435698000@stpetersbarge.org
SUMMARY:Growth Group
DESCRIPTION:Growth Groups provide an opportunity to study the Bible\, pray & get to know others in a smaller group.  Groups meet on the Barge or in homes. \nGroups meet from 7:30-9pm. Barge groups meet from 6:45pm for dinner.
URL:https://stpetersbarge.org/bargeevent/growth-group-3/
LOCATION:St Peter’s Barge\, St Peter's Barge\, London\, E14 4AL
CATEGORIES:Growth Groups
END:VEVENT
BEGIN:VEVENT
DTSTART;TZID=Europe/London:20150624T193000
DTEND;TZID=Europe/London:20150624T210000
DTSTAMP:20260422T060014
CREATED:20150623T160300Z
LAST-MODIFIED:20150623T160300Z
UID:3230-1435174200-1435179600@stpetersbarge.org
SUMMARY:Growth Group
DESCRIPTION:Growth Groups provide an opportunity to study the Bible\, pray & get to know others in a smaller group.  Groups meet on the Barge or in homes. \nGroups meet from 7:30-9pm. Barge groups meet from 6:45pm for dinner.
URL:https://stpetersbarge.org/bargeevent/growth-group-2/
LOCATION:St Peter’s Barge\, St Peter's Barge\, London\, E14 4AL
CATEGORIES:Growth Groups
END:VEVENT
BEGIN:VEVENT
DTSTART;TZID=Europe/London:20150623T193000
DTEND;TZID=Europe/London:20150623T210000
DTSTAMP:20260422T060014
CREATED:20150623T160209Z
LAST-MODIFIED:20150623T160209Z
UID:3229-1435087800-1435093200@stpetersbarge.org
SUMMARY:Growth Group
DESCRIPTION:Growth Groups provide an opportunity to study the Bible\, pray & get to know others in a smaller group.  Groups meet on the Barge or in homes. \nGroups meet from 7:30-9pm. Barge groups meet from 6:45pm for dinner.
URL:https://stpetersbarge.org/bargeevent/growth-group/
LOCATION:St Peter’s Barge\, St Peter's Barge\, London\, E14 4AL
CATEGORIES:Growth Groups
END:VEVENT
END:VCALENDAR