BEGIN:VCALENDAR
VERSION:2.0
PRODID:-//St Peter&#039;s Barge - ECPv6.15.20//NONSGML v1.0//EN
CALSCALE:GREGORIAN
METHOD:PUBLISH
X-WR-CALNAME:St Peter&#039;s Barge
X-ORIGINAL-URL:https://stpetersbarge.org
X-WR-CALDESC:Events for St Peter&#039;s Barge
REFRESH-INTERVAL;VALUE=DURATION:PT1H
X-Robots-Tag:noindex
X-PUBLISHED-TTL:PT1H
BEGIN:VTIMEZONE
TZID:Europe/London
BEGIN:DAYLIGHT
TZOFFSETFROM:+0000
TZOFFSETTO:+0100
TZNAME:BST
DTSTART:20190331T010000
END:DAYLIGHT
BEGIN:STANDARD
TZOFFSETFROM:+0100
TZOFFSETTO:+0000
TZNAME:GMT
DTSTART:20191027T010000
END:STANDARD
BEGIN:DAYLIGHT
TZOFFSETFROM:+0000
TZOFFSETTO:+0100
TZNAME:BST
DTSTART:20200329T010000
END:DAYLIGHT
BEGIN:STANDARD
TZOFFSETFROM:+0100
TZOFFSETTO:+0000
TZNAME:GMT
DTSTART:20201025T010000
END:STANDARD
BEGIN:DAYLIGHT
TZOFFSETFROM:+0000
TZOFFSETTO:+0100
TZNAME:BST
DTSTART:20210328T010000
END:DAYLIGHT
BEGIN:STANDARD
TZOFFSETFROM:+0100
TZOFFSETTO:+0000
TZNAME:GMT
DTSTART:20211031T010000
END:STANDARD
BEGIN:DAYLIGHT
TZOFFSETFROM:+0000
TZOFFSETTO:+0100
TZNAME:BST
DTSTART:20220327T010000
END:DAYLIGHT
BEGIN:STANDARD
TZOFFSETFROM:+0100
TZOFFSETTO:+0000
TZNAME:GMT
DTSTART:20221030T010000
END:STANDARD
END:VTIMEZONE
BEGIN:VEVENT
DTSTART;TZID=Europe/London:20210127T193000
DTEND;TZID=Europe/London:20210127T210000
DTSTAMP:20260421T062912
CREATED:20201222T161356Z
LAST-MODIFIED:20201222T161356Z
UID:13427-1611775800-1611781200@stpetersbarge.org
SUMMARY:Growth Groups - virtual meeting online
DESCRIPTION:Growth Groups provide an opportunity to study the Bible\, pray & get to know others in a smaller group. \nMost groups meet every Wednesday evening. Other options are Wednesday/Thursday mornings and Sunday afternoons. For more information\, please email the Barge office info@stpetersbarge.org.
URL:https://stpetersbarge.org/bargeevent/growth-groups-virtual-meeting-online-17/
CATEGORIES:Growth Groups
END:VEVENT
BEGIN:VEVENT
DTSTART;TZID=Europe/London:20210120T193000
DTEND;TZID=Europe/London:20210120T210000
DTSTAMP:20260421T062912
CREATED:20201222T161338Z
LAST-MODIFIED:20201222T161338Z
UID:13426-1611171000-1611176400@stpetersbarge.org
SUMMARY:Growth Groups - virtual meeting online
DESCRIPTION:Growth Groups provide an opportunity to study the Bible\, pray & get to know others in a smaller group. \nMost groups meet every Wednesday evening. Other options are Wednesday/Thursday mornings and Sunday afternoons. For more information\, please email the Barge office info@stpetersbarge.org.
URL:https://stpetersbarge.org/bargeevent/growth-groups-virtual-meeting-online-16/
CATEGORIES:Growth Groups
END:VEVENT
BEGIN:VEVENT
DTSTART;TZID=Europe/London:20210113T193000
DTEND;TZID=Europe/London:20210113T210000
DTSTAMP:20260421T062912
CREATED:20201222T160044Z
LAST-MODIFIED:20201222T160044Z
UID:13420-1610566200-1610571600@stpetersbarge.org
SUMMARY:Growth Groups - virtual meeting online
DESCRIPTION:Growth Groups provide an opportunity to study the Bible\, pray & get to know others in a smaller group. \nMost groups meet every Wednesday evening. Other options are Wednesday/Thursday mornings and Sunday afternoons. For more information\, please email the Barge office info@stpetersbarge.org.
URL:https://stpetersbarge.org/bargeevent/growth-groups-virtual-meeting-online-15/
CATEGORIES:Growth Groups
END:VEVENT
BEGIN:VEVENT
DTSTART;TZID=Europe/London:20201216T193000
DTEND;TZID=Europe/London:20201216T210000
DTSTAMP:20260421T062912
CREATED:20201012T145344Z
LAST-MODIFIED:20201012T145344Z
UID:12801-1608147000-1608152400@stpetersbarge.org
SUMMARY:Growth Groups - virtual meeting online
DESCRIPTION:Growth Groups provide an opportunity to study the Bible\, pray & get to know others in a smaller group. \nMost groups meet every Wednesday evening. Other options are Wednesday/Thursday mornings and Sunday afternoons. For more information\, please email the Barge office info@stpetersbarge.org.
URL:https://stpetersbarge.org/bargeevent/growth-groups-virtual-meeting-online-14/
CATEGORIES:Growth Groups
END:VEVENT
BEGIN:VEVENT
DTSTART;TZID=Europe/London:20201209T193000
DTEND;TZID=Europe/London:20201209T210000
DTSTAMP:20260421T062912
CREATED:20201012T145323Z
LAST-MODIFIED:20201012T145323Z
UID:12800-1607542200-1607547600@stpetersbarge.org
SUMMARY:Growth Groups - virtual meeting online
DESCRIPTION:Growth Groups provide an opportunity to study the Bible\, pray & get to know others in a smaller group. \nMost groups meet every Wednesday evening. Other options are Wednesday/Thursday mornings and Sunday afternoons. For more information\, please email the Barge office info@stpetersbarge.org.
URL:https://stpetersbarge.org/bargeevent/growth-groups-virtual-meeting-online-13/
CATEGORIES:Growth Groups
END:VEVENT
BEGIN:VEVENT
DTSTART;TZID=Europe/London:20201202T193000
DTEND;TZID=Europe/London:20201202T210000
DTSTAMP:20260421T062912
CREATED:20200730T152523Z
LAST-MODIFIED:20200730T152523Z
UID:12278-1606937400-1606942800@stpetersbarge.org
SUMMARY:Growth Groups - virtual meeting online
DESCRIPTION:Growth Groups provide an opportunity to study the Bible\, pray & get to know others in a smaller group. \nMost groups meet every Wednesday evening. Other options are Wednesday/Thursday mornings and Sunday afternoons. For more information\, please email the Barge office info@stpetersbarge.org.
URL:https://stpetersbarge.org/bargeevent/growth-groups-virtual-meeting-online-12/
CATEGORIES:Growth Groups
END:VEVENT
BEGIN:VEVENT
DTSTART;TZID=Europe/London:20201125T193000
DTEND;TZID=Europe/London:20201125T210000
DTSTAMP:20260421T062912
CREATED:20200730T152501Z
LAST-MODIFIED:20200730T152501Z
UID:12277-1606332600-1606338000@stpetersbarge.org
SUMMARY:Growth Groups - virtual meeting online
DESCRIPTION:Growth Groups provide an opportunity to study the Bible\, pray & get to know others in a smaller group. \nMost groups meet every Wednesday evening. Other options are Wednesday/Thursday mornings and Sunday afternoons. For more information\, please email the Barge office info@stpetersbarge.org.
URL:https://stpetersbarge.org/bargeevent/growth-groups-virtual-meeting-online-11/
CATEGORIES:Growth Groups
END:VEVENT
BEGIN:VEVENT
DTSTART;TZID=Europe/London:20201118T193000
DTEND;TZID=Europe/London:20201118T210000
DTSTAMP:20260421T062912
CREATED:20200730T152445Z
LAST-MODIFIED:20200730T152445Z
UID:12276-1605727800-1605733200@stpetersbarge.org
SUMMARY:Growth Groups - virtual meeting online
DESCRIPTION:Growth Groups provide an opportunity to study the Bible\, pray & get to know others in a smaller group. \nMost groups meet every Wednesday evening. Other options are Wednesday/Thursday mornings and Sunday afternoons. For more information\, please email the Barge office info@stpetersbarge.org.
URL:https://stpetersbarge.org/bargeevent/growth-groups-virtual-meeting-online-10/
CATEGORIES:Growth Groups
END:VEVENT
BEGIN:VEVENT
DTSTART;TZID=Europe/London:20201111T193000
DTEND;TZID=Europe/London:20201111T210000
DTSTAMP:20260421T062912
CREATED:20200730T152425Z
LAST-MODIFIED:20200730T152425Z
UID:12275-1605123000-1605128400@stpetersbarge.org
SUMMARY:Growth Groups - virtual meeting online
DESCRIPTION:Growth Groups provide an opportunity to study the Bible\, pray & get to know others in a smaller group. \nMost groups meet every Wednesday evening. Other options are Wednesday/Thursday mornings and Sunday afternoons. For more information\, please email the Barge office info@stpetersbarge.org.
URL:https://stpetersbarge.org/bargeevent/growth-groups-virtual-meeting-online-9/
CATEGORIES:Growth Groups
END:VEVENT
BEGIN:VEVENT
DTSTART;TZID=Europe/London:20201104T193000
DTEND;TZID=Europe/London:20201104T210000
DTSTAMP:20260421T062912
CREATED:20200730T152407Z
LAST-MODIFIED:20200730T152407Z
UID:12274-1604518200-1604523600@stpetersbarge.org
SUMMARY:Growth Groups - virtual meeting online
DESCRIPTION:Growth Groups provide an opportunity to study the Bible\, pray & get to know others in a smaller group. \nMost groups meet every Wednesday evening. Other options are Wednesday/Thursday mornings and Sunday afternoons. For more information\, please email the Barge office info@stpetersbarge.org.
URL:https://stpetersbarge.org/bargeevent/growth-groups-virtual-meeting-online-8/
CATEGORIES:Growth Groups
END:VEVENT
BEGIN:VEVENT
DTSTART;TZID=Europe/London:20201028T193000
DTEND;TZID=Europe/London:20201028T210000
DTSTAMP:20260421T062912
CREATED:20200730T152321Z
LAST-MODIFIED:20200730T152321Z
UID:12273-1603913400-1603918800@stpetersbarge.org
SUMMARY:Growth Groups - virtual meeting online
DESCRIPTION:Growth Groups provide an opportunity to study the Bible\, pray & get to know others in a smaller group. \nMost groups meet every Wednesday evening. Other options are Wednesday/Thursday mornings and Sunday afternoons. For more information\, please email the Barge office info@stpetersbarge.org.
URL:https://stpetersbarge.org/bargeevent/growth-groups-virtual-meeting-online-7/
CATEGORIES:Growth Groups
END:VEVENT
BEGIN:VEVENT
DTSTART;TZID=Europe/London:20201021T193000
DTEND;TZID=Europe/London:20201021T210000
DTSTAMP:20260421T062912
CREATED:20200730T152300Z
LAST-MODIFIED:20200730T152300Z
UID:12272-1603308600-1603314000@stpetersbarge.org
SUMMARY:Growth Groups - virtual meeting online
DESCRIPTION:Growth Groups provide an opportunity to study the Bible\, pray & get to know others in a smaller group. \nMost groups meet every Wednesday evening. Other options are Wednesday/Thursday mornings and Sunday afternoons. For more information\, please email the Barge office info@stpetersbarge.org.
URL:https://stpetersbarge.org/bargeevent/growth-groups-virtual-meeting-online-6/
CATEGORIES:Growth Groups
END:VEVENT
BEGIN:VEVENT
DTSTART;TZID=Europe/London:20201014T193000
DTEND;TZID=Europe/London:20201014T210000
DTSTAMP:20260421T062912
CREATED:20200730T152244Z
LAST-MODIFIED:20200730T152244Z
UID:12271-1602703800-1602709200@stpetersbarge.org
SUMMARY:Growth Groups - virtual meeting online
DESCRIPTION:Growth Groups provide an opportunity to study the Bible\, pray & get to know others in a smaller group. \nMost groups meet every Wednesday evening. Other options are Wednesday/Thursday mornings and Sunday afternoons. For more information\, please email the Barge office info@stpetersbarge.org.
URL:https://stpetersbarge.org/bargeevent/growth-groups-virtual-meeting-online-5/
CATEGORIES:Growth Groups
END:VEVENT
BEGIN:VEVENT
DTSTART;TZID=Europe/London:20201007T193000
DTEND;TZID=Europe/London:20201007T210000
DTSTAMP:20260421T062912
CREATED:20200730T152227Z
LAST-MODIFIED:20200730T152227Z
UID:12270-1602099000-1602104400@stpetersbarge.org
SUMMARY:Growth Groups - virtual meeting online
DESCRIPTION:Growth Groups provide an opportunity to study the Bible\, pray & get to know others in a smaller group. \nMost groups meet every Wednesday evening. Other options are Wednesday/Thursday mornings and Sunday afternoons. For more information\, please email the Barge office info@stpetersbarge.org.
URL:https://stpetersbarge.org/bargeevent/growth-groups-virtual-meeting-online-4/
CATEGORIES:Growth Groups
END:VEVENT
BEGIN:VEVENT
DTSTART;TZID=Europe/London:20200930T193000
DTEND;TZID=Europe/London:20200930T210000
DTSTAMP:20260421T062912
CREATED:20200730T152208Z
LAST-MODIFIED:20200730T152208Z
UID:12269-1601494200-1601499600@stpetersbarge.org
SUMMARY:Growth Groups - virtual meeting online
DESCRIPTION:Growth Groups provide an opportunity to study the Bible\, pray & get to know others in a smaller group. \nMost groups meet every Wednesday evening. Other options are Wednesday/Thursday mornings and Sunday afternoons. For more information\, please email the Barge office info@stpetersbarge.org.
URL:https://stpetersbarge.org/bargeevent/growth-groups-virtual-meeting-online-3/
CATEGORIES:Growth Groups
END:VEVENT
BEGIN:VEVENT
DTSTART;TZID=Europe/London:20200923T193000
DTEND;TZID=Europe/London:20200923T210000
DTSTAMP:20260421T062912
CREATED:20200730T152119Z
LAST-MODIFIED:20200730T152119Z
UID:12268-1600889400-1600894800@stpetersbarge.org
SUMMARY:Growth Groups - virtual meeting online
DESCRIPTION:Growth Groups provide an opportunity to study the Bible\, pray & get to know others in a smaller group. \nMost groups meet every Wednesday evening. Other options are Wednesday/Thursday mornings and Sunday afternoons. For more information\, please email the Barge office info@stpetersbarge.org.
URL:https://stpetersbarge.org/bargeevent/growth-groups-virtual-meeting-online-2/
CATEGORIES:Growth Groups
END:VEVENT
BEGIN:VEVENT
DTSTART;TZID=Europe/London:20200916T193000
DTEND;TZID=Europe/London:20200916T210000
DTSTAMP:20260421T062912
CREATED:20200730T152100Z
LAST-MODIFIED:20200730T152100Z
UID:12267-1600284600-1600290000@stpetersbarge.org
SUMMARY:Growth Groups - virtual meeting online
DESCRIPTION:Growth Groups provide an opportunity to study the Bible\, pray & get to know others in a smaller group. \nMost groups meet every Wednesday evening. Other options are Wednesday/Thursday mornings and Sunday afternoons. For more information\, please email the Barge office info@stpetersbarge.org.
URL:https://stpetersbarge.org/bargeevent/growth-groups-virtual-meeting-online/
CATEGORIES:Growth Groups
END:VEVENT
BEGIN:VEVENT
DTSTART;TZID=Europe/London:20200401T193000
DTEND;TZID=Europe/London:20200401T210000
DTSTAMP:20260421T062912
CREATED:20191212T165829Z
LAST-MODIFIED:20200730T152535Z
UID:10951-1585769400-1585774800@stpetersbarge.org
SUMMARY:Growth Groups - virtual meeting online
DESCRIPTION:Growth Groups provide an opportunity to study the Bible\, pray & get to know others in a smaller group.
URL:https://stpetersbarge.org/bargeevent/growth-groups-13/
LOCATION:St Peter’s Barge\, St Peter's Barge\, London\, E14 4AL
CATEGORIES:Growth Groups
END:VEVENT
BEGIN:VEVENT
DTSTART;TZID=Europe/London:20200325T193000
DTEND;TZID=Europe/London:20200325T210000
DTSTAMP:20260421T062912
CREATED:20191212T165743Z
LAST-MODIFIED:20200318T154638Z
UID:10950-1585164600-1585170000@stpetersbarge.org
SUMMARY:Growth Groups - virtual meeting online
DESCRIPTION:Growth Groups provide an opportunity to study the Bible\, pray & get to know others in a smaller group.  Groups meet on the Barge. \n 
URL:https://stpetersbarge.org/bargeevent/growth-groups-12/
LOCATION:St Peter’s Barge\, St Peter's Barge\, London\, E14 4AL
CATEGORIES:Growth Groups
END:VEVENT
BEGIN:VEVENT
DTSTART;TZID=Europe/London:20200318T193000
DTEND;TZID=Europe/London:20200318T210000
DTSTAMP:20260421T062912
CREATED:20191212T165716Z
LAST-MODIFIED:20200318T154636Z
UID:10949-1584559800-1584565200@stpetersbarge.org
SUMMARY:Growth Groups - virtual meeting online
DESCRIPTION:Growth Groups provide an opportunity to study the Bible\, pray & get to know others in a smaller group.  Groups meet on the Barge. \n 
URL:https://stpetersbarge.org/bargeevent/growth-groups-11/
LOCATION:St Peter’s Barge\, St Peter's Barge\, London\, E14 4AL
CATEGORIES:Growth Groups
END:VEVENT
BEGIN:VEVENT
DTSTART;TZID=Europe/London:20200311T193000
DTEND;TZID=Europe/London:20200311T210000
DTSTAMP:20260421T062912
CREATED:20191212T165647Z
LAST-MODIFIED:20191212T165647Z
UID:10948-1583955000-1583960400@stpetersbarge.org
SUMMARY:Growth Groups
DESCRIPTION:Growth Groups provide an opportunity to study the Bible\, pray & get to know others in a smaller group.  Groups meet on the Barge. \nGroups meet from 7:30-9pm. Door opens at 7pm for dinner.
URL:https://stpetersbarge.org/bargeevent/growth-groups-10/
LOCATION:St Peter’s Barge\, St Peter's Barge\, London\, E14 4AL
CATEGORIES:Growth Groups
END:VEVENT
BEGIN:VEVENT
DTSTART;TZID=Europe/London:20200304T193000
DTEND;TZID=Europe/London:20200304T210000
DTSTAMP:20260421T062912
CREATED:20191212T165624Z
LAST-MODIFIED:20191212T165624Z
UID:10947-1583350200-1583355600@stpetersbarge.org
SUMMARY:Growth Groups
DESCRIPTION:Growth Groups provide an opportunity to study the Bible\, pray & get to know others in a smaller group.  Groups meet on the Barge. \nGroups meet from 7:30-9pm. Door opens at 7pm for dinner.
URL:https://stpetersbarge.org/bargeevent/growth-groups-9/
LOCATION:St Peter’s Barge\, St Peter's Barge\, London\, E14 4AL
CATEGORIES:Growth Groups
END:VEVENT
BEGIN:VEVENT
DTSTART;TZID=Europe/London:20200226T193000
DTEND;TZID=Europe/London:20200226T210000
DTSTAMP:20260421T062912
CREATED:20191212T165555Z
LAST-MODIFIED:20191212T165555Z
UID:10946-1582745400-1582750800@stpetersbarge.org
SUMMARY:Growth Groups
DESCRIPTION:Growth Groups provide an opportunity to study the Bible\, pray & get to know others in a smaller group.  Groups meet on the Barge. \nGroups meet from 7:30-9pm. Door opens at 7pm for dinner.
URL:https://stpetersbarge.org/bargeevent/growth-groups-8/
LOCATION:St Peter’s Barge\, St Peter's Barge\, London\, E14 4AL
CATEGORIES:Growth Groups
END:VEVENT
BEGIN:VEVENT
DTSTART;TZID=Europe/London:20200219T193000
DTEND;TZID=Europe/London:20200219T210000
DTSTAMP:20260421T062912
CREATED:20191212T165505Z
LAST-MODIFIED:20191212T165505Z
UID:10945-1582140600-1582146000@stpetersbarge.org
SUMMARY:Growth Groups
DESCRIPTION:Growth Groups provide an opportunity to study the Bible\, pray & get to know others in a smaller group.  Groups meet on the Barge. \nGroups meet from 7:30-9pm. Door opens at 7pm for dinner.
URL:https://stpetersbarge.org/bargeevent/growth-groups-7/
LOCATION:St Peter’s Barge\, St Peter's Barge\, London\, E14 4AL
CATEGORIES:Growth Groups
END:VEVENT
BEGIN:VEVENT
DTSTART;TZID=Europe/London:20200212T193000
DTEND;TZID=Europe/London:20200212T210000
DTSTAMP:20260421T062912
CREATED:20191212T165423Z
LAST-MODIFIED:20191212T165423Z
UID:10944-1581535800-1581541200@stpetersbarge.org
SUMMARY:Growth Groups
DESCRIPTION:Growth Groups provide an opportunity to study the Bible\, pray & get to know others in a smaller group.  Groups meet on the Barge. \nGroups meet from 7:30-9pm. Door opens at 7pm for dinner.
URL:https://stpetersbarge.org/bargeevent/growth-groups-6/
LOCATION:St Peter’s Barge\, St Peter's Barge\, London\, E14 4AL
CATEGORIES:Growth Groups
END:VEVENT
BEGIN:VEVENT
DTSTART;TZID=Europe/London:20200205T193000
DTEND;TZID=Europe/London:20200205T210000
DTSTAMP:20260421T062912
CREATED:20191212T165356Z
LAST-MODIFIED:20191212T165356Z
UID:10943-1580931000-1580936400@stpetersbarge.org
SUMMARY:Growth Groups
DESCRIPTION:Growth Groups provide an opportunity to study the Bible\, pray & get to know others in a smaller group.  Groups meet on the Barge. \nGroups meet from 7:30-9pm. Door opens at 7pm for dinner.
URL:https://stpetersbarge.org/bargeevent/growth-groups-5/
LOCATION:St Peter’s Barge\, St Peter's Barge\, London\, E14 4AL
CATEGORIES:Growth Groups
END:VEVENT
BEGIN:VEVENT
DTSTART;TZID=Europe/London:20200129T193000
DTEND;TZID=Europe/London:20200129T210000
DTSTAMP:20260421T062912
CREATED:20191212T165327Z
LAST-MODIFIED:20191212T165327Z
UID:10942-1580326200-1580331600@stpetersbarge.org
SUMMARY:Growth Groups
DESCRIPTION:Growth Groups provide an opportunity to study the Bible\, pray & get to know others in a smaller group.  Groups meet on the Barge. \nGroups meet from 7:30-9pm. Door opens at 7pm for dinner.
URL:https://stpetersbarge.org/bargeevent/growth-groups-4/
LOCATION:St Peter’s Barge\, St Peter's Barge\, London\, E14 4AL
CATEGORIES:Growth Groups
END:VEVENT
BEGIN:VEVENT
DTSTART;TZID=Europe/London:20200122T193000
DTEND;TZID=Europe/London:20200122T210000
DTSTAMP:20260421T062912
CREATED:20191212T165237Z
LAST-MODIFIED:20191212T165237Z
UID:10941-1579721400-1579726800@stpetersbarge.org
SUMMARY:Growth Groups
DESCRIPTION:Growth Groups provide an opportunity to study the Bible\, pray & get to know others in a smaller group.  Groups meet on the Barge. \nGroups meet from 7:30-9pm. Door opens at 7pm for dinner.
URL:https://stpetersbarge.org/bargeevent/growth-groups-3/
LOCATION:St Peter’s Barge\, St Peter's Barge\, London\, E14 4AL
CATEGORIES:Growth Groups
END:VEVENT
BEGIN:VEVENT
DTSTART;TZID=Europe/London:20200115T193000
DTEND;TZID=Europe/London:20200115T210000
DTSTAMP:20260421T062912
CREATED:20191212T165128Z
LAST-MODIFIED:20191212T165128Z
UID:10940-1579116600-1579122000@stpetersbarge.org
SUMMARY:Growth Groups
DESCRIPTION:Growth Groups provide an opportunity to study the Bible\, pray & get to know others in a smaller group.  Groups meet on the Barge. \nGroups meet from 7:30-9pm. Door opens at 7pm for dinner.
URL:https://stpetersbarge.org/bargeevent/growth-groups-2/
LOCATION:St Peter’s Barge\, St Peter's Barge\, London\, E14 4AL
CATEGORIES:Growth Groups
END:VEVENT
BEGIN:VEVENT
DTSTART;TZID=Europe/London:20200108T193000
DTEND;TZID=Europe/London:20200108T210000
DTSTAMP:20260421T062912
CREATED:20191212T165106Z
LAST-MODIFIED:20191212T165106Z
UID:10939-1578511800-1578517200@stpetersbarge.org
SUMMARY:Growth Groups
DESCRIPTION:Growth Groups provide an opportunity to study the Bible\, pray & get to know others in a smaller group.  Groups meet on the Barge. \nGroups meet from 7:30-9pm. Door opens at 7pm for dinner.
URL:https://stpetersbarge.org/bargeevent/growth-groups/
LOCATION:St Peter’s Barge\, St Peter's Barge\, London\, E14 4AL
CATEGORIES:Growth Groups
END:VEVENT
END:VCALENDAR