BEGIN:VCALENDAR
VERSION:2.0
PRODID:-//St Peter&#039;s Barge - ECPv6.15.20//NONSGML v1.0//EN
CALSCALE:GREGORIAN
METHOD:PUBLISH
X-WR-CALNAME:St Peter&#039;s Barge
X-ORIGINAL-URL:https://stpetersbarge.org
X-WR-CALDESC:Events for St Peter&#039;s Barge
REFRESH-INTERVAL;VALUE=DURATION:PT1H
X-Robots-Tag:noindex
X-PUBLISHED-TTL:PT1H
BEGIN:VTIMEZONE
TZID:Europe/London
BEGIN:DAYLIGHT
TZOFFSETFROM:+0000
TZOFFSETTO:+0100
TZNAME:BST
DTSTART:20140330T010000
END:DAYLIGHT
BEGIN:STANDARD
TZOFFSETFROM:+0100
TZOFFSETTO:+0000
TZNAME:GMT
DTSTART:20141026T010000
END:STANDARD
BEGIN:DAYLIGHT
TZOFFSETFROM:+0000
TZOFFSETTO:+0100
TZNAME:BST
DTSTART:20150329T010000
END:DAYLIGHT
BEGIN:STANDARD
TZOFFSETFROM:+0100
TZOFFSETTO:+0000
TZNAME:GMT
DTSTART:20151025T010000
END:STANDARD
BEGIN:DAYLIGHT
TZOFFSETFROM:+0000
TZOFFSETTO:+0100
TZNAME:BST
DTSTART:20160327T010000
END:DAYLIGHT
BEGIN:STANDARD
TZOFFSETFROM:+0100
TZOFFSETTO:+0000
TZNAME:GMT
DTSTART:20161030T010000
END:STANDARD
END:VTIMEZONE
BEGIN:VEVENT
DTSTART;TZID=Europe/London:20150715T130500
DTEND;TZID=Europe/London:20150715T133500
DTSTAMP:20260425T042821
CREATED:20150513T143005Z
LAST-MODIFIED:20150715T145251Z
UID:3083-1436965500-1436967300@stpetersbarge.org
SUMMARY:Lunchtime talk - Will heaven really be any good?
DESCRIPTION:Series:  Questions of Life \nTitle: Will heaven really be any good? \nBible Text:  John 14:1-3 \nGuest Speaker:  Phil Vance \nPhil is the Student Worker at Euston Church in London and is beginning ministry training at Oakhill Theological College in September. He is married to Louise\, and they are looking forward to the arrival of their first child in December. \nThere are more talks on this series over summer\, for more information on flyer\, please click here.
URL:https://stpetersbarge.org/bargeevent/lunchtime-talk-will-heaven-really-be-any-good/
LOCATION:St Peter’s Barge\, St Peter's Barge\, London\, E14 4AL
CATEGORIES:Lunchtime talk
END:VEVENT
BEGIN:VEVENT
DTSTART;TZID=Europe/London:20150709T131500
DTEND;TZID=Europe/London:20150709T134500
DTSTAMP:20260425T042821
CREATED:20150513T111637Z
LAST-MODIFIED:20150713T150446Z
UID:3082-1436447700-1436449500@stpetersbarge.org
SUMMARY:Lunchtime talk
DESCRIPTION:Series:  The Real McCoy \nTitle:  The Message \nBible Text: 2 Corinthians 5:16-6:2 \nSpeaker: Andrew Latimer
URL:https://stpetersbarge.org/bargeevent/lunchtime-talk-21/
LOCATION:St Peter’s Barge\, St Peter's Barge\, London\, E14 4AL
CATEGORIES:Lunchtime talk
ATTACH;FMTTYPE=image/png:https://stpetersbarge.org/wp-content/uploads/2015/06/McCoyMessage1920x520px.png
END:VEVENT
BEGIN:VEVENT
DTSTART;TZID=Europe/London:20150709T121500
DTEND;TZID=Europe/London:20150709T124500
DTSTAMP:20260425T042821
CREATED:20150513T111612Z
LAST-MODIFIED:20150713T150446Z
UID:3081-1436444100-1436445900@stpetersbarge.org
SUMMARY:Lunchtime talk
DESCRIPTION:Series:  The Real McCoy \nTitle:  The Message \nBible Text: 2 Corinthians 5:16-6:2 \nSpeaker: Andrew Latimer
URL:https://stpetersbarge.org/bargeevent/lunchtime-talk-20/
LOCATION:Idea Store – Churchill Place\, Idea Store\, Churchill Place Shopping Mall\, London\, E14 5RB\, United Kingdom
CATEGORIES:Lunchtime talk
ATTACH;FMTTYPE=image/png:https://stpetersbarge.org/wp-content/uploads/2015/06/McCoyMessage1920x520px.png
END:VEVENT
BEGIN:VEVENT
DTSTART;TZID=Europe/London:20150708T130500
DTEND;TZID=Europe/London:20150708T133500
DTSTAMP:20260425T042821
CREATED:20150513T111536Z
LAST-MODIFIED:20150713T150445Z
UID:3080-1436360700-1436362500@stpetersbarge.org
SUMMARY:Lunchtime talk
DESCRIPTION:Series:  The Real McCoy \nTitle:  The Message \nBible Text: 2 Corinthians 5:16-6:2 \nSpeaker: Andrew Latimer
URL:https://stpetersbarge.org/bargeevent/lunchtime-talk-19/
LOCATION:St Peter’s Barge\, St Peter's Barge\, London\, E14 4AL
CATEGORIES:Lunchtime talk
ATTACH;FMTTYPE=image/png:https://stpetersbarge.org/wp-content/uploads/2015/06/McCoyMessage1920x520px.png
END:VEVENT
BEGIN:VEVENT
DTSTART;TZID=Europe/London:20150702T131500
DTEND;TZID=Europe/London:20150702T134500
DTSTAMP:20260425T042821
CREATED:20150513T111401Z
LAST-MODIFIED:20150713T150444Z
UID:3079-1435842900-1435844700@stpetersbarge.org
SUMMARY:Lunchtime talk
DESCRIPTION:Series:   The Real McCoy \nTitle:  The Motivations \nBible Text:  2 Corinthians 5:9-15 \nSpeaker: Andrew Latimer
URL:https://stpetersbarge.org/bargeevent/lunchtime-talk-18/
LOCATION:St Peter’s Barge\, St Peter's Barge\, London\, E14 4AL
CATEGORIES:Lunchtime talk
ATTACH;FMTTYPE=image/png:https://stpetersbarge.org/wp-content/uploads/2015/06/McCoyMotivations1920x520px.png
END:VEVENT
BEGIN:VEVENT
DTSTART;TZID=Europe/London:20150702T121500
DTEND;TZID=Europe/London:20150702T124500
DTSTAMP:20260425T042821
CREATED:20150513T111101Z
LAST-MODIFIED:20150713T150444Z
UID:3078-1435839300-1435841100@stpetersbarge.org
SUMMARY:Lunchtime talk
DESCRIPTION:Series:   The Real McCoy \nTitle:  The Motivations \nBible Text:  2 Corinthians 5:9-15 \nSpeaker: Andrew Latimer
URL:https://stpetersbarge.org/bargeevent/lunchtime-talk-17/
LOCATION:Idea Store – Churchill Place\, Idea Store\, Churchill Place Shopping Mall\, London\, E14 5RB\, United Kingdom
CATEGORIES:Lunchtime talk
ATTACH;FMTTYPE=image/png:https://stpetersbarge.org/wp-content/uploads/2015/06/McCoyMotivations1920x520px.png
END:VEVENT
BEGIN:VEVENT
DTSTART;TZID=Europe/London:20150701T130500
DTEND;TZID=Europe/London:20150701T133500
DTSTAMP:20260425T042821
CREATED:20150513T111035Z
LAST-MODIFIED:20150713T150443Z
UID:3077-1435755900-1435757700@stpetersbarge.org
SUMMARY:Lunchtime talk
DESCRIPTION:Series:   The Real McCoy \nTitle:  The Motivations \nBible Text:  2 Corinthians 5:9-15 \nSpeaker: Andrew Latimer
URL:https://stpetersbarge.org/bargeevent/lunchtime-talk-16/
LOCATION:St Peter’s Barge\, St Peter's Barge\, London\, E14 4AL
CATEGORIES:Lunchtime talk
ATTACH;FMTTYPE=image/png:https://stpetersbarge.org/wp-content/uploads/2015/06/McCoyMotivations1920x520px.png
END:VEVENT
BEGIN:VEVENT
DTSTART;TZID=Europe/London:20150625T131500
DTEND;TZID=Europe/London:20150625T134500
DTSTAMP:20260425T042821
CREATED:20150602T085923Z
LAST-MODIFIED:20150713T154042Z
UID:3156-1435238100-1435239900@stpetersbarge.org
SUMMARY:Lunchtime talk - Depart!
DESCRIPTION:Series:  R.S.V.P. \nTitle: Depart! \nBible Text: Isaiah 52:7-12 \nSpeaker: Marcus Nodder
URL:https://stpetersbarge.org/bargeevent/lunchtime-talk-seek-3/
LOCATION:St Peter’s Barge\, St Peter's Barge\, London\, E14 4AL
CATEGORIES:Lunchtime talk
ATTACH;FMTTYPE=image/png:https://stpetersbarge.org/wp-content/uploads/2015/06/RSVP1920x520px.png
END:VEVENT
BEGIN:VEVENT
DTSTART;TZID=Europe/London:20150625T121500
DTEND;TZID=Europe/London:20150625T124500
DTSTAMP:20260425T042821
CREATED:20150602T085858Z
LAST-MODIFIED:20150713T154042Z
UID:3155-1435234500-1435236300@stpetersbarge.org
SUMMARY:Lunchtime talk - Depart!
DESCRIPTION:Series:  R.S.V.P. \nTitle: Depart! \nBible Text: Isaiah 52:7-12 \nSpeaker: Marcus Nodder
URL:https://stpetersbarge.org/bargeevent/lunchtime-talk-seek-2/
LOCATION:Idea Store – Churchill Place\, Idea Store\, Churchill Place Shopping Mall\, London\, E14 5RB\, United Kingdom
CATEGORIES:Lunchtime talk
ATTACH;FMTTYPE=image/png:https://stpetersbarge.org/wp-content/uploads/2015/06/RSVP1920x520px.png
END:VEVENT
BEGIN:VEVENT
DTSTART;TZID=Europe/London:20150624T130500
DTEND;TZID=Europe/London:20150624T133500
DTSTAMP:20260425T042821
CREATED:20150602T085832Z
LAST-MODIFIED:20150713T154041Z
UID:3154-1435151100-1435152900@stpetersbarge.org
SUMMARY:Lunchtime talk - Depart!
DESCRIPTION:Series:  R.S.V.P. \nTitle: Depart! \nBible Text: Isaiah 52:7-12 \nSpeaker: Marcus Nodder
URL:https://stpetersbarge.org/bargeevent/lunchtime-talk-seek/
LOCATION:St Peter’s Barge\, St Peter's Barge\, London\, E14 4AL
CATEGORIES:Lunchtime talk
ATTACH;FMTTYPE=image/png:https://stpetersbarge.org/wp-content/uploads/2015/06/RSVP1920x520px.png
END:VEVENT
BEGIN:VEVENT
DTSTART;TZID=Europe/London:20150618T131500
DTEND;TZID=Europe/London:20150618T134500
DTSTAMP:20260425T042821
CREATED:20150602T085344Z
LAST-MODIFIED:20150713T154041Z
UID:3153-1434633300-1434635100@stpetersbarge.org
SUMMARY:Lunchtime talk - Seek!
DESCRIPTION:Series:  R.S.V.P. \nTitle: Seek! \nBible Text:  Isaiah 55:6-13 \nSpeaker: Marcus Nodder
URL:https://stpetersbarge.org/bargeevent/lunchtime-talk-come-3/
LOCATION:St Peter’s Barge\, St Peter's Barge\, London\, E14 4AL
CATEGORIES:Lunchtime talk
ATTACH;FMTTYPE=image/png:https://stpetersbarge.org/wp-content/uploads/2015/06/RSVP1920x520px.png
END:VEVENT
BEGIN:VEVENT
DTSTART;TZID=Europe/London:20150618T121500
DTEND;TZID=Europe/London:20150618T124500
DTSTAMP:20260425T042821
CREATED:20150602T085318Z
LAST-MODIFIED:20150713T154041Z
UID:3152-1434629700-1434631500@stpetersbarge.org
SUMMARY:Lunchtime talk - Seek!
DESCRIPTION:Series:  R.S.V.P. \nTitle: Seek! \nBible Text:  Isaiah 55:6-13 \nSpeaker: Marcus Nodder
URL:https://stpetersbarge.org/bargeevent/lunchtime-talk-come-2/
LOCATION:Idea Store – Churchill Place\, Idea Store\, Churchill Place Shopping Mall\, London\, E14 5RB\, United Kingdom
CATEGORIES:Lunchtime talk
ATTACH;FMTTYPE=image/png:https://stpetersbarge.org/wp-content/uploads/2015/06/RSVP1920x520px.png
END:VEVENT
BEGIN:VEVENT
DTSTART;TZID=Europe/London:20150617T130500
DTEND;TZID=Europe/London:20150617T133500
DTSTAMP:20260425T042821
CREATED:20150602T085250Z
LAST-MODIFIED:20150713T154041Z
UID:3151-1434546300-1434548100@stpetersbarge.org
SUMMARY:Lunchtime talk - Seek!
DESCRIPTION:Series:  R.S.V.P. \nTitle: Seek! \nBible Text:  Isaiah 55:6-13 \nSpeaker: Marcus Nodder
URL:https://stpetersbarge.org/bargeevent/lunchtime-talk-come/
LOCATION:St Peter’s Barge\, St Peter's Barge\, London\, E14 4AL
CATEGORIES:Lunchtime talk
ATTACH;FMTTYPE=image/png:https://stpetersbarge.org/wp-content/uploads/2015/06/RSVP1920x520px.png
END:VEVENT
BEGIN:VEVENT
DTSTART;TZID=Europe/London:20150611T131500
DTEND;TZID=Europe/London:20150611T134500
DTSTAMP:20260425T042821
CREATED:20150602T085109Z
LAST-MODIFIED:20150713T154040Z
UID:3150-1434028500-1434030300@stpetersbarge.org
SUMMARY:Lunchtime talk - Come!
DESCRIPTION:Series:  R.S.V.P. \nTitle: Come! \nBible Text:  Isaiah 55:1-5 \nSpeaker: Marcus Nodder
URL:https://stpetersbarge.org/bargeevent/lunchtime-talk-depart-3/
LOCATION:St Peter’s Barge\, St Peter's Barge\, London\, E14 4AL
CATEGORIES:Lunchtime talk
ATTACH;FMTTYPE=image/png:https://stpetersbarge.org/wp-content/uploads/2015/06/RSVP1920x520px.png
END:VEVENT
BEGIN:VEVENT
DTSTART;TZID=Europe/London:20150611T121500
DTEND;TZID=Europe/London:20150611T124500
DTSTAMP:20260425T042821
CREATED:20150602T085029Z
LAST-MODIFIED:20150713T154040Z
UID:3149-1434024900-1434026700@stpetersbarge.org
SUMMARY:Lunchtime talk - Come!
DESCRIPTION:Series:  R.S.V.P. \nTitle: Come! \nBible Text:  Isaiah 55:1-5 \nSpeaker: Marcus Nodder
URL:https://stpetersbarge.org/bargeevent/lunchtime-talk-depart-2/
LOCATION:Idea Store – Churchill Place\, Idea Store\, Churchill Place Shopping Mall\, London\, E14 5RB\, United Kingdom
CATEGORIES:Lunchtime talk
ATTACH;FMTTYPE=image/png:https://stpetersbarge.org/wp-content/uploads/2015/06/RSVP1920x520px.png
END:VEVENT
BEGIN:VEVENT
DTSTART;TZID=Europe/London:20150610T130500
DTEND;TZID=Europe/London:20150610T133500
DTSTAMP:20260425T042821
CREATED:20150602T084939Z
LAST-MODIFIED:20150713T154040Z
UID:3148-1433941500-1433943300@stpetersbarge.org
SUMMARY:Lunchtime talk - Come!
DESCRIPTION:Series:  R.S.V.P. \nTitle: Come! \nBible Text:  Isaiah 55:1-5 \nSpeaker: Marcus Nodder
URL:https://stpetersbarge.org/bargeevent/lunchtime-talk-depart/
LOCATION:St Peter’s Barge\, St Peter's Barge\, London\, E14 4AL
CATEGORIES:Lunchtime talk
ATTACH;FMTTYPE=image/png:https://stpetersbarge.org/wp-content/uploads/2015/06/RSVP1920x520px.png
END:VEVENT
BEGIN:VEVENT
DTSTART;TZID=Europe/London:20150604T131500
DTEND;TZID=Europe/London:20150604T134500
DTSTAMP:20260425T042821
CREATED:20150511T143034Z
LAST-MODIFIED:20150713T154039Z
UID:3068-1433423700-1433425500@stpetersbarge.org
SUMMARY:Lunchtime talk - Joyful
DESCRIPTION:Series: Marks of the Spirit-filled Church \nTitle: Joyful \nBible Text: John 16:16-28 \nSpeaker: Andrew Latimer
URL:https://stpetersbarge.org/bargeevent/lunchtime-talk-joyful-3/
LOCATION:St Peter’s Barge\, St Peter's Barge\, London\, E14 4AL
CATEGORIES:Lunchtime talk
ATTACH;FMTTYPE=image/png:https://stpetersbarge.org/wp-content/uploads/2015/05/SpiritJoyful1920x520px.png
END:VEVENT
BEGIN:VEVENT
DTSTART;TZID=Europe/London:20150604T121500
DTEND;TZID=Europe/London:20150604T124500
DTSTAMP:20260425T042821
CREATED:20150511T143004Z
LAST-MODIFIED:20150713T154039Z
UID:3067-1433420100-1433421900@stpetersbarge.org
SUMMARY:Lunchtime talk - Joyful
DESCRIPTION:Series: Marks of the Spirit-filled Church \nTitle: Joyful \nBible Text: John 16:16-28 \nSpeaker: Andrew Latimer
URL:https://stpetersbarge.org/bargeevent/lunchtime-talk-joyful-2/
LOCATION:Idea Store – Churchill Place\, Idea Store\, Churchill Place Shopping Mall\, London\, E14 5RB\, United Kingdom
CATEGORIES:Lunchtime talk
ATTACH;FMTTYPE=image/png:https://stpetersbarge.org/wp-content/uploads/2015/05/SpiritJoyful1920x520px.png
END:VEVENT
BEGIN:VEVENT
DTSTART;TZID=Europe/London:20150603T130500
DTEND;TZID=Europe/London:20150603T133500
DTSTAMP:20260425T042821
CREATED:20150511T142720Z
LAST-MODIFIED:20150713T154039Z
UID:3066-1433336700-1433338500@stpetersbarge.org
SUMMARY:Lunchtime talk - Joyful
DESCRIPTION:Series: Marks of the Spirit-filled Church \nTitle: Joyful \nBible Text: John 16:16-28 \nSpeaker: Andrew Latimer
URL:https://stpetersbarge.org/bargeevent/lunchtime-talk-joyful/
LOCATION:St Peter’s Barge\, St Peter's Barge\, London\, E14 4AL
CATEGORIES:Lunchtime talk
ATTACH;FMTTYPE=image/png:https://stpetersbarge.org/wp-content/uploads/2015/05/SpiritJoyful1920x520px.png
END:VEVENT
BEGIN:VEVENT
DTSTART;TZID=Europe/London:20150528T131500
DTEND;TZID=Europe/London:20150528T134500
DTSTAMP:20260425T042821
CREATED:20150521T143132Z
LAST-MODIFIED:20150713T154048Z
UID:3123-1432818900-1432820700@stpetersbarge.org
SUMMARY:Lunchtime talk - Him we proclaim
DESCRIPTION:Series: Vision 2015 \nTitle: Him we proclaim\nBible Text: Colossians 1:28a \nSpeaker: Marcus Nodder
URL:https://stpetersbarge.org/bargeevent/lunchtime-talk-him-we-proclaim-3/
LOCATION:St Peter’s Barge\, St Peter's Barge\, London\, E14 4AL
CATEGORIES:Lunchtime talk
ATTACH;FMTTYPE=image/png:https://stpetersbarge.org/wp-content/uploads/2015/01/Vision-2015-WEB1.png
END:VEVENT
BEGIN:VEVENT
DTSTART;TZID=Europe/London:20150528T121500
DTEND;TZID=Europe/London:20150528T124500
DTSTAMP:20260425T042821
CREATED:20150521T143100Z
LAST-MODIFIED:20150713T154048Z
UID:3122-1432815300-1432817100@stpetersbarge.org
SUMMARY:Lunchtime talk - Him we proclaim
DESCRIPTION:Series: Vision 2015 \nTitle: Him we proclaim\nBible Text: Colossians 1:28a \nSpeaker: Marcus Nodder
URL:https://stpetersbarge.org/bargeevent/lunchtime-talk-him-we-proclaim/
LOCATION:Idea Store – Churchill Place\, Idea Store\, Churchill Place Shopping Mall\, London\, E14 5RB\, United Kingdom
CATEGORIES:Lunchtime talk
ATTACH;FMTTYPE=image/png:https://stpetersbarge.org/wp-content/uploads/2015/01/Vision-2015-WEB1.png
END:VEVENT
BEGIN:VEVENT
DTSTART;TZID=Europe/London:20150527T130500
DTEND;TZID=Europe/London:20150527T133500
DTSTAMP:20260425T042821
CREATED:20150521T143102Z
LAST-MODIFIED:20150713T154047Z
UID:3121-1432731900-1432733700@stpetersbarge.org
SUMMARY:Lunchtime talk - Him we proclaim
DESCRIPTION:Series: Vision 2015 \nTitle: Him we proclaim \nBible Text: Colossians 1:28a \nSpeaker: Marcus Nodder
URL:https://stpetersbarge.org/bargeevent/lunchtime-talk-him-we-proclaim-2/
LOCATION:St Peter’s Barge\, St Peter's Barge\, London\, E14 4AL
CATEGORIES:Lunchtime talk
ATTACH;FMTTYPE=image/png:https://stpetersbarge.org/wp-content/uploads/2015/01/Vision-2015-WEB1.png
END:VEVENT
BEGIN:VEVENT
DTSTART;TZID=Europe/London:20150521T131500
DTEND;TZID=Europe/London:20150521T134500
DTSTAMP:20260425T042821
CREATED:20150511T143217Z
LAST-MODIFIED:20150713T154047Z
UID:3070-1432214100-1432215900@stpetersbarge.org
SUMMARY:Lunchtime talk - Purposeful
DESCRIPTION:Series: Marks of the Spirit-filled Church \nTitle: Purposeful \nBible Text: John  16:5-15 \nSpeaker: Andrew Latimer
URL:https://stpetersbarge.org/bargeevent/lunchtime-talk-purposeful-3/
LOCATION:St Peter’s Barge\, St Peter's Barge\, London\, E14 4AL
CATEGORIES:Lunchtime talk
ATTACH;FMTTYPE=image/png:https://stpetersbarge.org/wp-content/uploads/2015/05/SpiritPurposeful1920x520px.png
END:VEVENT
BEGIN:VEVENT
DTSTART;TZID=Europe/London:20150521T121500
DTEND;TZID=Europe/London:20150521T124500
DTSTAMP:20260425T042821
CREATED:20150511T142344Z
LAST-MODIFIED:20150713T154047Z
UID:3065-1432210500-1432212300@stpetersbarge.org
SUMMARY:Lunchtime talk - Purposeful
DESCRIPTION:Series: Marks of the Spirit-filled Church \nTitle: Purposeful \nBible Text: John  16:5-15 \nSpeaker: Andrew Latimer
URL:https://stpetersbarge.org/bargeevent/lunchtime-talk-purposeful-2/
LOCATION:Idea Store – Churchill Place\, Idea Store\, Churchill Place Shopping Mall\, London\, E14 5RB\, United Kingdom
CATEGORIES:Lunchtime talk
ATTACH;FMTTYPE=image/png:https://stpetersbarge.org/wp-content/uploads/2015/05/SpiritPurposeful1920x520px.png
END:VEVENT
BEGIN:VEVENT
DTSTART;TZID=Europe/London:20150520T130500
DTEND;TZID=Europe/London:20150520T133500
DTSTAMP:20260425T042821
CREATED:20150511T141935Z
LAST-MODIFIED:20150713T154047Z
UID:3061-1432127100-1432128900@stpetersbarge.org
SUMMARY:Lunchtime talk - Purposeful
DESCRIPTION:Series: Marks of the Spirit-filled Church \nTitle: Purposeful \nBible Text: John  16:5-15 \nSpeaker: Andrew Latimer
URL:https://stpetersbarge.org/bargeevent/lunchtime-talk-purposeful/
LOCATION:St Peter’s Barge\, St Peter's Barge\, London\, E14 4AL
CATEGORIES:Lunchtime talk
ATTACH;FMTTYPE=image/png:https://stpetersbarge.org/wp-content/uploads/2015/05/SpiritPurposeful1920x520px.png
END:VEVENT
BEGIN:VEVENT
DTSTART;TZID=Europe/London:20150514T131500
DTEND;TZID=Europe/London:20150514T134500
DTSTAMP:20260425T042821
CREATED:20150506T111051Z
LAST-MODIFIED:20150713T154046Z
UID:3048-1431609300-1431611100@stpetersbarge.org
SUMMARY:Lunchtime talk - Unpopular
DESCRIPTION:Series:  Marks of the Spirit-filled Church \nTitle: Unpopular \nBible Text:  John 15:18-16:4 \nSpeaker: Andrew Latimer
URL:https://stpetersbarge.org/bargeevent/lunchtime-talk-unpopular-3/
LOCATION:St Peter’s Barge\, St Peter's Barge\, London\, E14 4AL
CATEGORIES:Lunchtime talk
ATTACH;FMTTYPE=image/png:https://stpetersbarge.org/wp-content/uploads/2015/05/SpiritUnpopular1920x520.png
END:VEVENT
BEGIN:VEVENT
DTSTART;TZID=Europe/London:20150514T121500
DTEND;TZID=Europe/London:20150514T124500
DTSTAMP:20260425T042821
CREATED:20150506T111027Z
LAST-MODIFIED:20150713T154046Z
UID:3047-1431605700-1431607500@stpetersbarge.org
SUMMARY:Lunchtime talk - Unpopular
DESCRIPTION:Series:  Marks of the Spirit-filled Church \nTitle: Unpopular \nBible Text:  John 15:18-16:4 \nSpeaker: Andrew Latimer
URL:https://stpetersbarge.org/bargeevent/lunchtime-talk-unpopular-2/
LOCATION:Idea Store – Churchill Place\, Idea Store\, Churchill Place Shopping Mall\, London\, E14 5RB\, United Kingdom
CATEGORIES:Lunchtime talk
ATTACH;FMTTYPE=image/png:https://stpetersbarge.org/wp-content/uploads/2015/05/SpiritUnpopular1920x520.png
END:VEVENT
BEGIN:VEVENT
DTSTART;TZID=Europe/London:20150513T130500
DTEND;TZID=Europe/London:20150513T133500
DTSTAMP:20260425T042821
CREATED:20150506T110903Z
LAST-MODIFIED:20150713T154045Z
UID:3046-1431522300-1431524100@stpetersbarge.org
SUMMARY:Lunchtime talk - Unpopular
DESCRIPTION:Series:  Marks of the Spirit-filled Church \nTitle: Unpopular \nBible Text:  John 15:18-16:4 \nSpeaker: Andrew Latimer
URL:https://stpetersbarge.org/bargeevent/lunchtime-talk-unpopular/
LOCATION:St Peter’s Barge\, St Peter's Barge\, London\, E14 4AL
CATEGORIES:Lunchtime talk
ATTACH;FMTTYPE=image/png:https://stpetersbarge.org/wp-content/uploads/2015/05/SpiritUnpopular1920x520.png
END:VEVENT
BEGIN:VEVENT
DTSTART;TZID=Europe/London:20150507T131500
DTEND;TZID=Europe/London:20150507T134500
DTSTAMP:20260425T042821
CREATED:20150414T142644Z
LAST-MODIFIED:20150713T154045Z
UID:2965-1431004500-1431006300@stpetersbarge.org
SUMMARY:Lunchtime talk - Everyone mature in Christ
DESCRIPTION:Title: Everyone mature in Christ \nBible Text: Colossians 1:28 \nSpeaker: Marcus Nodder
URL:https://stpetersbarge.org/bargeevent/lunchtime-talk-everyone-mature-in-christ-2/
LOCATION:St Peter’s Barge\, St Peter's Barge\, London\, E14 4AL
CATEGORIES:Lunchtime talk
ATTACH;FMTTYPE=image/png:https://stpetersbarge.org/wp-content/uploads/2015/01/Vision-2015-WEB1.png
END:VEVENT
BEGIN:VEVENT
DTSTART;TZID=Europe/London:20150507T121500
DTEND;TZID=Europe/London:20150507T124500
DTSTAMP:20260425T042821
CREATED:20150414T142646Z
LAST-MODIFIED:20150713T154045Z
UID:2964-1431000900-1431002700@stpetersbarge.org
SUMMARY:Lunchtime talk - Everyone mature in Christ
DESCRIPTION:Title: Everyone mature in Christ \nBible Text: Colossians 1:28 \nSpeaker: Marcus Nodder
URL:https://stpetersbarge.org/bargeevent/lunchtime-talk-everyone-mature-in-christ-3/
LOCATION:Idea Store – Churchill Place\, Idea Store\, Churchill Place Shopping Mall\, London\, E14 5RB\, United Kingdom
CATEGORIES:Lunchtime talk
ATTACH;FMTTYPE=image/png:https://stpetersbarge.org/wp-content/uploads/2015/01/Vision-2015-WEB1.png
END:VEVENT
END:VCALENDAR