BEGIN:VCALENDAR
VERSION:2.0
PRODID:-//St Peter&#039;s Barge - ECPv6.15.20//NONSGML v1.0//EN
CALSCALE:GREGORIAN
METHOD:PUBLISH
X-WR-CALNAME:St Peter&#039;s Barge
X-ORIGINAL-URL:https://stpetersbarge.org
X-WR-CALDESC:Events for St Peter&#039;s Barge
REFRESH-INTERVAL;VALUE=DURATION:PT1H
X-Robots-Tag:noindex
X-PUBLISHED-TTL:PT1H
BEGIN:VTIMEZONE
TZID:Europe/London
BEGIN:DAYLIGHT
TZOFFSETFROM:+0000
TZOFFSETTO:+0100
TZNAME:BST
DTSTART:20130331T010000
END:DAYLIGHT
BEGIN:STANDARD
TZOFFSETFROM:+0100
TZOFFSETTO:+0000
TZNAME:GMT
DTSTART:20131027T010000
END:STANDARD
BEGIN:DAYLIGHT
TZOFFSETFROM:+0000
TZOFFSETTO:+0100
TZNAME:BST
DTSTART:20140330T010000
END:DAYLIGHT
BEGIN:STANDARD
TZOFFSETFROM:+0100
TZOFFSETTO:+0000
TZNAME:GMT
DTSTART:20141026T010000
END:STANDARD
BEGIN:DAYLIGHT
TZOFFSETFROM:+0000
TZOFFSETTO:+0100
TZNAME:BST
DTSTART:20150329T010000
END:DAYLIGHT
BEGIN:STANDARD
TZOFFSETFROM:+0100
TZOFFSETTO:+0000
TZNAME:GMT
DTSTART:20151025T010000
END:STANDARD
END:VTIMEZONE
BEGIN:VEVENT
DTSTART;TZID=Europe/London:20141001T130500
DTEND;TZID=Europe/London:20141001T133500
DTSTAMP:20260425T223044
CREATED:20140718T161027Z
LAST-MODIFIED:20140919T145034Z
UID:2011-1412168700-1412170500@stpetersbarge.org
SUMMARY:Lunchtime talk: WHICH?
DESCRIPTION:Which way are you going? (Luke 18:9-14)\nSpeaker: Marcus Nodder
URL:https://stpetersbarge.org/bargeevent/lunchtime-talk-which/
LOCATION:St Peter’s Barge\, St Peter's Barge\, London\, E14 4AL
CATEGORIES:Lunchtime talk
ATTACH;FMTTYPE=image/jpeg:https://stpetersbarge.org/wp-content/uploads/2014/07/Which-way-WEB2.jpg
END:VEVENT
BEGIN:VEVENT
DTSTART;TZID=Europe/London:20140925T131500
DTEND;TZID=Europe/London:20140925T134500
DTSTAMP:20260425T223044
CREATED:20140827T155628Z
LAST-MODIFIED:20140912T084300Z
UID:2093-1411650900-1411652700@stpetersbarge.org
SUMMARY:Special event - Why Christianity makes the best sense of suffering
DESCRIPTION:Dr. Andrew Sach\, our guest speaker\, will give the talk on ” Why Christianity makes the best sense of suffering” (Luke 13)
URL:https://stpetersbarge.org/bargeevent/special-event-why-christianity-makes-the-best-sense-of-suffering-4/
LOCATION:St Peter’s Barge\, St Peter's Barge\, London\, E14 4AL
CATEGORIES:Lunchtime talk
ATTACH;FMTTYPE=image/png:https://stpetersbarge.org/wp-content/uploads/2014/08/Suffering-WEB2.png
END:VEVENT
BEGIN:VEVENT
DTSTART;TZID=Europe/London:20140925T121500
DTEND;TZID=Europe/London:20140925T124500
DTSTAMP:20260425T223044
CREATED:20140827T155604Z
LAST-MODIFIED:20140912T084258Z
UID:2092-1411647300-1411649100@stpetersbarge.org
SUMMARY:Special event - Why Christianity makes the best sense of suffering
DESCRIPTION:Dr. Andrew Sach\, our guest speaker\, will give the talk on ” Why Christianity makes the best sense of suffering” (Luke 13)
URL:https://stpetersbarge.org/bargeevent/special-event-why-christianity-makes-the-best-sense-of-suffering-3/
LOCATION:Idea Store – Churchill Place\, Idea Store\, Churchill Place Shopping Mall\, London\, E14 5RB\, United Kingdom
CATEGORIES:Lunchtime talk
ATTACH;FMTTYPE=image/png:https://stpetersbarge.org/wp-content/uploads/2014/08/Suffering-WEB2.png
END:VEVENT
BEGIN:VEVENT
DTSTART;TZID=Europe/London:20140924T130500
DTEND;TZID=Europe/London:20140924T133500
DTSTAMP:20260425T223044
CREATED:20140827T155536Z
LAST-MODIFIED:20140912T084256Z
UID:2091-1411563900-1411565700@stpetersbarge.org
SUMMARY:Special event - Why Christianity makes the best sense of suffering
DESCRIPTION:Dr. Andrew Sach\, our guest speaker\, will give the talk on ” Why Christianity makes the best sense of suffering” (Luke 13)
URL:https://stpetersbarge.org/bargeevent/special-event-why-christianity-makes-the-best-sense-of-suffering-2/
LOCATION:St Peter’s Barge\, St Peter's Barge\, London\, E14 4AL
CATEGORIES:Lunchtime talk
ATTACH;FMTTYPE=image/png:https://stpetersbarge.org/wp-content/uploads/2014/08/Suffering-WEB2.png
END:VEVENT
BEGIN:VEVENT
DTSTART;TZID=Europe/London:20140924T121500
DTEND;TZID=Europe/London:20140924T124500
DTSTAMP:20260425T223044
CREATED:20140827T155356Z
LAST-MODIFIED:20140912T084254Z
UID:2089-1411560900-1411562700@stpetersbarge.org
SUMMARY:Special event - Why Christianity makes the best sense of suffering
DESCRIPTION:Dr. Andrew Sach\, our guest speaker\, will give the talk on ” Why Christianity makes the best sense of suffering” (Luke 13)
URL:https://stpetersbarge.org/bargeevent/special-event-why-christianity-makes-the-best-sense-of-suffering/
LOCATION:Pepper Saint Ontiod\, Pepper Saint Ontiod\, E14 9RP\, London\, E14 9RP\, United Kingdom
CATEGORIES:Lunchtime talk
ATTACH;FMTTYPE=image/png:https://stpetersbarge.org/wp-content/uploads/2014/08/Suffering-WEB2.png
END:VEVENT
BEGIN:VEVENT
DTSTART;TZID=Europe/London:20140918T131500
DTEND;TZID=Europe/London:20140918T134500
DTSTAMP:20260425T223044
CREATED:20140718T160341Z
LAST-MODIFIED:20140908T125702Z
UID:2008-1411046100-1411047900@stpetersbarge.org
SUMMARY:Lunchtime talk: God's Survival Manual
DESCRIPTION:When deep in enemy territory (Daniel 1:3-21)\nSpeaker: Andrew Latimer
URL:https://stpetersbarge.org/bargeevent/lunchtime-talk-gods-survival-manual-6/
LOCATION:St Peter’s Barge\, St Peter's Barge\, London\, E14 4AL
CATEGORIES:Lunchtime talk
ATTACH;FMTTYPE=image/png:https://stpetersbarge.org/wp-content/uploads/2014/07/Manual1920x520px.png
END:VEVENT
BEGIN:VEVENT
DTSTART;TZID=Europe/London:20140918T121500
DTEND;TZID=Europe/London:20140918T124500
DTSTAMP:20260425T223044
CREATED:20140718T160324Z
LAST-MODIFIED:20140908T125705Z
UID:2010-1411042500-1411044300@stpetersbarge.org
SUMMARY:Lunchtime talk: God's Survival Manual
DESCRIPTION:When deep in enemy territory (Daniel 1:3-21)\nSpeaker: Andrew Latimer
URL:https://stpetersbarge.org/bargeevent/lunchtime-talk-gods-survival-manual-5/
LOCATION:Idea Store – Churchill Place\, Idea Store\, Churchill Place Shopping Mall\, London\, E14 5RB\, United Kingdom
CATEGORIES:Lunchtime talk
ATTACH;FMTTYPE=image/png:https://stpetersbarge.org/wp-content/uploads/2014/07/Manual1920x520px.png
END:VEVENT
BEGIN:VEVENT
DTSTART;TZID=Europe/London:20140917T130500
DTEND;TZID=Europe/London:20140917T133500
DTSTAMP:20260425T223044
CREATED:20140718T160302Z
LAST-MODIFIED:20140908T125708Z
UID:2009-1410959100-1410960900@stpetersbarge.org
SUMMARY:Lunchtime talk: God's Survival Manual
DESCRIPTION:When deep in enemy territory (Daniel 1:3-21)\nSpeaker: Andrew Latimer
URL:https://stpetersbarge.org/bargeevent/lunchtime-talk-gods-survival-manual-4/
LOCATION:St Peter’s Barge\, St Peter's Barge\, London\, E14 4AL
CATEGORIES:Lunchtime talk
ATTACH;FMTTYPE=image/png:https://stpetersbarge.org/wp-content/uploads/2014/07/Manual1920x520px.png
END:VEVENT
BEGIN:VEVENT
DTSTART;TZID=Europe/London:20140911T131500
DTEND;TZID=Europe/London:20140911T134500
DTSTAMP:20260425T223044
CREATED:20140718T155959Z
LAST-MODIFIED:20140908T125710Z
UID:2007-1410441300-1410443100@stpetersbarge.org
SUMMARY:Lunchtime talk: God's Survival Manual
DESCRIPTION:When feeling far from home (Daniel 1:1-2)\nSpeaker: Andrew Latimer
URL:https://stpetersbarge.org/bargeevent/lunchtime-talk-gods-survival-manual-3/
LOCATION:St Peter’s Barge\, St Peter's Barge\, London\, E14 4AL
CATEGORIES:Lunchtime talk
ATTACH;FMTTYPE=image/png:https://stpetersbarge.org/wp-content/uploads/2014/07/Manual1920x520px.png
END:VEVENT
BEGIN:VEVENT
DTSTART;TZID=Europe/London:20140911T121500
DTEND;TZID=Europe/London:20140911T124500
DTSTAMP:20260425T223044
CREATED:20140718T155944Z
LAST-MODIFIED:20140908T125713Z
UID:2006-1410437700-1410439500@stpetersbarge.org
SUMMARY:Lunchtime talk: God's Survival Manual
DESCRIPTION:When feeling far from home (Daniel 1:1-2)\nSpeaker: Andrew Latimer
URL:https://stpetersbarge.org/bargeevent/lunchtime-talk-gods-survival-manual-2/
LOCATION:Idea Store – Churchill Place\, Idea Store\, Churchill Place Shopping Mall\, London\, E14 5RB\, United Kingdom
CATEGORIES:Lunchtime talk
ATTACH;FMTTYPE=image/png:https://stpetersbarge.org/wp-content/uploads/2014/07/Manual1920x520px.png
END:VEVENT
BEGIN:VEVENT
DTSTART;TZID=Europe/London:20140910T130500
DTEND;TZID=Europe/London:20140910T133500
DTSTAMP:20260425T223044
CREATED:20140718T155930Z
LAST-MODIFIED:20140908T125715Z
UID:2005-1410354300-1410356100@stpetersbarge.org
SUMMARY:Lunchtime talk: God's Survival Manual
DESCRIPTION:When feeling far from home (Daniel 1:1-2)\nSpeaker: Andrew Latimer
URL:https://stpetersbarge.org/bargeevent/lunchtime-talk-gods-survival-manual/
LOCATION:St Peter’s Barge\, St Peter's Barge\, London\, E14 4AL
CATEGORIES:Lunchtime talk
ATTACH;FMTTYPE=image/png:https://stpetersbarge.org/wp-content/uploads/2014/07/Manual1920x520px.png
END:VEVENT
BEGIN:VEVENT
DTSTART;TZID=Europe/London:20140904T131500
DTEND;TZID=Europe/London:20140904T134500
DTSTAMP:20260425T223044
CREATED:20140718T155547Z
LAST-MODIFIED:20140829T113506Z
UID:2004-1409836500-1409838300@stpetersbarge.org
SUMMARY:Lunchtime talk: Is being good good enough for God?
DESCRIPTION:Is being good good enough for God?  (Mark 12:1-12)\nSpeaker: Andrew Latimer
URL:https://stpetersbarge.org/bargeevent/lunchtime-talk-is-being-good-good-enough-for-god-3/
LOCATION:St Peter’s Barge\, St Peter's Barge\, London\, E14 4AL
CATEGORIES:Lunchtime talk
ATTACH;FMTTYPE=image/png:https://stpetersbarge.org/wp-content/uploads/2014/08/GoodGood1920x520px.png
END:VEVENT
BEGIN:VEVENT
DTSTART;TZID=Europe/London:20140904T121500
DTEND;TZID=Europe/London:20140904T124500
DTSTAMP:20260425T223044
CREATED:20140718T155518Z
LAST-MODIFIED:20140829T115415Z
UID:2003-1409832900-1409834700@stpetersbarge.org
SUMMARY:Lunchtime talk: Is being good good enough for God?
DESCRIPTION:Is being good good enough for God?  (Mark 12:1-12)\nSpeaker: Andrew Latimer
URL:https://stpetersbarge.org/bargeevent/lunchtime-talk-is-being-good-good-enough-for-god-2/
LOCATION:Idea Store – Churchill Place\, Idea Store\, Churchill Place Shopping Mall\, London\, E14 5RB\, United Kingdom
CATEGORIES:Lunchtime talk
ATTACH;FMTTYPE=image/png:https://stpetersbarge.org/wp-content/uploads/2014/08/GoodGood1920x520px.png
END:VEVENT
BEGIN:VEVENT
DTSTART;TZID=Europe/London:20140903T130500
DTEND;TZID=Europe/London:20140903T133500
DTSTAMP:20260425T223044
CREATED:20140718T155416Z
LAST-MODIFIED:20140829T115113Z
UID:2002-1409749500-1409751300@stpetersbarge.org
SUMMARY:Lunchtime talk: Is being good good enough for God?
DESCRIPTION:Is being good good enough for God?  (Mark 12:1-12)\nSpeaker: Andrew Latimer
URL:https://stpetersbarge.org/bargeevent/lunchtime-talk-is-being-good-good-enough-for-god/
LOCATION:St Peter’s Barge\, St Peter's Barge\, London\, E14 4AL
CATEGORIES:Lunchtime talk
ATTACH;FMTTYPE=image/png:https://stpetersbarge.org/wp-content/uploads/2014/08/GoodGood1920x520px.png
END:VEVENT
BEGIN:VEVENT
DTSTART;VALUE=DATE:20140828
DTEND;VALUE=DATE:20140829
DTSTAMP:20260425T223044
CREATED:20140718T155135Z
LAST-MODIFIED:20140718T155135Z
UID:2001-1409184000-1409270399@stpetersbarge.org
SUMMARY:No Lunchtime talk today
DESCRIPTION:No lunchtime talk this week
URL:https://stpetersbarge.org/bargeevent/no-lunchtime-talk-today-5/
CATEGORIES:Lunchtime talk
END:VEVENT
BEGIN:VEVENT
DTSTART;VALUE=DATE:20140827
DTEND;VALUE=DATE:20140828
DTSTAMP:20260425T223044
CREATED:20140718T155049Z
LAST-MODIFIED:20140718T155049Z
UID:2000-1409097600-1409183999@stpetersbarge.org
SUMMARY:No Lunchtime talk today
DESCRIPTION:No lunchtime talk this week
URL:https://stpetersbarge.org/bargeevent/no-lunchtime-talk-today-4/
CATEGORIES:Lunchtime talk
END:VEVENT
BEGIN:VEVENT
DTSTART;TZID=Europe/London:20140821T131500
DTEND;TZID=Europe/London:20140821T134500
DTSTAMP:20260425T223044
CREATED:20140718T154940Z
LAST-MODIFIED:20140808T094425Z
UID:1999-1408626900-1408628700@stpetersbarge.org
SUMMARY:Lunchtime talk: Christian Basics
DESCRIPTION:Growing like Christ (2 Peter 1:1-11)\nSpeaker:  Wes Illingsworth
URL:https://stpetersbarge.org/bargeevent/lunchtime-talk-christian-basics-6/
LOCATION:St Peter’s Barge\, St Peter's Barge\, London\, E14 4AL
CATEGORIES:Lunchtime talk
ATTACH;FMTTYPE=image/png:https://stpetersbarge.org/wp-content/uploads/2014/07/Growing1920x520px.png
END:VEVENT
BEGIN:VEVENT
DTSTART;TZID=Europe/London:20140821T121500
DTEND;TZID=Europe/London:20140821T124500
DTSTAMP:20260425T223044
CREATED:20140718T154911Z
LAST-MODIFIED:20140808T094403Z
UID:1998-1408623300-1408625100@stpetersbarge.org
SUMMARY:Lunchtime talk: Christian Basics
DESCRIPTION:Growing like Christ (2 Peter 1:1-11)\nSpeaker:  Wes Illingsworth
URL:https://stpetersbarge.org/bargeevent/lunchtime-talk-christian-basics-5/
LOCATION:Idea Store – Churchill Place\, Idea Store\, Churchill Place Shopping Mall\, London\, E14 5RB\, United Kingdom
CATEGORIES:Lunchtime talk
ATTACH;FMTTYPE=image/png:https://stpetersbarge.org/wp-content/uploads/2014/07/Growing1920x520px.png
END:VEVENT
BEGIN:VEVENT
DTSTART;TZID=Europe/London:20140820T130500
DTEND;TZID=Europe/London:20140820T133500
DTSTAMP:20260425T223044
CREATED:20140718T154703Z
LAST-MODIFIED:20140808T094342Z
UID:1994-1408539900-1408541700@stpetersbarge.org
SUMMARY:Lunchtime talk: Christian Basics
DESCRIPTION:Growing like Christ (2 Peter 1:1-11)\nSpeaker:  Wes Illingsworth
URL:https://stpetersbarge.org/bargeevent/lunchtime-talk-christian-basics-4/
LOCATION:St Peter’s Barge\, St Peter's Barge\, London\, E14 4AL
CATEGORIES:Lunchtime talk
ATTACH;FMTTYPE=image/png:https://stpetersbarge.org/wp-content/uploads/2014/07/Growing1920x520px.png
END:VEVENT
BEGIN:VEVENT
DTSTART;TZID=Europe/London:20140814T131500
DTEND;TZID=Europe/London:20140814T134500
DTSTAMP:20260425T223044
CREATED:20140718T154510Z
LAST-MODIFIED:20140808T094316Z
UID:1997-1408022100-1408023900@stpetersbarge.org
SUMMARY:Lunchtime talk: Christian Basics
DESCRIPTION:Standing for Christ (Luke 12:8-12)\nSpeaker: David Rue
URL:https://stpetersbarge.org/bargeevent/lunchtime-talk-christian-basics-3/
LOCATION:St Peter’s Barge\, St Peter's Barge\, London\, E14 4AL
CATEGORIES:Lunchtime talk
ATTACH;FMTTYPE=image/png:https://stpetersbarge.org/wp-content/uploads/2014/07/Standing1920x520px.png
END:VEVENT
BEGIN:VEVENT
DTSTART;TZID=Europe/London:20140814T121500
DTEND;TZID=Europe/London:20140814T124500
DTSTAMP:20260425T223044
CREATED:20140718T154422Z
LAST-MODIFIED:20140808T094252Z
UID:1996-1408018500-1408020300@stpetersbarge.org
SUMMARY:Lunchtime talk: Christian Basics
DESCRIPTION:Standing for Christ (Luke 12:8-12)\nSpeaker: David Rue
URL:https://stpetersbarge.org/bargeevent/lunchtime-talk-christian-basics-2/
LOCATION:Idea Store – Churchill Place\, Idea Store\, Churchill Place Shopping Mall\, London\, E14 5RB\, United Kingdom
CATEGORIES:Lunchtime talk
ATTACH;FMTTYPE=image/png:https://stpetersbarge.org/wp-content/uploads/2014/07/Standing1920x520px.png
END:VEVENT
BEGIN:VEVENT
DTSTART;TZID=Europe/London:20140813T130500
DTEND;TZID=Europe/London:20140813T133500
DTSTAMP:20260425T223044
CREATED:20140718T154328Z
LAST-MODIFIED:20140808T094224Z
UID:1995-1407935100-1407936900@stpetersbarge.org
SUMMARY:Lunchtime talk: Christian Basics
DESCRIPTION:Standing for Christ (Luke 12:8-12)\nSpeaker: David Rue
URL:https://stpetersbarge.org/bargeevent/lunchtime-talk-christian-basics/
LOCATION:St Peter’s Barge\, St Peter's Barge\, London\, E14 4AL
CATEGORIES:Lunchtime talk
ATTACH;FMTTYPE=image/png:https://stpetersbarge.org/wp-content/uploads/2014/07/Standing1920x520px.png
END:VEVENT
BEGIN:VEVENT
DTSTART;TZID=Europe/London:20140807T131500
DTEND;TZID=Europe/London:20140807T134500
DTSTAMP:20260425T223044
CREATED:20140616T141938Z
LAST-MODIFIED:20140731T153820Z
UID:1873-1407417300-1407419100@stpetersbarge.org
SUMMARY:Lunchtime talk: How to make the biggest mistake of your life?
DESCRIPTION:How to make the biggest mistake of your life? ( Luke 14:15-24)\nBy Andrew Latimer
URL:https://stpetersbarge.org/bargeevent/lunchtime-talk-how-to-make-the-biggest-mistake-of-your-life-3/
LOCATION:St Peter’s Barge\, St Peter's Barge\, London\, E14 4AL
CATEGORIES:Lunchtime talk
ATTACH;FMTTYPE=image/png:https://stpetersbarge.org/wp-content/uploads/2014/07/Mistake1920x520px.png
END:VEVENT
BEGIN:VEVENT
DTSTART;TZID=Europe/London:20140807T121500
DTEND;TZID=Europe/London:20140807T124500
DTSTAMP:20260425T223044
CREATED:20140616T141850Z
LAST-MODIFIED:20140731T153750Z
UID:1872-1407413700-1407415500@stpetersbarge.org
SUMMARY:Lunchtime talk: How to make the biggest mistake of your life?
DESCRIPTION:How to make the biggest mistake of your life? ( Luke 14:15-24)\nBy Andrew Latimer
URL:https://stpetersbarge.org/bargeevent/lunchtime-talk-how-to-make-the-biggest-mistake-of-your-life-2/
LOCATION:Idea Store – Churchill Place\, Idea Store\, Churchill Place Shopping Mall\, London\, E14 5RB\, United Kingdom
CATEGORIES:Lunchtime talk
ATTACH;FMTTYPE=image/png:https://stpetersbarge.org/wp-content/uploads/2014/07/Mistake1920x520px.png
END:VEVENT
BEGIN:VEVENT
DTSTART;TZID=Europe/London:20140806T130500
DTEND;TZID=Europe/London:20140806T133500
DTSTAMP:20260425T223044
CREATED:20140616T141800Z
LAST-MODIFIED:20140731T153724Z
UID:1871-1407330300-1407332100@stpetersbarge.org
SUMMARY:Lunchtime talk: How to make the biggest mistake of your life?
DESCRIPTION:How to make the biggest mistake of your life? ( Luke 14:15-24)\nBy Andrew Latimer
URL:https://stpetersbarge.org/bargeevent/lunchtime-talk-how-to-make-the-biggest-mistake-of-your-life/
LOCATION:St Peter’s Barge\, St Peter's Barge\, London\, E14 4AL
CATEGORIES:Lunchtime talk
ATTACH;FMTTYPE=image/png:https://stpetersbarge.org/wp-content/uploads/2014/07/Mistake1920x520px.png
END:VEVENT
BEGIN:VEVENT
DTSTART;TZID=Europe/London:20140731T131500
DTEND;TZID=Europe/London:20140731T134500
DTSTAMP:20260425T223044
CREATED:20140616T141540Z
LAST-MODIFIED:20140716T132403Z
UID:1870-1406812500-1406814300@stpetersbarge.org
SUMMARY:Lunchtime talk: ...in an unbeliever's crisis?
DESCRIPTION:…in an unbeliever’s crisis? (Genesis 41)\nBy Andrew Latimer
URL:https://stpetersbarge.org/bargeevent/lunchtime-talk-in-an-unbelievers-crisis-3/
LOCATION:St Peter’s Barge\, St Peter's Barge\, London\, E14 4AL
CATEGORIES:Lunchtime talk
ATTACH;FMTTYPE=image/png:https://stpetersbarge.org/wp-content/uploads/2014/06/Where-2-WEB.png
END:VEVENT
BEGIN:VEVENT
DTSTART;TZID=Europe/London:20140731T121500
DTEND;TZID=Europe/London:20140731T124500
DTSTAMP:20260425T223044
CREATED:20140616T141454Z
LAST-MODIFIED:20140716T132426Z
UID:1869-1406808900-1406810700@stpetersbarge.org
SUMMARY:Lunchtime talk: ...in an unbeliever's crisis?
DESCRIPTION:…in an unbeliever’s crisis? (Genesis 41)\nBy Andrew Latimer
URL:https://stpetersbarge.org/bargeevent/lunchtime-talk-in-an-unbelievers-crisis-2/
LOCATION:Idea Store – Churchill Place\, Idea Store\, Churchill Place Shopping Mall\, London\, E14 5RB\, United Kingdom
CATEGORIES:Lunchtime talk
ATTACH;FMTTYPE=image/png:https://stpetersbarge.org/wp-content/uploads/2014/06/Where-2-WEB.png
END:VEVENT
BEGIN:VEVENT
DTSTART;TZID=Europe/London:20140730T130500
DTEND;TZID=Europe/London:20140730T133500
DTSTAMP:20260425T223044
CREATED:20140616T141404Z
LAST-MODIFIED:20140716T132509Z
UID:1868-1406725500-1406727300@stpetersbarge.org
SUMMARY:Lunchtime talk: ...in an unbeliever's crisis?
DESCRIPTION:…in an unbeliever’s crisis? (Genesis 41)\nBy Andrew Latimer
URL:https://stpetersbarge.org/bargeevent/lunchtime-talk-in-an-unbelievers-crisis/
LOCATION:St Peter’s Barge\, St Peter's Barge\, London\, E14 4AL
CATEGORIES:Lunchtime talk
ATTACH;FMTTYPE=image/png:https://stpetersbarge.org/wp-content/uploads/2014/06/Where-2-WEB.png
END:VEVENT
BEGIN:VEVENT
DTSTART;TZID=Europe/London:20140724T131500
DTEND;TZID=Europe/London:20140724T134500
DTSTAMP:20260425T223044
CREATED:20140616T141145Z
LAST-MODIFIED:20140716T132319Z
UID:1867-1406207700-1406209500@stpetersbarge.org
SUMMARY:Lunchtime talk: ...in a believer's crisis?
DESCRIPTION:…in a believer’s crisis?  (Genesis 40) \nBy Andrew Latimer
URL:https://stpetersbarge.org/bargeevent/lunchtime-talk-in-a-believers-crisis-3/
LOCATION:St Peter’s Barge\, St Peter's Barge\, London\, E14 4AL
CATEGORIES:Lunchtime talk
ATTACH;FMTTYPE=image/png:https://stpetersbarge.org/wp-content/uploads/2014/06/Where-1-WEB.png
END:VEVENT
BEGIN:VEVENT
DTSTART;TZID=Europe/London:20140724T121500
DTEND;TZID=Europe/London:20140724T124500
DTSTAMP:20260425T223044
CREATED:20140616T141059Z
LAST-MODIFIED:20140716T132250Z
UID:1866-1406204100-1406205900@stpetersbarge.org
SUMMARY:Lunchtime talk: ...in a believer's crisis?
DESCRIPTION:…in a believer’s crisis?  (Genesis 40) \nBy Andrew Latimer
URL:https://stpetersbarge.org/bargeevent/lunchtime-talk-in-a-believers-crisis-2/
LOCATION:Idea Store – Churchill Place\, Idea Store\, Churchill Place Shopping Mall\, London\, E14 5RB\, United Kingdom
CATEGORIES:Lunchtime talk
ATTACH;FMTTYPE=image/png:https://stpetersbarge.org/wp-content/uploads/2014/06/Where-1-WEB.png
END:VEVENT
END:VCALENDAR