BEGIN:VCALENDAR
VERSION:2.0
PRODID:-//St Peter&#039;s Barge - ECPv6.15.20//NONSGML v1.0//EN
CALSCALE:GREGORIAN
METHOD:PUBLISH
X-ORIGINAL-URL:https://stpetersbarge.org
X-WR-CALDESC:Events for St Peter&#039;s Barge
REFRESH-INTERVAL;VALUE=DURATION:PT1H
X-Robots-Tag:noindex
X-PUBLISHED-TTL:PT1H
BEGIN:VTIMEZONE
TZID:Europe/London
BEGIN:DAYLIGHT
TZOFFSETFROM:+0000
TZOFFSETTO:+0100
TZNAME:BST
DTSTART:20130331T010000
END:DAYLIGHT
BEGIN:STANDARD
TZOFFSETFROM:+0100
TZOFFSETTO:+0000
TZNAME:GMT
DTSTART:20131027T010000
END:STANDARD
BEGIN:DAYLIGHT
TZOFFSETFROM:+0000
TZOFFSETTO:+0100
TZNAME:BST
DTSTART:20140330T010000
END:DAYLIGHT
BEGIN:STANDARD
TZOFFSETFROM:+0100
TZOFFSETTO:+0000
TZNAME:GMT
DTSTART:20141026T010000
END:STANDARD
BEGIN:DAYLIGHT
TZOFFSETFROM:+0000
TZOFFSETTO:+0100
TZNAME:BST
DTSTART:20150329T010000
END:DAYLIGHT
BEGIN:STANDARD
TZOFFSETFROM:+0100
TZOFFSETTO:+0000
TZNAME:GMT
DTSTART:20151025T010000
END:STANDARD
END:VTIMEZONE
BEGIN:VEVENT
DTSTART;TZID=Europe/London:20140814T121500
DTEND;TZID=Europe/London:20140814T124500
DTSTAMP:20260426T010420
CREATED:20140718T154422Z
LAST-MODIFIED:20140808T094252Z
UID:1996-1408018500-1408020300@stpetersbarge.org
SUMMARY:Lunchtime talk: Christian Basics
DESCRIPTION:Standing for Christ (Luke 12:8-12)\nSpeaker: David Rue
URL:https://stpetersbarge.org/bargeevent/lunchtime-talk-christian-basics-2/
LOCATION:Idea Store – Churchill Place\, Idea Store\, Churchill Place Shopping Mall\, London\, E14 5RB\, United Kingdom
CATEGORIES:Lunchtime talk
ATTACH;FMTTYPE=image/png:https://stpetersbarge.org/wp-content/uploads/2014/07/Standing1920x520px.png
END:VEVENT
BEGIN:VEVENT
DTSTART;TZID=Europe/London:20140813T130500
DTEND;TZID=Europe/London:20140813T133500
DTSTAMP:20260426T010420
CREATED:20140718T154328Z
LAST-MODIFIED:20140808T094224Z
UID:1995-1407935100-1407936900@stpetersbarge.org
SUMMARY:Lunchtime talk: Christian Basics
DESCRIPTION:Standing for Christ (Luke 12:8-12)\nSpeaker: David Rue
URL:https://stpetersbarge.org/bargeevent/lunchtime-talk-christian-basics/
LOCATION:St Peter’s Barge\, St Peter's Barge\, London\, E14 4AL
CATEGORIES:Lunchtime talk
ATTACH;FMTTYPE=image/png:https://stpetersbarge.org/wp-content/uploads/2014/07/Standing1920x520px.png
END:VEVENT
BEGIN:VEVENT
DTSTART;TZID=Europe/London:20140807T131500
DTEND;TZID=Europe/London:20140807T134500
DTSTAMP:20260426T010420
CREATED:20140616T141938Z
LAST-MODIFIED:20140731T153820Z
UID:1873-1407417300-1407419100@stpetersbarge.org
SUMMARY:Lunchtime talk: How to make the biggest mistake of your life?
DESCRIPTION:How to make the biggest mistake of your life? ( Luke 14:15-24)\nBy Andrew Latimer
URL:https://stpetersbarge.org/bargeevent/lunchtime-talk-how-to-make-the-biggest-mistake-of-your-life-3/
LOCATION:St Peter’s Barge\, St Peter's Barge\, London\, E14 4AL
CATEGORIES:Lunchtime talk
ATTACH;FMTTYPE=image/png:https://stpetersbarge.org/wp-content/uploads/2014/07/Mistake1920x520px.png
END:VEVENT
BEGIN:VEVENT
DTSTART;TZID=Europe/London:20140807T121500
DTEND;TZID=Europe/London:20140807T124500
DTSTAMP:20260426T010420
CREATED:20140616T141850Z
LAST-MODIFIED:20140731T153750Z
UID:1872-1407413700-1407415500@stpetersbarge.org
SUMMARY:Lunchtime talk: How to make the biggest mistake of your life?
DESCRIPTION:How to make the biggest mistake of your life? ( Luke 14:15-24)\nBy Andrew Latimer
URL:https://stpetersbarge.org/bargeevent/lunchtime-talk-how-to-make-the-biggest-mistake-of-your-life-2/
LOCATION:Idea Store – Churchill Place\, Idea Store\, Churchill Place Shopping Mall\, London\, E14 5RB\, United Kingdom
CATEGORIES:Lunchtime talk
ATTACH;FMTTYPE=image/png:https://stpetersbarge.org/wp-content/uploads/2014/07/Mistake1920x520px.png
END:VEVENT
BEGIN:VEVENT
DTSTART;TZID=Europe/London:20140806T130500
DTEND;TZID=Europe/London:20140806T133500
DTSTAMP:20260426T010420
CREATED:20140616T141800Z
LAST-MODIFIED:20140731T153724Z
UID:1871-1407330300-1407332100@stpetersbarge.org
SUMMARY:Lunchtime talk: How to make the biggest mistake of your life?
DESCRIPTION:How to make the biggest mistake of your life? ( Luke 14:15-24)\nBy Andrew Latimer
URL:https://stpetersbarge.org/bargeevent/lunchtime-talk-how-to-make-the-biggest-mistake-of-your-life/
LOCATION:St Peter’s Barge\, St Peter's Barge\, London\, E14 4AL
CATEGORIES:Lunchtime talk
ATTACH;FMTTYPE=image/png:https://stpetersbarge.org/wp-content/uploads/2014/07/Mistake1920x520px.png
END:VEVENT
BEGIN:VEVENT
DTSTART;TZID=Europe/London:20140731T131500
DTEND;TZID=Europe/London:20140731T134500
DTSTAMP:20260426T010420
CREATED:20140616T141540Z
LAST-MODIFIED:20140716T132403Z
UID:1870-1406812500-1406814300@stpetersbarge.org
SUMMARY:Lunchtime talk: ...in an unbeliever's crisis?
DESCRIPTION:…in an unbeliever’s crisis? (Genesis 41)\nBy Andrew Latimer
URL:https://stpetersbarge.org/bargeevent/lunchtime-talk-in-an-unbelievers-crisis-3/
LOCATION:St Peter’s Barge\, St Peter's Barge\, London\, E14 4AL
CATEGORIES:Lunchtime talk
ATTACH;FMTTYPE=image/png:https://stpetersbarge.org/wp-content/uploads/2014/06/Where-2-WEB.png
END:VEVENT
BEGIN:VEVENT
DTSTART;TZID=Europe/London:20140731T121500
DTEND;TZID=Europe/London:20140731T124500
DTSTAMP:20260426T010420
CREATED:20140616T141454Z
LAST-MODIFIED:20140716T132426Z
UID:1869-1406808900-1406810700@stpetersbarge.org
SUMMARY:Lunchtime talk: ...in an unbeliever's crisis?
DESCRIPTION:…in an unbeliever’s crisis? (Genesis 41)\nBy Andrew Latimer
URL:https://stpetersbarge.org/bargeevent/lunchtime-talk-in-an-unbelievers-crisis-2/
LOCATION:Idea Store – Churchill Place\, Idea Store\, Churchill Place Shopping Mall\, London\, E14 5RB\, United Kingdom
CATEGORIES:Lunchtime talk
ATTACH;FMTTYPE=image/png:https://stpetersbarge.org/wp-content/uploads/2014/06/Where-2-WEB.png
END:VEVENT
BEGIN:VEVENT
DTSTART;TZID=Europe/London:20140730T130500
DTEND;TZID=Europe/London:20140730T133500
DTSTAMP:20260426T010420
CREATED:20140616T141404Z
LAST-MODIFIED:20140716T132509Z
UID:1868-1406725500-1406727300@stpetersbarge.org
SUMMARY:Lunchtime talk: ...in an unbeliever's crisis?
DESCRIPTION:…in an unbeliever’s crisis? (Genesis 41)\nBy Andrew Latimer
URL:https://stpetersbarge.org/bargeevent/lunchtime-talk-in-an-unbelievers-crisis/
LOCATION:St Peter’s Barge\, St Peter's Barge\, London\, E14 4AL
CATEGORIES:Lunchtime talk
ATTACH;FMTTYPE=image/png:https://stpetersbarge.org/wp-content/uploads/2014/06/Where-2-WEB.png
END:VEVENT
BEGIN:VEVENT
DTSTART;TZID=Europe/London:20140724T131500
DTEND;TZID=Europe/London:20140724T134500
DTSTAMP:20260426T010420
CREATED:20140616T141145Z
LAST-MODIFIED:20140716T132319Z
UID:1867-1406207700-1406209500@stpetersbarge.org
SUMMARY:Lunchtime talk: ...in a believer's crisis?
DESCRIPTION:…in a believer’s crisis?  (Genesis 40) \nBy Andrew Latimer
URL:https://stpetersbarge.org/bargeevent/lunchtime-talk-in-a-believers-crisis-3/
LOCATION:St Peter’s Barge\, St Peter's Barge\, London\, E14 4AL
CATEGORIES:Lunchtime talk
ATTACH;FMTTYPE=image/png:https://stpetersbarge.org/wp-content/uploads/2014/06/Where-1-WEB.png
END:VEVENT
BEGIN:VEVENT
DTSTART;TZID=Europe/London:20140724T121500
DTEND;TZID=Europe/London:20140724T124500
DTSTAMP:20260426T010420
CREATED:20140616T141059Z
LAST-MODIFIED:20140716T132250Z
UID:1866-1406204100-1406205900@stpetersbarge.org
SUMMARY:Lunchtime talk: ...in a believer's crisis?
DESCRIPTION:…in a believer’s crisis?  (Genesis 40) \nBy Andrew Latimer
URL:https://stpetersbarge.org/bargeevent/lunchtime-talk-in-a-believers-crisis-2/
LOCATION:Idea Store – Churchill Place\, Idea Store\, Churchill Place Shopping Mall\, London\, E14 5RB\, United Kingdom
CATEGORIES:Lunchtime talk
ATTACH;FMTTYPE=image/png:https://stpetersbarge.org/wp-content/uploads/2014/06/Where-1-WEB.png
END:VEVENT
BEGIN:VEVENT
DTSTART;TZID=Europe/London:20140723T130500
DTEND;TZID=Europe/London:20140723T133500
DTSTAMP:20260426T010420
CREATED:20140616T141002Z
LAST-MODIFIED:20140716T132144Z
UID:1865-1406120700-1406122500@stpetersbarge.org
SUMMARY:Lunchtime talk: ...in a believer's crisis?
DESCRIPTION:…in a believer’s crisis?  (Genesis 40) \nBy Andrew Latimer
URL:https://stpetersbarge.org/bargeevent/lunchtime-talk-in-a-believers-crisis/
LOCATION:St Peter’s Barge\, St Peter's Barge\, London\, E14 4AL
CATEGORIES:Lunchtime talk
ATTACH;FMTTYPE=image/png:https://stpetersbarge.org/wp-content/uploads/2014/06/Where-1-WEB.png
END:VEVENT
BEGIN:VEVENT
DTSTART;TZID=Europe/London:20140716T130500
DTEND;TZID=Europe/London:20140716T133500
DTSTAMP:20260426T010420
CREATED:20140602T154524Z
LAST-MODIFIED:20140602T154726Z
UID:1829-1405515900-1405517700@stpetersbarge.org
SUMMARY:No Lunchtime talk today
DESCRIPTION:No Lunchtime talk today
URL:https://stpetersbarge.org/bargeevent/no-lunchtime-talk-today-3/
CATEGORIES:Lunchtime talk
END:VEVENT
BEGIN:VEVENT
DTSTART;TZID=Europe/London:20140710T131500
DTEND;TZID=Europe/London:20140710T134500
DTSTAMP:20260426T010420
CREATED:20140529T155824Z
LAST-MODIFIED:20140617T140957Z
UID:1818-1404998100-1404999900@stpetersbarge.org
SUMMARY:Lunchtime talk: Noah\, part 2
DESCRIPTION:Noah Part 2\nSpeaker: Andrew Latimer
URL:https://stpetersbarge.org/bargeevent/lunchtime-talk-noah-part-2-3/
LOCATION:St Peter’s Barge\, St Peter's Barge\, London\, E14 4AL
CATEGORIES:Lunchtime talk
ATTACH;FMTTYPE=image/jpeg:https://stpetersbarge.org/wp-content/uploads/2014/05/Noah1920x520px.jpg
END:VEVENT
BEGIN:VEVENT
DTSTART;TZID=Europe/London:20140710T121500
DTEND;TZID=Europe/London:20140710T124500
DTSTAMP:20260426T010420
CREATED:20140529T155730Z
LAST-MODIFIED:20140617T140934Z
UID:1817-1404994500-1404996300@stpetersbarge.org
SUMMARY:Lunchtime talk: Noah\, part 2
DESCRIPTION:Noah Part 2\nSpeaker: Andrew Latimer
URL:https://stpetersbarge.org/bargeevent/lunchtime-talk-noah-part-2-2/
LOCATION:Idea Store – Churchill Place\, Idea Store\, Churchill Place Shopping Mall\, London\, E14 5RB\, United Kingdom
CATEGORIES:Lunchtime talk
ATTACH;FMTTYPE=image/jpeg:https://stpetersbarge.org/wp-content/uploads/2014/05/Noah1920x520px.jpg
END:VEVENT
BEGIN:VEVENT
DTSTART;TZID=Europe/London:20140709T130500
DTEND;TZID=Europe/London:20140709T133500
DTSTAMP:20260426T010420
CREATED:20140529T155639Z
LAST-MODIFIED:20140617T140908Z
UID:1816-1404911100-1404912900@stpetersbarge.org
SUMMARY:Lunchtime talk: Noah\, part 2
DESCRIPTION:Noah Part 2\nSpeaker: Andrew Latimer
URL:https://stpetersbarge.org/bargeevent/lunchtime-talk-noah-part-2/
LOCATION:St Peter’s Barge\, St Peter's Barge\, London\, E14 4AL
CATEGORIES:Lunchtime talk
ATTACH;FMTTYPE=image/jpeg:https://stpetersbarge.org/wp-content/uploads/2014/05/Noah1920x520px.jpg
END:VEVENT
BEGIN:VEVENT
DTSTART;TZID=Europe/London:20140703T131500
DTEND;TZID=Europe/London:20140703T134500
DTSTAMP:20260426T010420
CREATED:20140529T155519Z
LAST-MODIFIED:20140617T140841Z
UID:1815-1404393300-1404395100@stpetersbarge.org
SUMMARY:Lunchtime talk: Noah\, part 1
DESCRIPTION:Noah Part1\nSpeaker: Andrew Latimer
URL:https://stpetersbarge.org/bargeevent/lunchtime-talk-noah-part-1-3/
LOCATION:St Peter’s Barge\, St Peter's Barge\, London\, E14 4AL
CATEGORIES:Lunchtime talk
ATTACH;FMTTYPE=image/jpeg:https://stpetersbarge.org/wp-content/uploads/2014/05/Noah1920x520px.jpg
END:VEVENT
BEGIN:VEVENT
DTSTART;TZID=Europe/London:20140703T121500
DTEND;TZID=Europe/London:20140703T124500
DTSTAMP:20260426T010420
CREATED:20140529T155422Z
LAST-MODIFIED:20140617T140800Z
UID:1814-1404389700-1404391500@stpetersbarge.org
SUMMARY:Lunchtime talk: Noah\, part 1
DESCRIPTION:Noah Part 1\nSpeaker: Andrew Latimer
URL:https://stpetersbarge.org/bargeevent/lunchtime-talk-noah-part-1-2/
LOCATION:Idea Store – Churchill Place\, Idea Store\, Churchill Place Shopping Mall\, London\, E14 5RB\, United Kingdom
CATEGORIES:Lunchtime talk
ATTACH;FMTTYPE=image/jpeg:https://stpetersbarge.org/wp-content/uploads/2014/05/Noah1920x520px.jpg
END:VEVENT
BEGIN:VEVENT
DTSTART;TZID=Europe/London:20140702T130500
DTEND;TZID=Europe/London:20140702T133500
DTSTAMP:20260426T010420
CREATED:20140529T155301Z
LAST-MODIFIED:20140617T140727Z
UID:1813-1404306300-1404308100@stpetersbarge.org
SUMMARY:Lunchtime talk: Noah\, part 1
DESCRIPTION:Noah Part 1\nSpeaker: Andrew Latimer
URL:https://stpetersbarge.org/bargeevent/lunchtime-talk-noah-part-1/
LOCATION:St Peter’s Barge\, St Peter's Barge\, London\, E14 4AL
CATEGORIES:Lunchtime talk
ATTACH;FMTTYPE=image/jpeg:https://stpetersbarge.org/wp-content/uploads/2014/05/Noah1920x520px.jpg
END:VEVENT
BEGIN:VEVENT
DTSTART;TZID=Europe/London:20140626T132500
DTEND;TZID=Europe/London:20140626T135000
DTSTAMP:20260426T010420
CREATED:20140603T090603Z
LAST-MODIFIED:20140623T093517Z
UID:1830-1403789100-1403790600@stpetersbarge.org
SUMMARY:Lunchtime talk: Does God even exist?
DESCRIPTION:Does God even exist?\nGuest Speaker:  Glen Scrivener
URL:https://stpetersbarge.org/bargeevent/lunchtime-talk-does-god-even-exist/
LOCATION:South Quay\, 1st floor suite 104\, Harbour Island\, Harbour Exchange Square\, London\, E14 9JX\, United Kingdom
CATEGORIES:Guest Event,Lunchtime talk
ATTACH;FMTTYPE=image/png:https://stpetersbarge.org/wp-content/uploads/2014/06/Exist-WEB2.png
END:VEVENT
BEGIN:VEVENT
DTSTART;TZID=Europe/London:20140626T124500
DTEND;TZID=Europe/London:20140626T131000
DTSTAMP:20260426T010420
CREATED:20140529T110210Z
LAST-MODIFIED:20140623T093438Z
UID:1801-1403786700-1403788200@stpetersbarge.org
SUMMARY:Lunchtime talk: Does God even exist?
DESCRIPTION:Does God even exist?\nGuest Speaker:  Glen Scrivener
URL:https://stpetersbarge.org/bargeevent/one-thing-in-common-does-god-even-exist-2/
LOCATION:Idea Store – Churchill Place\, Idea Store\, Churchill Place Shopping Mall\, London\, E14 5RB\, United Kingdom
CATEGORIES:Guest Event,Lunchtime talk
ATTACH;FMTTYPE=image/png:https://stpetersbarge.org/wp-content/uploads/2014/06/Exist-WEB2.png
END:VEVENT
BEGIN:VEVENT
DTSTART;TZID=Europe/London:20140626T120500
DTEND;TZID=Europe/London:20140626T123000
DTSTAMP:20260426T010420
CREATED:20140529T110118Z
LAST-MODIFIED:20140623T093403Z
UID:1800-1403784300-1403785800@stpetersbarge.org
SUMMARY:Lunchtime talk: Does God even exist?
DESCRIPTION:Does God even exist?\nGuest Speaker:  Glen Scrivener
URL:https://stpetersbarge.org/bargeevent/one-thing-in-common-does-god-even-exist/
LOCATION:St Peter’s Barge\, St Peter's Barge\, London\, E14 4AL
CATEGORIES:Guest Event,Lunchtime talk
ATTACH;FMTTYPE=image/png:https://stpetersbarge.org/wp-content/uploads/2014/06/Exist-WEB2.png
END:VEVENT
BEGIN:VEVENT
DTSTART;VALUE=DATE:20140625
DTEND;VALUE=DATE:20140626
DTSTAMP:20260426T010420
CREATED:20140529T110411Z
LAST-MODIFIED:20140529T110411Z
UID:1802-1403654400-1403740799@stpetersbarge.org
SUMMARY:NO lunchtime talk today
DESCRIPTION:NO lunchtime talk today
URL:https://stpetersbarge.org/bargeevent/no-lunchtime-talk-today-2/
CATEGORIES:Lunchtime talk
END:VEVENT
BEGIN:VEVENT
DTSTART;TZID=Europe/London:20140619T131500
DTEND;TZID=Europe/London:20140619T134500
DTSTAMP:20260426T010420
CREATED:20140528T161358Z
LAST-MODIFIED:20140613T073012Z
UID:1799-1403183700-1403185500@stpetersbarge.org
SUMMARY:Lunchtime talk: Preparing for the last day (Isaiah 2:6-22; 4:1-6)
DESCRIPTION:Ultimate Time Management- Preparing for the last day\nIsaiah 2:6-22; 4:1-6 \nSpeaker: Marcus Nodder
URL:https://stpetersbarge.org/bargeevent/1799/
LOCATION:St Peter’s Barge\, St Peter's Barge\, London\, E14 4AL
CATEGORIES:Lunchtime talk
ATTACH;FMTTYPE=image/png:https://stpetersbarge.org/wp-content/uploads/2014/05/Time-WEB2.png
END:VEVENT
BEGIN:VEVENT
DTSTART;TZID=Europe/London:20140619T121500
DTEND;TZID=Europe/London:20140619T124500
DTSTAMP:20260426T010420
CREATED:20140528T161314Z
LAST-MODIFIED:20140613T073124Z
UID:1798-1403180100-1403181900@stpetersbarge.org
SUMMARY:Lunchtime talk: Preparing for the last day (Isaiah 2:6-22; 4:1-6)
DESCRIPTION:Ultimate Time Management- Preparing for the last day\nIsaiah 2:6-22; 4:1-6 \nSpeaker: Marcus Nodder
URL:https://stpetersbarge.org/bargeevent/lunchtime-talk-preparing-for-the-last-day-isaiah-26-22-41-6-2/
LOCATION:Idea Store – Churchill Place\, Idea Store\, Churchill Place Shopping Mall\, London\, E14 5RB\, United Kingdom
CATEGORIES:Lunchtime talk
ATTACH;FMTTYPE=image/png:https://stpetersbarge.org/wp-content/uploads/2014/05/Time-WEB2.png
END:VEVENT
BEGIN:VEVENT
DTSTART;TZID=Europe/London:20140618T130500
DTEND;TZID=Europe/London:20140618T133500
DTSTAMP:20260426T010420
CREATED:20140528T161219Z
LAST-MODIFIED:20140613T073154Z
UID:1797-1403096700-1403098500@stpetersbarge.org
SUMMARY:Lunchtime talk: Preparing for the last day (Isaiah 2:6-22; 4:1-6)
DESCRIPTION:Ultimate Time Management- Preparing for the last day\nIsaiah 2:6-22; 4:1-6 \nSpeaker: Marcus Nodder
URL:https://stpetersbarge.org/bargeevent/lunchtime-talk-preparing-for-the-last-day-isaiah-26-22-41-6/
LOCATION:St Peter’s Barge\, St Peter's Barge\, London\, E14 4AL
CATEGORIES:Lunchtime talk
ATTACH;FMTTYPE=image/png:https://stpetersbarge.org/wp-content/uploads/2014/05/Time-WEB2.png
END:VEVENT
BEGIN:VEVENT
DTSTART;TZID=Europe/London:20140612T131500
DTEND;TZID=Europe/London:20140612T134500
DTSTAMP:20260426T010420
CREATED:20140528T160750Z
LAST-MODIFIED:20140604T091431Z
UID:1796-1402578900-1402580700@stpetersbarge.org
SUMMARY:Lunchtime talk: Living in the last days (Isaiah 2:1-5)
DESCRIPTION:Ultimate Time Management–\nLiving in the last days\nIsaiah 2:1-5\nSpeaker: Marcus Nodder
URL:https://stpetersbarge.org/bargeevent/lunchtime-talk-living-in-the-last-days-isaiah-21-5-3/
LOCATION:St Peter’s Barge\, St Peter's Barge\, London\, E14 4AL
CATEGORIES:Lunchtime talk
END:VEVENT
BEGIN:VEVENT
DTSTART;TZID=Europe/London:20140612T121500
DTEND;TZID=Europe/London:20140612T124500
DTSTAMP:20260426T010420
CREATED:20140528T160635Z
LAST-MODIFIED:20140604T091454Z
UID:1795-1402575300-1402577100@stpetersbarge.org
SUMMARY:Lunchtime talk: Living in the last days (Isaiah 2:1-5)
DESCRIPTION:Ultimate Time Management–\nLiving in the last days\nIsaiah 2:1-5\nSpeaker: Marcus Nodder
URL:https://stpetersbarge.org/bargeevent/lunchtime-talk-living-in-the-last-days-isaiah-21-5-2/
LOCATION:Idea Store – Churchill Place\, Idea Store\, Churchill Place Shopping Mall\, London\, E14 5RB\, United Kingdom
CATEGORIES:Lunchtime talk
END:VEVENT
BEGIN:VEVENT
DTSTART;TZID=Europe/London:20140611T130500
DTEND;TZID=Europe/London:20140611T133500
DTSTAMP:20260426T010420
CREATED:20140528T160512Z
LAST-MODIFIED:20140604T091512Z
UID:1794-1402491900-1402493700@stpetersbarge.org
SUMMARY:Lunchtime talk: Living in the last days (Isaiah 2:1-5)
DESCRIPTION:Ultimate Time Management–\nLiving in the last days\nIsaiah 2:1-5\nSpeaker: Marcus Nodder
URL:https://stpetersbarge.org/bargeevent/lunchtime-talk-living-in-the-last-days-isaiah-21-5/
LOCATION:St Peter’s Barge\, St Peter's Barge\, London\, E14 4AL
CATEGORIES:Lunchtime talk
END:VEVENT
BEGIN:VEVENT
DTSTART;TZID=Europe/London:20140605T131500
DTEND;TZID=Europe/London:20140605T134500
DTSTAMP:20260426T010420
CREATED:20140528T155108Z
LAST-MODIFIED:20140601T144109Z
UID:1791-1401974100-1401975900@stpetersbarge.org
SUMMARY:Lunchtime Talk: Authentic Spirituality – Living it!
DESCRIPTION:AUTHENTIC SPIRITUALITY – EXPERIENCING IT!\nJOHN 13:1-30\nSpeaker: Andrew Latimer
URL:https://stpetersbarge.org/bargeevent/lunchtime-talk-authentic-spirituality-living-it-3/
LOCATION:St Peter’s Barge\, St Peter's Barge\, London\, E14 4AL
CATEGORIES:Lunchtime talk
ATTACH;FMTTYPE=image/png:https://stpetersbarge.org/wp-content/uploads/2014/04/Spirituality-WEB-2.png
END:VEVENT
BEGIN:VEVENT
DTSTART;TZID=Europe/London:20140605T121500
DTEND;TZID=Europe/London:20140605T124500
DTSTAMP:20260426T010420
CREATED:20140528T155009Z
LAST-MODIFIED:20140601T143546Z
UID:1790-1401970500-1401972300@stpetersbarge.org
SUMMARY:Lunchtime Talk: Authentic Spirituality – Living it!
DESCRIPTION:AUTHENTIC SPIRITUALITY – LIVING IT!\nJOHN 13:31-38\nSpeaker: Andrew Latimer
URL:https://stpetersbarge.org/bargeevent/lunchtime-talk-authentic-spirituality-living-it-2/
LOCATION:Idea Store – Churchill Place\, Idea Store\, Churchill Place Shopping Mall\, London\, E14 5RB\, United Kingdom
CATEGORIES:Lunchtime talk
ATTACH;FMTTYPE=image/png:https://stpetersbarge.org/wp-content/uploads/2014/04/Spirituality-WEB-2.png
END:VEVENT
END:VCALENDAR