BEGIN:VCALENDAR
VERSION:2.0
PRODID:-//St Peter&#039;s Barge - ECPv6.15.20//NONSGML v1.0//EN
CALSCALE:GREGORIAN
METHOD:PUBLISH
X-ORIGINAL-URL:https://stpetersbarge.org
X-WR-CALDESC:Events for St Peter&#039;s Barge
REFRESH-INTERVAL;VALUE=DURATION:PT1H
X-Robots-Tag:noindex
X-PUBLISHED-TTL:PT1H
BEGIN:VTIMEZONE
TZID:Europe/London
BEGIN:DAYLIGHT
TZOFFSETFROM:+0000
TZOFFSETTO:+0100
TZNAME:BST
DTSTART:20130331T010000
END:DAYLIGHT
BEGIN:STANDARD
TZOFFSETFROM:+0100
TZOFFSETTO:+0000
TZNAME:GMT
DTSTART:20131027T010000
END:STANDARD
BEGIN:DAYLIGHT
TZOFFSETFROM:+0000
TZOFFSETTO:+0100
TZNAME:BST
DTSTART:20140330T010000
END:DAYLIGHT
BEGIN:STANDARD
TZOFFSETFROM:+0100
TZOFFSETTO:+0000
TZNAME:GMT
DTSTART:20141026T010000
END:STANDARD
BEGIN:DAYLIGHT
TZOFFSETFROM:+0000
TZOFFSETTO:+0100
TZNAME:BST
DTSTART:20150329T010000
END:DAYLIGHT
BEGIN:STANDARD
TZOFFSETFROM:+0100
TZOFFSETTO:+0000
TZNAME:GMT
DTSTART:20151025T010000
END:STANDARD
BEGIN:DAYLIGHT
TZOFFSETFROM:+0000
TZOFFSETTO:+0100
TZNAME:BST
DTSTART:20160327T010000
END:DAYLIGHT
BEGIN:STANDARD
TZOFFSETFROM:+0100
TZOFFSETTO:+0000
TZNAME:GMT
DTSTART:20161030T010000
END:STANDARD
BEGIN:DAYLIGHT
TZOFFSETFROM:+0000
TZOFFSETTO:+0100
TZNAME:BST
DTSTART:20170326T010000
END:DAYLIGHT
BEGIN:STANDARD
TZOFFSETFROM:+0100
TZOFFSETTO:+0000
TZNAME:GMT
DTSTART:20171029T010000
END:STANDARD
END:VTIMEZONE
BEGIN:VEVENT
DTSTART;TZID=Europe/London:20160421T193000
DTEND;TZID=Europe/London:20160421T213000
DTSTAMP:20260422T154048
CREATED:20150812T104229Z
LAST-MODIFIED:20150812T104229Z
UID:3543-1461267000-1461274200@stpetersbarge.org
SUMMARY:M.A.N.
DESCRIPTION:Men’s Activity Night is a great opportunity for men to get together\, enjoy some banter and break out the skills around table tennis\, darts\, table football and much more. To fuel such extreme activities we bring in some take-away pizza for all to share! Its informal\, relaxed and above all fun\, and is an open event to christians and non-christians alike. Each event brings with it the prestigious M.A.N. of the month trophy. Are you man enough?
URL:https://stpetersbarge.org/bargeevent/m-a-n-11/
LOCATION:St Peter’s Barge\, St Peter's Barge\, London\, E14 4AL
CATEGORIES:M.A.N.
ATTACH;FMTTYPE=image/jpeg:https://stpetersbarge.org/wp-content/uploads/2014/02/man-banner.jpg
END:VEVENT
BEGIN:VEVENT
DTSTART;TZID=Europe/London:20151022T193000
DTEND;TZID=Europe/London:20151022T213000
DTSTAMP:20260422T154049
CREATED:20150812T103931Z
LAST-MODIFIED:20150812T103931Z
UID:3540-1445542200-1445549400@stpetersbarge.org
SUMMARY:M.A.N.
DESCRIPTION:Men’s Activity Night is a great opportunity for men to get together\, enjoy some banter and break out the skills around table tennis\, darts\, table football and much more. To fuel such extreme activities we bring in some take-away pizza for all to share! Its informal\, relaxed and above all fun\, and is an open event to christians and non-christians alike. Each event brings with it the prestigious M.A.N. of the month trophy. Are you man enough?
URL:https://stpetersbarge.org/bargeevent/m-a-n-7/
LOCATION:St Peter’s Barge\, St Peter's Barge\, London\, E14 4AL
CATEGORIES:M.A.N.
ATTACH;FMTTYPE=image/jpeg:https://stpetersbarge.org/wp-content/uploads/2014/02/man-banner.jpg
END:VEVENT
BEGIN:VEVENT
DTSTART;TZID=Europe/London:20150723T073000
DTEND;TZID=Europe/London:20150723T213000
DTSTAMP:20260422T154049
CREATED:20140731T142203Z
LAST-MODIFIED:20150713T150450Z
UID:2051-1437636600-1437687000@stpetersbarge.org
SUMMARY:M.A.N.
DESCRIPTION:Men’s Activity Night is a great opportunity for men to get together\, enjoy some banter and break out the skills around table tennis\, darts\, table football and much more. To fuel such extreme activities we bring in some take-away pizza for all to share! Its informal\, relaxed and above all fun\, and is an open event to christians and non-christians alike. Each event brings with it the prestigious M.A.N. of the month trophy. Are you man enough?
URL:https://stpetersbarge.org/bargeevent/m-a-n-9/
LOCATION:St Peter’s Barge\, St Peter's Barge\, London\, E14 4AL
CATEGORIES:M.A.N.
ATTACH;FMTTYPE=image/jpeg:https://stpetersbarge.org/wp-content/uploads/2014/02/man-banner.jpg
END:VEVENT
BEGIN:VEVENT
DTSTART;TZID=Europe/London:20150430T193000
DTEND;TZID=Europe/London:20150430T213000
DTSTAMP:20260422T154049
CREATED:20150311T151804Z
LAST-MODIFIED:20150311T151804Z
UID:2845-1430422200-1430429400@stpetersbarge.org
SUMMARY:M.A.N.
DESCRIPTION:Men’s Activity Night is a great opportunity for men to get together\, enjoy some banter and break out the skills around table tennis\, darts\, table football and much more. To fuel such extreme activities we bring in some take-away pizza for all to share! Its informal\, relaxed and above all fun\, and is an open event to christians and non-christians alike. Each event brings with it the prestigious M.A.N. of the month trophy. Are you man enough?
URL:https://stpetersbarge.org/bargeevent/m-a-n-5/
LOCATION:St Peter’s Barge\, St Peter's Barge\, London\, E14 4AL
CATEGORIES:M.A.N.
ATTACH;FMTTYPE=image/jpeg:https://stpetersbarge.org/wp-content/uploads/2014/02/man-banner.jpg
END:VEVENT
BEGIN:VEVENT
DTSTART;TZID=Europe/London:20150122T193000
DTEND;TZID=Europe/London:20150122T213000
DTSTAMP:20260422T154049
CREATED:20140731T141737Z
LAST-MODIFIED:20140731T141825Z
UID:2047-1421955000-1421962200@stpetersbarge.org
SUMMARY:M.A.N.
DESCRIPTION:Men’s Activity Night is a great opportunity for men to get together\, enjoy some banter and break out the skills around table tennis\, darts\, table football and much more. To fuel such extreme activities we bring in some take-away pizza for all to share! Its informal\, relaxed and above all fun\, and is an open event to christians and non-christians alike. \nEach event brings with it the prestigious M.A.N. of the month trophy. Are you man enough?
URL:https://stpetersbarge.org/bargeevent/m-a-n-6/
LOCATION:St Peter’s Barge\, St Peter's Barge\, London\, E14 4AL
CATEGORIES:M.A.N.
ATTACH;FMTTYPE=image/jpeg:https://stpetersbarge.org/wp-content/uploads/2014/02/man-banner.jpg
END:VEVENT
BEGIN:VEVENT
DTSTART;TZID=Europe/London:20140925T193000
DTEND;TZID=Europe/London:20140925T213000
DTSTAMP:20260422T154049
CREATED:20140731T115940Z
LAST-MODIFIED:20140731T120044Z
UID:2045-1411673400-1411680600@stpetersbarge.org
SUMMARY:M.A.N.
DESCRIPTION:Men’s Activity Night is a great opportunity for men to get together\, enjoy some banter and break out the skills around table tennis\, darts\, table football and much more. To fuel such extreme activities we bring in some take-away pizza for all to share! Its informal\, relaxed and above all fun\, and is an open event to christians and non-christians alike. \nEach event brings with it the prestigious M.A.N. of the month trophy. Are you man enough?
URL:https://stpetersbarge.org/bargeevent/m-a-n-4/
LOCATION:St Peter’s Barge\, St Peter's Barge\, London\, E14 4AL
CATEGORIES:M.A.N.
ATTACH;FMTTYPE=image/jpeg:https://stpetersbarge.org/wp-content/uploads/2014/02/man-banner.jpg
END:VEVENT
BEGIN:VEVENT
DTSTART;TZID=Europe/London:20140724T190000
DTEND;TZID=Europe/London:20140724T213000
DTSTAMP:20260422T154049
CREATED:20140616T161340Z
LAST-MODIFIED:20140616T161340Z
UID:1878-1406228400-1406237400@stpetersbarge.org
SUMMARY:M.A.N.
DESCRIPTION:
URL:https://stpetersbarge.org/bargeevent/m-a-n-3/
LOCATION:St Peter’s Barge\, St Peter's Barge\, London\, E14 4AL
CATEGORIES:M.A.N.
ATTACH;FMTTYPE=image/jpeg:https://stpetersbarge.org/wp-content/uploads/2014/02/man-banner.jpg
END:VEVENT
BEGIN:VEVENT
DTSTART;TZID=Europe/London:20140515T190000
DTEND;TZID=Europe/London:20140515T213000
DTSTAMP:20260422T154049
CREATED:20140221T122006Z
LAST-MODIFIED:20140221T122006Z
UID:1384-1400180400-1400189400@stpetersbarge.org
SUMMARY:M.A.N.
DESCRIPTION:
URL:https://stpetersbarge.org/bargeevent/m-a-n-2/
LOCATION:St Peter’s Barge\, St Peter's Barge\, London\, E14 4AL
CATEGORIES:M.A.N.
ATTACH;FMTTYPE=image/jpeg:https://stpetersbarge.org/wp-content/uploads/2014/02/man-banner.jpg
END:VEVENT
BEGIN:VEVENT
DTSTART;TZID=Europe/London:20140320T190000
DTEND;TZID=Europe/London:20140320T213000
DTSTAMP:20260422T154049
CREATED:20140221T121737Z
LAST-MODIFIED:20140221T121915Z
UID:1382-1395342000-1395351000@stpetersbarge.org
SUMMARY:M.A.N.
DESCRIPTION:
URL:https://stpetersbarge.org/bargeevent/m-a-n/
LOCATION:St Peter’s Barge\, St Peter's Barge\, London\, E14 4AL
CATEGORIES:M.A.N.
ATTACH;FMTTYPE=image/jpeg:https://stpetersbarge.org/wp-content/uploads/2014/02/man-banner.jpg
END:VEVENT
END:VCALENDAR