BEGIN:VCALENDAR
VERSION:2.0
PRODID:-//St Peter&#039;s Barge - ECPv6.15.20//NONSGML v1.0//EN
CALSCALE:GREGORIAN
METHOD:PUBLISH
X-WR-CALNAME:St Peter&#039;s Barge
X-ORIGINAL-URL:https://stpetersbarge.org
X-WR-CALDESC:Events for St Peter&#039;s Barge
REFRESH-INTERVAL;VALUE=DURATION:PT1H
X-Robots-Tag:noindex
X-PUBLISHED-TTL:PT1H
BEGIN:VTIMEZONE
TZID:Europe/London
BEGIN:DAYLIGHT
TZOFFSETFROM:+0000
TZOFFSETTO:+0100
TZNAME:BST
DTSTART:20180325T010000
END:DAYLIGHT
BEGIN:STANDARD
TZOFFSETFROM:+0100
TZOFFSETTO:+0000
TZNAME:GMT
DTSTART:20181028T010000
END:STANDARD
BEGIN:DAYLIGHT
TZOFFSETFROM:+0000
TZOFFSETTO:+0100
TZNAME:BST
DTSTART:20190331T010000
END:DAYLIGHT
BEGIN:STANDARD
TZOFFSETFROM:+0100
TZOFFSETTO:+0000
TZNAME:GMT
DTSTART:20191027T010000
END:STANDARD
BEGIN:DAYLIGHT
TZOFFSETFROM:+0000
TZOFFSETTO:+0100
TZNAME:BST
DTSTART:20200329T010000
END:DAYLIGHT
BEGIN:STANDARD
TZOFFSETFROM:+0100
TZOFFSETTO:+0000
TZNAME:GMT
DTSTART:20201025T010000
END:STANDARD
END:VTIMEZONE
BEGIN:VEVENT
DTSTART;TZID=Europe/London:20190216T170000
DTEND;TZID=Europe/London:20190216T190000
DTSTAMP:20260423T111618
CREATED:20190130T160251Z
LAST-MODIFIED:20190130T160251Z
UID:9371-1550336400-1550343600@stpetersbarge.org
SUMMARY:Chinese New year gathering - 上帝想给我什么？
DESCRIPTION:Chinese New year gathering.  A gospel event + dumpling making.  Limited places\, please RSVP info@stpetersbarge.org \n農曆新年聚會!  福音短講 + 餃子 + 湯圓。 名額有限，請預定!
URL:https://stpetersbarge.org/bargeevent/chinese-new-year-gathering-%e4%b8%8a%e5%b8%9d%e6%83%b3%e7%bb%99%e6%88%91%e4%bb%80%e4%b9%88%ef%bc%9f/
LOCATION:St Peter’s Barge\, St Peter's Barge\, London\, E14 4AL
CATEGORIES:Mandarin event
ATTACH;FMTTYPE=image/jpeg:https://stpetersbarge.org/wp-content/uploads/2019/01/75DD6C4A195543C9AC4579E8A0349045.jpg
END:VEVENT
END:VCALENDAR