BEGIN:VCALENDAR
VERSION:2.0
PRODID:-//St Peter&#039;s Barge - ECPv6.15.20//NONSGML v1.0//EN
CALSCALE:GREGORIAN
METHOD:PUBLISH
X-ORIGINAL-URL:https://stpetersbarge.org
X-WR-CALDESC:Events for St Peter&#039;s Barge
REFRESH-INTERVAL;VALUE=DURATION:PT1H
X-Robots-Tag:noindex
X-PUBLISHED-TTL:PT1H
BEGIN:VTIMEZONE
TZID:Europe/London
BEGIN:DAYLIGHT
TZOFFSETFROM:+0000
TZOFFSETTO:+0100
TZNAME:BST
DTSTART:20170326T010000
END:DAYLIGHT
BEGIN:STANDARD
TZOFFSETFROM:+0100
TZOFFSETTO:+0000
TZNAME:GMT
DTSTART:20171029T010000
END:STANDARD
BEGIN:DAYLIGHT
TZOFFSETFROM:+0000
TZOFFSETTO:+0100
TZNAME:BST
DTSTART:20180325T010000
END:DAYLIGHT
BEGIN:STANDARD
TZOFFSETFROM:+0100
TZOFFSETTO:+0000
TZNAME:GMT
DTSTART:20181028T010000
END:STANDARD
BEGIN:DAYLIGHT
TZOFFSETFROM:+0000
TZOFFSETTO:+0100
TZNAME:BST
DTSTART:20190331T010000
END:DAYLIGHT
BEGIN:STANDARD
TZOFFSETFROM:+0100
TZOFFSETTO:+0000
TZNAME:GMT
DTSTART:20191027T010000
END:STANDARD
BEGIN:DAYLIGHT
TZOFFSETFROM:+0000
TZOFFSETTO:+0100
TZNAME:BST
DTSTART:20200329T010000
END:DAYLIGHT
BEGIN:STANDARD
TZOFFSETFROM:+0100
TZOFFSETTO:+0000
TZNAME:GMT
DTSTART:20201025T010000
END:STANDARD
END:VTIMEZONE
BEGIN:VEVENT
DTSTART;TZID=Europe/London:20191011T190000
DTEND;TZID=Europe/London:20191011T213000
DTSTAMP:20260422T075028
CREATED:20190510T155600Z
LAST-MODIFIED:20190913T150830Z
UID:9929-1570820400-1570829400@stpetersbarge.org
SUMMARY:Men's Outreach Event
DESCRIPTION:Get hands-on and follow along as a professional demonstrates the art of curing\, the food preservation technique that has been around since ancient times. Do not forget to invite your friends! £15 per person. All men welcome.\nClick here for event flyer.
URL:https://stpetersbarge.org/bargeevent/mens-fellowship-3/
LOCATION:St Peter’s Barge\, St Peter's Barge\, London\, E14 4AL
CATEGORIES:Men's Event
END:VEVENT
BEGIN:VEVENT
DTSTART;TZID=Europe/London:20190616T150000
DTEND;TZID=Europe/London:20190616T180000
DTSTAMP:20260422T075028
CREATED:20190510T155428Z
LAST-MODIFIED:20190510T155428Z
UID:9927-1560697200-1560708000@stpetersbarge.org
SUMMARY:Men's Fellowship
DESCRIPTION:
URL:https://stpetersbarge.org/bargeevent/mens-fellowship/
LOCATION:St Peter’s Barge\, St Peter's Barge\, London\, E14 4AL
CATEGORIES:Men's Event
END:VEVENT
BEGIN:VEVENT
DTSTART;TZID=Europe/London:20190405T190000
DTEND;TZID=Europe/London:20190405T210000
DTSTAMP:20260422T075028
CREATED:20190308T114540Z
LAST-MODIFIED:20190315T112000Z
UID:9517-1554490800-1554498000@stpetersbarge.org
SUMMARY:Men's Event - Butchery & Beer
DESCRIPTION:An evening of interactive butchery demonstrations\, craft beer tasting\, and food\, all rounded off with a thought from Barge Pastor Marcus Nodder. All men are welcome. \nPlease RSVP by emailing info@stpetersbarge.org. \n 
URL:https://stpetersbarge.org/bargeevent/mens-event-butchery-beer/
LOCATION:St Peter’s Barge\, St Peter's Barge\, London\, E14 4AL
CATEGORIES:Men's Event
ATTACH;FMTTYPE=image/png:https://stpetersbarge.org/wp-content/uploads/2019/03/Butchery-Beer-FB-pic.png
END:VEVENT
BEGIN:VEVENT
DTSTART;TZID=Europe/London:20181118T130000
DTEND;TZID=Europe/London:20181118T143000
DTSTAMP:20260422T075028
CREATED:20181026T155652Z
LAST-MODIFIED:20181026T155652Z
UID:8889-1542546000-1542551400@stpetersbarge.org
SUMMARY:Men's Fellowship Event
DESCRIPTION:The men will be meeting to explore the theme of obedience and hear testimonies from men on the Barge! Held on the Barge after service with catered lunch. All men welcome!
URL:https://stpetersbarge.org/bargeevent/mens-fellowship-event/
LOCATION:St Peter’s Barge\, St Peter's Barge\, London\, E14 4AL
CATEGORIES:Men's Event
END:VEVENT
END:VCALENDAR