BEGIN:VCALENDAR
VERSION:2.0
PRODID:-//St Peter&#039;s Barge - ECPv6.15.20//NONSGML v1.0//EN
CALSCALE:GREGORIAN
METHOD:PUBLISH
X-ORIGINAL-URL:https://stpetersbarge.org
X-WR-CALDESC:Events for St Peter&#039;s Barge
REFRESH-INTERVAL;VALUE=DURATION:PT1H
X-Robots-Tag:noindex
X-PUBLISHED-TTL:PT1H
BEGIN:VTIMEZONE
TZID:Europe/London
BEGIN:DAYLIGHT
TZOFFSETFROM:+0000
TZOFFSETTO:+0100
TZNAME:BST
DTSTART:20130331T010000
END:DAYLIGHT
BEGIN:STANDARD
TZOFFSETFROM:+0100
TZOFFSETTO:+0000
TZNAME:GMT
DTSTART:20131027T010000
END:STANDARD
BEGIN:DAYLIGHT
TZOFFSETFROM:+0000
TZOFFSETTO:+0100
TZNAME:BST
DTSTART:20140330T010000
END:DAYLIGHT
BEGIN:STANDARD
TZOFFSETFROM:+0100
TZOFFSETTO:+0000
TZNAME:GMT
DTSTART:20141026T010000
END:STANDARD
BEGIN:DAYLIGHT
TZOFFSETFROM:+0000
TZOFFSETTO:+0100
TZNAME:BST
DTSTART:20150329T010000
END:DAYLIGHT
BEGIN:STANDARD
TZOFFSETFROM:+0100
TZOFFSETTO:+0000
TZNAME:GMT
DTSTART:20151025T010000
END:STANDARD
BEGIN:DAYLIGHT
TZOFFSETFROM:+0000
TZOFFSETTO:+0100
TZNAME:BST
DTSTART:20160327T010000
END:DAYLIGHT
BEGIN:STANDARD
TZOFFSETFROM:+0100
TZOFFSETTO:+0000
TZNAME:GMT
DTSTART:20161030T010000
END:STANDARD
BEGIN:DAYLIGHT
TZOFFSETFROM:+0000
TZOFFSETTO:+0100
TZNAME:BST
DTSTART:20170326T010000
END:DAYLIGHT
BEGIN:STANDARD
TZOFFSETFROM:+0100
TZOFFSETTO:+0000
TZNAME:GMT
DTSTART:20171029T010000
END:STANDARD
END:VTIMEZONE
BEGIN:VEVENT
DTSTART;TZID=Europe/London:20160518T131500
DTEND;TZID=Europe/London:20160518T135000
DTSTAMP:20260421T115454
CREATED:20160503T154138Z
LAST-MODIFIED:20160504T153829Z
UID:4573-1463577300-1463579400@stpetersbarge.org
SUMMARY:ONE THING IN COMMON - The Big Four Partner
DESCRIPTION:Join David Gascoigne\, Head of Power and Utilities at KPMG\, at a lunchtime interview & talk presented by St Peter’s Barge. \nDavid is head of Power and Utilities at KPMG and a committed Christian. In this interview and talk David will speak about his faith and the difference it makes to his work. He will also address the question: ‘what is success?’ and ask if career success can ever bring that sense of ultimate fulfilment.
URL:https://stpetersbarge.org/bargeevent/one-thing-in-common-the-big-four-partner-2/
LOCATION:St Peter’s Barge\, St Peter's Barge\, London\, E14 4AL
CATEGORIES:One Thing In Common
ATTACH;FMTTYPE=image/jpeg:https://stpetersbarge.org/wp-content/uploads/2016/04/OTIC15-webHome.jpg
END:VEVENT
BEGIN:VEVENT
DTSTART;TZID=Europe/London:20160518T121500
DTEND;TZID=Europe/London:20160518T125000
DTSTAMP:20260421T115454
CREATED:20160503T154121Z
LAST-MODIFIED:20160504T153833Z
UID:4572-1463573700-1463575800@stpetersbarge.org
SUMMARY:ONE THING IN COMMON - The Big Four Partner
DESCRIPTION:Join David Gascoigne\, Head of Power and Utilities at KPMG\, at a lunchtime interview & talk presented by St Peter’s Barge. \nDavid is head of Power and Utilities at KPMG and a committed Christian. In this interview and talk David will speak about his faith and the difference it makes to his work. He will also address the question: ‘what is success?’ and ask if career success can ever bring that sense of ultimate fulfilment.
URL:https://stpetersbarge.org/bargeevent/one-thing-in-common-the-big-four-partner/
LOCATION:Idea Store – Churchill Place\, Idea Store\, Churchill Place Shopping Mall\, London\, E14 5RB\, United Kingdom
CATEGORIES:One Thing In Common
ATTACH;FMTTYPE=image/jpeg:https://stpetersbarge.org/wp-content/uploads/2016/04/OTIC15-webHome.jpg
END:VEVENT
BEGIN:VEVENT
DTSTART;TZID=Europe/London:20160217T131500
DTEND;TZID=Europe/London:20160217T135000
DTSTAMP:20260421T115454
CREATED:20160122T182345Z
LAST-MODIFIED:20160122T182345Z
UID:4227-1455714900-1455717000@stpetersbarge.org
SUMMARY:One Thing In Common - Akeel Sachak
DESCRIPTION:Interviewing Akeel Sachak. \nAkeel Sachak is global head of consumer at Rothschild and a member of the firm’s investment banking management committee. He has been at Rothschild for 28 years and is the house investment banker to major corporates world-wide. A committed Christian\, he speaks openly about how his faith impacts his life and work. \nTitle: What did Jesus do with his money? \nSpeaker: Matt Dew-Jones
URL:https://stpetersbarge.org/bargeevent/one-thing-in-common-akeel-sachak-2/
LOCATION:St Peter’s Barge\, St Peter's Barge\, London\, E14 4AL
CATEGORIES:One Thing In Common
END:VEVENT
BEGIN:VEVENT
DTSTART;TZID=Europe/London:20160217T121500
DTEND;TZID=Europe/London:20160217T125000
DTSTAMP:20260421T115454
CREATED:20160122T182318Z
LAST-MODIFIED:20160122T182318Z
UID:4226-1455711300-1455713400@stpetersbarge.org
SUMMARY:One Thing In Common - Akeel Sachak
DESCRIPTION:Interviewing Akeel Sachak. \nAkeel Sachak is global head of consumer at Rothschild and a member of the firm’s investment banking management committee. He has been at Rothschild for 28 years and is the house investment banker to major corporates world-wide. A committed Christian\, he speaks openly about how his faith impacts his life and work. \nTitle: What did Jesus do with his money? \nSpeaker: Matt Dew-Jones
URL:https://stpetersbarge.org/bargeevent/one-thing-in-common-akeel-sachak/
LOCATION:Idea Store – Churchill Place\, Idea Store\, Churchill Place Shopping Mall\, London\, E14 5RB\, United Kingdom
CATEGORIES:One Thing In Common
END:VEVENT
BEGIN:VEVENT
DTSTART;TZID=Europe/London:20151126T131500
DTEND;TZID=Europe/London:20151126T135000
DTSTAMP:20260421T115454
CREATED:20151015T091818Z
LAST-MODIFIED:20151015T091818Z
UID:3897-1448543700-1448545800@stpetersbarge.org
SUMMARY:One Thing In Common - Interviewing Jamie Jones-Buchanan
DESCRIPTION:Jamie Jones-Buchanan is a GB\, England and Leeds Rhinos Rugby League Player. He has won 4 super-league titles and only missed this season’s Super league victory through injury. Jamie is a committed Christian and loves to share how his faith impacts his sport and every area of life.
URL:https://stpetersbarge.org/bargeevent/one-thing-in-common-interviewing-jamie-jones-buchanan-2/
LOCATION:St Peter’s Barge\, St Peter's Barge\, London\, E14 4AL
CATEGORIES:One Thing In Common
ATTACH;FMTTYPE=image/png:https://stpetersbarge.org/wp-content/uploads/2015/10/OTICNov2015-web-banner.png
END:VEVENT
BEGIN:VEVENT
DTSTART;TZID=Europe/London:20151126T121500
DTEND;TZID=Europe/London:20151126T125000
DTSTAMP:20260421T115454
CREATED:20151015T091752Z
LAST-MODIFIED:20151015T091752Z
UID:3896-1448540100-1448542200@stpetersbarge.org
SUMMARY:One Thing In Common - Interviewing Jamie Jones-Buchanan
DESCRIPTION:Jamie Jones-Buchanan is a GB\, England and Leeds Rhinos Rugby League Player. He has won 4 super-league titles and only missed this season’s Super league victory through injury. Jamie is a committed Christian and loves to share how his faith impacts his sport and every area of life.
URL:https://stpetersbarge.org/bargeevent/one-thing-in-common-interviewing-jamie-jones-buchanan/
LOCATION:Idea Store – Churchill Place\, Idea Store\, Churchill Place Shopping Mall\, London\, E14 5RB\, United Kingdom
CATEGORIES:One Thing In Common
ATTACH;FMTTYPE=image/png:https://stpetersbarge.org/wp-content/uploads/2015/10/OTICNov2015-web-banner.png
END:VEVENT
BEGIN:VEVENT
DTSTART;TZID=Europe/London:20151112T131500
DTEND;TZID=Europe/London:20151112T135000
DTSTAMP:20260421T115454
CREATED:20151015T091608Z
LAST-MODIFIED:20151015T091608Z
UID:3895-1447334100-1447336200@stpetersbarge.org
SUMMARY:One Thing In Common - Remembrance
DESCRIPTION:Matt Maer DSO MBE MA \nMatt Maer commanded the 1st Battalion PWRR Battle Group in Iraq in 2004 during which his unit was the most attacked in the British Army since the Korean War. He rose to the rank of Brigadier and was awarded the Distinguished Service Order for his leadership in Iraq in the aftermath of the invasion\, and he features in the Richard Holmes book ‘Dusty Warriors’. He was made an MBE for running operations for the British sector in Bosnia. He has seen five tours in Northern Ireland\, two in Bosnia and one in Kosovo. He is now Director of Security at Canary Wharf.
URL:https://stpetersbarge.org/bargeevent/one-thing-in-common-remembrance-2/
LOCATION:St Peter’s Barge\, St Peter's Barge\, London\, E14 4AL
CATEGORIES:One Thing In Common
ATTACH;FMTTYPE=image/png:https://stpetersbarge.org/wp-content/uploads/2015/10/OTICNov2015-web-banner.png
END:VEVENT
BEGIN:VEVENT
DTSTART;TZID=Europe/London:20151112T121500
DTEND;TZID=Europe/London:20151112T125000
DTSTAMP:20260421T115454
CREATED:20151015T091514Z
LAST-MODIFIED:20151015T091514Z
UID:3894-1447330500-1447332600@stpetersbarge.org
SUMMARY:One Thing In Common - Remembrance
DESCRIPTION:Matt Maer DSO MBE MA  \nMatt Maer commanded the 1st Battalion PWRR Battle Group in Iraq in 2004 during which his unit was the most attacked in the British Army since the Korean War. He rose to the rank of Brigadier and was awarded the Distinguished Service Order for his leadership in Iraq in the aftermath of the invasion\, and he features in the Richard Holmes book ‘Dusty Warriors’. He was made an MBE for running operations for the British sector in Bosnia. He has seen five tours in Northern Ireland\, two in Bosnia and one in Kosovo. He is now Director of Security at Canary Wharf.
URL:https://stpetersbarge.org/bargeevent/one-thing-in-common-remembrance/
LOCATION:Idea Store – Churchill Place\, Idea Store\, Churchill Place Shopping Mall\, London\, E14 5RB\, United Kingdom
CATEGORIES:One Thing In Common
ATTACH;FMTTYPE=image/png:https://stpetersbarge.org/wp-content/uploads/2015/10/OTICNov2015-web-banner.png
END:VEVENT
BEGIN:VEVENT
DTSTART;TZID=Europe/London:20150122T131500
DTEND;TZID=Europe/London:20150122T135000
DTSTAMP:20260421T115454
CREATED:20141216T112028Z
LAST-MODIFIED:20141222T094631Z
UID:2534-1421932500-1421934600@stpetersbarge.org
SUMMARY:One Thing In Common - Simon Pilcher
DESCRIPTION:Join Simon Pilcher\, CEO of M&G Fixed Income\, at lunchtime. Interview & talk\nSimon is the Chief Executive of M&G Fixed Income\, who are the current holders of the “Fixed Income Manager of the Year”.  When he’s not managing a pot of around £155 billion and 280 staff\, he enjoys growing vegetables and competing in triathlons. He’s married to Rachel and has 5 children. \nHe will be interviewed\, and then speak on: ”  Is belief in Jesus delusional?“ \nThis event also runs at lunchtimes at  The Idea Store – Churchill Place 12:15 p.m.
URL:https://stpetersbarge.org/bargeevent/one-thing-in-common-simon-pilcher-2/
LOCATION:St Peter’s Barge\, St Peter's Barge\, London\, E14 4AL
CATEGORIES:One Thing In Common
ATTACH;FMTTYPE=image/jpeg:https://stpetersbarge.org/wp-content/uploads/2014/12/OTIC13-event-banner.jpg
END:VEVENT
BEGIN:VEVENT
DTSTART;TZID=Europe/London:20150122T121500
DTEND;TZID=Europe/London:20150122T125000
DTSTAMP:20260421T115454
CREATED:20141216T112026Z
LAST-MODIFIED:20141222T094635Z
UID:2535-1421928900-1421931000@stpetersbarge.org
SUMMARY:One Thing In Common - Simon Pilcher
DESCRIPTION:Join Simon Pilcher\, CEO of M&G Fixed Income\, at lunchtime. Interview & talk\nSimon is the Chief Executive of M&G Fixed Income\, who are the current holders of the “Fixed Income Manager of the Year”.  When he’s not managing a pot of around £155 billion and 280 staff\, he enjoys growing vegetables and competing in triathlons. He’s married to Rachel and has 5 children. \nHe will be interviewed\, and then speak on: ”  Is belief in Jesus delusional?“ \nThis event also runs at lunchtimes at St Peter’s Barge at 1:15pm.
URL:https://stpetersbarge.org/bargeevent/one-thing-in-common-simon-pilcher/
LOCATION:Idea Store – Churchill Place\, Idea Store\, Churchill Place Shopping Mall\, London\, E14 5RB\, United Kingdom
CATEGORIES:One Thing In Common
ATTACH;FMTTYPE=image/jpeg:https://stpetersbarge.org/wp-content/uploads/2014/12/OTIC13-event-banner.jpg
END:VEVENT
BEGIN:VEVENT
DTSTART;TZID=Europe/London:20141106T132500
DTEND;TZID=Europe/London:20141106T135000
DTSTAMP:20260421T115454
CREATED:20140904T113746Z
LAST-MODIFIED:20141009T105840Z
UID:2142-1415280300-1415281800@stpetersbarge.org
SUMMARY:One Thing In Common - Thomas Simpson
DESCRIPTION:Join  Thomas Simpson\, Captain RM (retired)\, at lunchtime. Interview & talk\nTom Simpson served as an officer with the Royal Marines Commandos\, seeing tours in Northern Ireland; Baghdad\, Iraq; and Helmand Province\, Afghanistan. He is now Associate Professor of Philosophy and Public Policy at the University of Oxford.  Tom‘s experiences have caused him to face some tough questions about life and faith: he will be interviewed and then speak on “Where is God or justice on the battlefield?”  \nHe will be interviewed\, and then speak on: “Where is God or justice on the battlefield?“ \nThis event also runs at lunchtimes at St Peter’s Barge 12:05 p.m and  The Idea Store – Churchill Place 12:45 p.m.
URL:https://stpetersbarge.org/bargeevent/one-thing-in-common-thomas-simpson-2/
LOCATION:Pepper Saint Ontiod\, Pepper Saint Ontiod\, E14 9RP\, London\, E14 9RP\, United Kingdom
CATEGORIES:One Thing In Common
ATTACH;FMTTYPE=image/jpeg:https://stpetersbarge.org/wp-content/uploads/2014/09/OTIC12-Calendar-event.jpg
END:VEVENT
BEGIN:VEVENT
DTSTART;TZID=Europe/London:20141106T124500
DTEND;TZID=Europe/London:20141106T131000
DTSTAMP:20260421T115454
CREATED:20141009T105513Z
LAST-MODIFIED:20141009T110006Z
UID:2263-1415277900-1415279400@stpetersbarge.org
SUMMARY:One Thing In Common - Thomas Simpson
DESCRIPTION:Join Thomas Simpson\, Captain RM (retired)\, at lunchtime. Interview & talk\nTom Simpson served as an officer with the Royal Marines Commandos\, seeing tours in Northern Ireland; Baghdad\, Iraq; and Helmand Province\, Afghanistan. He is now Associate Professor of Philosophy and Public Policy at the University of Oxford.  Tom‘s experiences have caused him to face some tough questions about life and faith: he will be interviewed and then speak on “Where is God or justice on the battlefield?” \nHe will be interviewed\, and then speak on: ” Where is God or justice on the battlefield?“ \nThis event also runs at lunchtimes at St Peter’s Barge 12:05 p.m and Pepper St Ontiod 1:25pm.
URL:https://stpetersbarge.org/bargeevent/one-thing-in-common-thomas-simpson-3/
LOCATION:Idea Store – Churchill Place\, Idea Store\, Churchill Place Shopping Mall\, London\, E14 5RB\, United Kingdom
CATEGORIES:One Thing In Common
ATTACH;FMTTYPE=image/jpeg:https://stpetersbarge.org/wp-content/uploads/2014/09/OTIC12-Calendar-event.jpg
END:VEVENT
BEGIN:VEVENT
DTSTART;TZID=Europe/London:20141106T120500
DTEND;TZID=Europe/London:20141106T123000
DTSTAMP:20260421T115454
CREATED:20140904T113744Z
LAST-MODIFIED:20141009T105843Z
UID:2143-1415275500-1415277000@stpetersbarge.org
SUMMARY:One Thing In Common - Thomas Simpson
DESCRIPTION:Join Thomas Simpson\, Captain RM (retired)\, at lunchtime. Interview & talk\nTom Simpson served as an officer with the Royal Marines Commandos\, seeing tours in Northern Ireland; Baghdad\, Iraq; and Helmand Province\, Afghanistan. He is now Associate Professor of Philosophy and Public Policy at the University of Oxford.  Tom‘s experiences have caused him to face some tough questions about life and faith: he will be interviewed and then speak on “Where is God or justice on the battlefield?”  \nHe will be interviewed\, and then speak on: ” Where is God or justice on the battlefield?“ \nThis event also runs at lunchtimes at  The Idea Store – Churchill Place 12:45 p.m and Pepper St Ontiod 1:25pm. \n 
URL:https://stpetersbarge.org/bargeevent/one-thing-in-common-thomas-simpson/
LOCATION:St Peter’s Barge\, St Peter's Barge\, London\, E14 4AL
CATEGORIES:One Thing In Common
ATTACH;FMTTYPE=image/jpeg:https://stpetersbarge.org/wp-content/uploads/2014/09/OTIC12-Calendar-event.jpg
END:VEVENT
BEGIN:VEVENT
DTSTART;TZID=Europe/London:20140717T131000
DTEND;TZID=Europe/London:20140717T134000
DTSTAMP:20260421T115454
CREATED:20140603T091957Z
LAST-MODIFIED:20140716T164730Z
UID:1833-1405602600-1405604400@stpetersbarge.org
SUMMARY:One Thing In Common - David Burrowes
DESCRIPTION:Join David Burrowes MP\, member of parliament\, at lunchtime. Interview & talk\nDavid Burrowes was a criminal lawyer before being elected as MP for Enfield-Southgate in 2005\, with the largest swing of any seat in the country. He was appointed to the front bench in 2007 as the Shadow Justice Minister. He has 6 children and is the Founder and Chair of the Conservative Christian Fellowship. \nHe will be interviewed\, and then speak on: Should politicians “do God”? \nThis event also runs at lunchtimes at The Idea Store – Churchill Place 12:10 p.m. and St Peter’s Barge 1:10 p.m.
URL:https://stpetersbarge.org/bargeevent/one-thing-in-common-david-burrowes-2/
LOCATION:St Peter’s Barge\, St Peter's Barge\, London\, E14 4AL
CATEGORIES:One Thing In Common
ATTACH;FMTTYPE=image/jpeg:https://stpetersbarge.org/wp-content/uploads/2014/06/OTIC11event-banner.jpg
END:VEVENT
BEGIN:VEVENT
DTSTART;TZID=Europe/London:20140717T121000
DTEND;TZID=Europe/London:20140717T124000
DTSTAMP:20260421T115454
CREATED:20140603T091856Z
LAST-MODIFIED:20140716T164801Z
UID:1832-1405599000-1405600800@stpetersbarge.org
SUMMARY:One Thing In Common - David Burrowes
DESCRIPTION:Join David Burrowes MP\, member of parliament\, at lunchtime. Interview & talk\nDavid Burrowes was a criminal lawyer before being elected as MP for Enfield-Southgate in 2005\, with the largest swing of any seat in the country. He was appointed to the front bench in 2007 as the Shadow Justice Minister. He has 6 children and is the Founder and Chair of the Conservative Christian Fellowship. \nHe will be interviewed\, and then speak on: Should politicians “do God”? \nThis event also runs at lunchtimes at The Idea Store – Churchill Place 12:10 p.m. and St Peter’s Barge 1:10 p.m. \n 
URL:https://stpetersbarge.org/bargeevent/one-thing-in-common-david-burrowes/
LOCATION:Idea Store – Churchill Place\, Idea Store\, Churchill Place Shopping Mall\, London\, E14 5RB\, United Kingdom
CATEGORIES:One Thing In Common
ATTACH;FMTTYPE=image/jpeg:https://stpetersbarge.org/wp-content/uploads/2014/06/OTIC11event-banner.jpg
END:VEVENT
BEGIN:VEVENT
DTSTART;TZID=Europe/London:20140313T200000
DTEND;TZID=Europe/London:20140313T210000
DTSTAMP:20260421T115454
CREATED:20140220T163248Z
LAST-MODIFIED:20140220T164235Z
UID:1360-1394740800-1394744400@stpetersbarge.org
SUMMARY:One Thing In Common - Evening
DESCRIPTION:Join Sir Jeremy Cooke\, High Court Judge\, at an evening interview & talk presented by St Peter’s Barge.\nThe Honourable Mr Justice Cooke is a former Harlequins rugby player and now a High Court Judge. He has judged many high-profile cases\, including the Pakistani match-fixing trial in which he condemned their behaviour as “not cricket”. He is vice-chairman of the Lawyers’ Christian Fellowship. \nHe will be interviewed\, and then speak on: “Does faith fly in the face of the evidence?” \nThis event also runs at lunchtimes at The Idea Store – Churchill Place 12:15 p.m. and St Peter’s Barge 1:15 p.m.
URL:https://stpetersbarge.org/bargeevent/one-thing-in-common-evening/
LOCATION:St Peter’s Barge\, St Peter's Barge\, London\, E14 4AL
CATEGORIES:One Thing In Common
ATTACH;FMTTYPE=image/png:https://stpetersbarge.org/wp-content/uploads/2014/02/OTIC10_banner.png
END:VEVENT
BEGIN:VEVENT
DTSTART;TZID=Europe/London:20140313T131500
DTEND;TZID=Europe/London:20140313T134500
DTSTAMP:20260421T115454
CREATED:20140220T162109Z
LAST-MODIFIED:20140220T164022Z
UID:1355-1394716500-1394718300@stpetersbarge.org
SUMMARY:One Thing In Common - lunchtime
DESCRIPTION:Join Sir Jeremy Cooke\, High Court Judge\, at a lunchtime interview & talk presented by St Peter’s Barge.\nThe Honourable Mr Justice Cooke is a former Harlequins rugby player and now a High Court Judge. He has judged many high-profile cases\, including the Pakistani match-fixing trial in which he condemned their behaviour as “not cricket”. He is vice-chairman of the Lawyers’ Christian Fellowship. \nHe will be interviewed\, and then speak on: “Does faith fly in the face of the evidence?” \nThis event also runs at The Idea Store – Churchill Place at 12:15 p.m. and in the evening at St Peter’s Barge 8 p.m.
URL:https://stpetersbarge.org/bargeevent/one-thing-in-common-2/
LOCATION:St Peter’s Barge\, St Peter's Barge\, London\, E14 4AL
CATEGORIES:One Thing In Common
ATTACH;FMTTYPE=image/png:https://stpetersbarge.org/wp-content/uploads/2014/02/OTIC10_banner.png
END:VEVENT
BEGIN:VEVENT
DTSTART;TZID=Europe/London:20140313T121500
DTEND;TZID=Europe/London:20140313T124500
DTSTAMP:20260421T115454
CREATED:20140220T163110Z
LAST-MODIFIED:20140220T163856Z
UID:1359-1394712900-1394714700@stpetersbarge.org
SUMMARY:One Thing In Common - Lunchtime
DESCRIPTION:Join Sir Jeremy Cooke\, High Court Judge\, at a lunchtime interview & talk presented by St Peter’s Barge.\nThe Honourable Mr Justice Cooke is a former Harlequins rugby player and now a High Court Judge. He has judged many high-profile cases\, including the Pakistani match-fixing trial in which he condemned their behaviour as “not cricket”. He is vice-chairman of the Lawyers’ Christian Fellowship. \nHe will be interviewed\, and then speak on: “Does faith fly in the face of the evidence?” \nThis event also runs at St Peters Barge at 1:15 p.m. and 8 p.m. in the evening
URL:https://stpetersbarge.org/bargeevent/one-thing-in-common-3/
LOCATION:Idea Store – Churchill Place\, Idea Store\, Churchill Place Shopping Mall\, London\, E14 5RB\, United Kingdom
CATEGORIES:One Thing In Common
ATTACH;FMTTYPE=image/png:https://stpetersbarge.org/wp-content/uploads/2014/02/OTIC10_banner.png
END:VEVENT
END:VCALENDAR