BEGIN:VCALENDAR
VERSION:2.0
PRODID:-//St Peter&#039;s Barge - ECPv6.15.20//NONSGML v1.0//EN
CALSCALE:GREGORIAN
METHOD:PUBLISH
X-WR-CALNAME:St Peter&#039;s Barge
X-ORIGINAL-URL:https://stpetersbarge.org
X-WR-CALDESC:Events for St Peter&#039;s Barge
REFRESH-INTERVAL;VALUE=DURATION:PT1H
X-Robots-Tag:noindex
X-PUBLISHED-TTL:PT1H
BEGIN:VTIMEZONE
TZID:Europe/London
BEGIN:DAYLIGHT
TZOFFSETFROM:+0000
TZOFFSETTO:+0100
TZNAME:BST
DTSTART:20130331T010000
END:DAYLIGHT
BEGIN:STANDARD
TZOFFSETFROM:+0100
TZOFFSETTO:+0000
TZNAME:GMT
DTSTART:20131027T010000
END:STANDARD
BEGIN:DAYLIGHT
TZOFFSETFROM:+0000
TZOFFSETTO:+0100
TZNAME:BST
DTSTART:20140330T010000
END:DAYLIGHT
BEGIN:STANDARD
TZOFFSETFROM:+0100
TZOFFSETTO:+0000
TZNAME:GMT
DTSTART:20141026T010000
END:STANDARD
BEGIN:DAYLIGHT
TZOFFSETFROM:+0000
TZOFFSETTO:+0100
TZNAME:BST
DTSTART:20150329T010000
END:DAYLIGHT
BEGIN:STANDARD
TZOFFSETFROM:+0100
TZOFFSETTO:+0000
TZNAME:GMT
DTSTART:20151025T010000
END:STANDARD
BEGIN:DAYLIGHT
TZOFFSETFROM:+0000
TZOFFSETTO:+0100
TZNAME:BST
DTSTART:20160327T010000
END:DAYLIGHT
BEGIN:STANDARD
TZOFFSETFROM:+0100
TZOFFSETTO:+0000
TZNAME:GMT
DTSTART:20161030T010000
END:STANDARD
BEGIN:DAYLIGHT
TZOFFSETFROM:+0000
TZOFFSETTO:+0100
TZNAME:BST
DTSTART:20170326T010000
END:DAYLIGHT
BEGIN:STANDARD
TZOFFSETFROM:+0100
TZOFFSETTO:+0000
TZNAME:GMT
DTSTART:20171029T010000
END:STANDARD
BEGIN:DAYLIGHT
TZOFFSETFROM:+0000
TZOFFSETTO:+0100
TZNAME:BST
DTSTART:20180325T010000
END:DAYLIGHT
BEGIN:STANDARD
TZOFFSETFROM:+0100
TZOFFSETTO:+0000
TZNAME:GMT
DTSTART:20181028T010000
END:STANDARD
END:VTIMEZONE
BEGIN:VEVENT
DTSTART;TZID=Europe/London:20170919T131000
DTEND;TZID=Europe/London:20170919T135000
DTSTAMP:20260422T012917
CREATED:20170807T142246Z
LAST-MODIFIED:20170822T092103Z
UID:6566-1505826600-1505829000@stpetersbarge.org
SUMMARY:Questions For Life Prayer & Praise
DESCRIPTION:Join Christians from across the Wharf as we pray for the gospel to advance in the Wharf and especially for 2018’s Questions For Life events (19th-30th March).
URL:https://stpetersbarge.org/bargeevent/wharf-workers-prayer-praise/
LOCATION:St Peter’s Barge\, St Peter's Barge\, London\, E14 4AL
CATEGORIES:Prayer and Praise
END:VEVENT
BEGIN:VEVENT
DTSTART;TZID=Europe/London:20160322T130500
DTEND;TZID=Europe/London:20160322T134500
DTSTAMP:20260422T012917
CREATED:20160222T111254Z
LAST-MODIFIED:20160222T111254Z
UID:4365-1458651900-1458654300@stpetersbarge.org
SUMMARY:Prayer and Praise at Wharf
DESCRIPTION:We unite to praise the Lord in song & to pray for his kingdom to come in Canary Wharf.
URL:https://stpetersbarge.org/bargeevent/prayer-and-praise-at-wharf-9/
LOCATION:St Peter’s Barge\, St Peter's Barge\, London\, E14 4AL
CATEGORIES:Prayer and Praise
END:VEVENT
BEGIN:VEVENT
DTSTART;TZID=Europe/London:20160126T130500
DTEND;TZID=Europe/London:20160126T134500
DTSTAMP:20260422T012917
CREATED:20160122T182636Z
LAST-MODIFIED:20160122T182636Z
UID:4229-1453813500-1453815900@stpetersbarge.org
SUMMARY:Prayer and Praise at Wharf
DESCRIPTION:We unite to praise the Lord in song & to pray for his kingdom to come in Canary Wharf.
URL:https://stpetersbarge.org/bargeevent/prayer-and-praise-at-wharf-8/
LOCATION:St Peter’s Barge\, St Peter's Barge\, London\, E14 4AL
CATEGORIES:Prayer and Praise
END:VEVENT
BEGIN:VEVENT
DTSTART;TZID=Europe/London:20151117T130500
DTEND;TZID=Europe/London:20151117T134500
DTSTAMP:20260422T012917
CREATED:20150909T084918Z
LAST-MODIFIED:20150909T084918Z
UID:3766-1447765500-1447767900@stpetersbarge.org
SUMMARY:Prayer and Praise at Wharf
DESCRIPTION:We unite to praise the Lord in song & to pray for his kingdom to come in Canary Wharf.
URL:https://stpetersbarge.org/bargeevent/prayer-and-praise-at-wharf-7/
LOCATION:St Peter’s Barge\, St Peter's Barge\, London\, E14 4AL
CATEGORIES:Prayer and Praise
END:VEVENT
BEGIN:VEVENT
DTSTART;TZID=Europe/London:20151020T130500
DTEND;TZID=Europe/London:20151020T134500
DTSTAMP:20260422T012917
CREATED:20150909T084856Z
LAST-MODIFIED:20150909T084856Z
UID:3765-1445346300-1445348700@stpetersbarge.org
SUMMARY:Prayer and Praise at Wharf
DESCRIPTION:We unite to praise the Lord in song & to pray for his kingdom to come in Canary Wharf.
URL:https://stpetersbarge.org/bargeevent/prayer-and-praise-at-wharf-6/
LOCATION:St Peter’s Barge\, St Peter's Barge\, London\, E14 4AL
CATEGORIES:Prayer and Praise
END:VEVENT
BEGIN:VEVENT
DTSTART;TZID=Europe/London:20150519T130500
DTEND;TZID=Europe/London:20150519T134500
DTSTAMP:20260422T012917
CREATED:20150501T153601Z
LAST-MODIFIED:20150713T154016Z
UID:3039-1432040700-1432043100@stpetersbarge.org
SUMMARY:Prayer and Praise at Wharf
DESCRIPTION:We unite to praise the Lord in song & to pray for his kingdom to come in Canary Wharf.
URL:https://stpetersbarge.org/bargeevent/prayer-and-praise-at-wharf-5/
LOCATION:St Peter’s Barge\, St Peter's Barge\, London\, E14 4AL
CATEGORIES:Prayer and Praise
END:VEVENT
BEGIN:VEVENT
DTSTART;TZID=Europe/London:20150120T130500
DTEND;TZID=Europe/London:20150120T134500
DTSTAMP:20260422T012917
CREATED:20141218T115309Z
LAST-MODIFIED:20141218T115309Z
UID:2550-1421759100-1421761500@stpetersbarge.org
SUMMARY:Prayer and Praise at Wharf
DESCRIPTION:We unite to praise the Lord in song & to pray for his kingdom to come in Canary Wharf.
URL:https://stpetersbarge.org/bargeevent/prayer-and-praise-at-wharf-4/
LOCATION:St Peter’s Barge\, St Peter's Barge\, London\, E14 4AL
CATEGORIES:Prayer and Praise
END:VEVENT
BEGIN:VEVENT
DTSTART;TZID=Europe/London:20141118T130500
DTEND;TZID=Europe/London:20141118T134500
DTSTAMP:20260422T012917
CREATED:20141031T120012Z
LAST-MODIFIED:20141031T120012Z
UID:2355-1416315900-1416318300@stpetersbarge.org
SUMMARY:Prayer and Praise at Wharf
DESCRIPTION:We unite to praise the Lord in song & to pray for his kingdom to come in Canary Wharf.
URL:https://stpetersbarge.org/bargeevent/prayer-and-praise-at-wharf-3/
LOCATION:St Peter’s Barge\, St Peter's Barge\, London\, E14 4AL
CATEGORIES:Prayer and Praise
END:VEVENT
BEGIN:VEVENT
DTSTART;TZID=Europe/London:20141007T130000
DTEND;TZID=Europe/London:20141007T134500
DTSTAMP:20260422T012917
CREATED:20141002T082134Z
LAST-MODIFIED:20141002T082134Z
UID:2246-1412686800-1412689500@stpetersbarge.org
SUMMARY:Prayer and Praise at Wharf
DESCRIPTION:We unite to praise the Lord in song & to pray for his kingdom to come in Canary Wharf.
URL:https://stpetersbarge.org/bargeevent/prayer-and-praise-at-wharf-2/
LOCATION:St Peter’s Barge\, St Peter's Barge\, London\, E14 4AL
CATEGORIES:Prayer and Praise
END:VEVENT
BEGIN:VEVENT
DTSTART;TZID=Europe/London:20140610T130000
DTEND;TZID=Europe/London:20140610T134500
DTSTAMP:20260422T012917
CREATED:20140528T160016Z
LAST-MODIFIED:20140528T160016Z
UID:1793-1402405200-1402407900@stpetersbarge.org
SUMMARY:Prayer and Praise at Wharf
DESCRIPTION:We unite to praise the Lord in song & to pray for his kingdom to come in Canary Wharf.
URL:https://stpetersbarge.org/bargeevent/prayer-and-praise-at-wharf/
LOCATION:St Peter’s Barge\, St Peter's Barge\, London\, E14 4AL
CATEGORIES:Prayer and Praise
END:VEVENT
END:VCALENDAR