BEGIN:VCALENDAR
VERSION:2.0
PRODID:-//St Peter&#039;s Barge - ECPv6.15.20//NONSGML v1.0//EN
CALSCALE:GREGORIAN
METHOD:PUBLISH
X-WR-CALNAME:St Peter&#039;s Barge
X-ORIGINAL-URL:https://stpetersbarge.org
X-WR-CALDESC:Events for St Peter&#039;s Barge
REFRESH-INTERVAL;VALUE=DURATION:PT1H
X-Robots-Tag:noindex
X-PUBLISHED-TTL:PT1H
BEGIN:VTIMEZONE
TZID:Europe/London
BEGIN:DAYLIGHT
TZOFFSETFROM:+0000
TZOFFSETTO:+0100
TZNAME:BST
DTSTART:20160327T010000
END:DAYLIGHT
BEGIN:STANDARD
TZOFFSETFROM:+0100
TZOFFSETTO:+0000
TZNAME:GMT
DTSTART:20161030T010000
END:STANDARD
BEGIN:DAYLIGHT
TZOFFSETFROM:+0000
TZOFFSETTO:+0100
TZNAME:BST
DTSTART:20170326T010000
END:DAYLIGHT
BEGIN:STANDARD
TZOFFSETFROM:+0100
TZOFFSETTO:+0000
TZNAME:GMT
DTSTART:20171029T010000
END:STANDARD
BEGIN:DAYLIGHT
TZOFFSETFROM:+0000
TZOFFSETTO:+0100
TZNAME:BST
DTSTART:20180325T010000
END:DAYLIGHT
BEGIN:STANDARD
TZOFFSETFROM:+0100
TZOFFSETTO:+0000
TZNAME:GMT
DTSTART:20181028T010000
END:STANDARD
BEGIN:DAYLIGHT
TZOFFSETFROM:+0000
TZOFFSETTO:+0100
TZNAME:BST
DTSTART:20190331T010000
END:DAYLIGHT
BEGIN:STANDARD
TZOFFSETFROM:+0100
TZOFFSETTO:+0000
TZNAME:GMT
DTSTART:20191027T010000
END:STANDARD
BEGIN:DAYLIGHT
TZOFFSETFROM:+0000
TZOFFSETTO:+0100
TZNAME:BST
DTSTART:20200329T010000
END:DAYLIGHT
BEGIN:STANDARD
TZOFFSETFROM:+0100
TZOFFSETTO:+0000
TZNAME:GMT
DTSTART:20201025T010000
END:STANDARD
BEGIN:DAYLIGHT
TZOFFSETFROM:+0000
TZOFFSETTO:+0100
TZNAME:BST
DTSTART:20210328T010000
END:DAYLIGHT
BEGIN:STANDARD
TZOFFSETFROM:+0100
TZOFFSETTO:+0000
TZNAME:GMT
DTSTART:20211031T010000
END:STANDARD
BEGIN:DAYLIGHT
TZOFFSETFROM:+0000
TZOFFSETTO:+0100
TZNAME:BST
DTSTART:20220327T010000
END:DAYLIGHT
BEGIN:STANDARD
TZOFFSETFROM:+0100
TZOFFSETTO:+0000
TZNAME:GMT
DTSTART:20221030T010000
END:STANDARD
END:VTIMEZONE
BEGIN:VEVENT
DTSTART;TZID=Europe/London:20210401T131500
DTEND;TZID=Europe/London:20210401T135000
DTSTAMP:20260421T093921
CREATED:20210317T152725Z
LAST-MODIFIED:20210317T152805Z
UID:13980-1617282900-1617285000@stpetersbarge.org
SUMMARY:Questions for Life 2021 event
DESCRIPTION:Title: A Living Hope? How the resurrection of Jesus gives us hope \nSpeaker: Marcus Nodder
URL:https://stpetersbarge.org/bargeevent/questions-for-life-2021-event-3/
CATEGORIES:Questions of Life event
END:VEVENT
BEGIN:VEVENT
DTSTART;TZID=Europe/London:20210331T131500
DTEND;TZID=Europe/London:20210331T135000
DTSTAMP:20260421T093921
CREATED:20210317T152727Z
LAST-MODIFIED:20210317T152727Z
UID:13979-1617196500-1617198600@stpetersbarge.org
SUMMARY:Questions for Life 2021 event
DESCRIPTION:Title: A Living Hope? How the resurrection of Jesus gives us hope \nSpeaker: Marcus Nodder
URL:https://stpetersbarge.org/bargeevent/questions-for-life-2021-event-4/
CATEGORIES:Questions of Life event
END:VEVENT
BEGIN:VEVENT
DTSTART;TZID=Europe/London:20210324T131500
DTEND;TZID=Europe/London:20210324T135000
DTSTAMP:20260421T093921
CREATED:20210218T100435Z
LAST-MODIFIED:20210218T100435Z
UID:13871-1616591700-1616593800@stpetersbarge.org
SUMMARY:Questions for Life 2021 event
DESCRIPTION:Interview and talk with Jeremy Marshall \n“Hope in the face of suffering”
URL:https://stpetersbarge.org/bargeevent/questions-for-life-2021-event-2/
CATEGORIES:Questions of Life event
END:VEVENT
BEGIN:VEVENT
DTSTART;TZID=Europe/London:20210317T131500
DTEND;TZID=Europe/London:20210317T135000
DTSTAMP:20260421T093921
CREATED:20210218T100343Z
LAST-MODIFIED:20210218T100343Z
UID:13870-1615986900-1615989000@stpetersbarge.org
SUMMARY:Questions for Life 2021 event
DESCRIPTION:Interview and talk with John Wyatt
URL:https://stpetersbarge.org/bargeevent/questions-for-life-2021-event/
CATEGORIES:Questions of Life event
END:VEVENT
BEGIN:VEVENT
DTSTART;TZID=Europe/London:20210308T131500
DTEND;TZID=Europe/London:20210308T134500
DTSTAMP:20260421T093921
CREATED:20210225T162022Z
LAST-MODIFIED:20210225T162022Z
UID:13898-1615209300-1615211100@stpetersbarge.org
SUMMARY:Questions For Life 2021 Launch event
DESCRIPTION:Questions For Life is an opportunity for workers in firms across Canary Wharf to hear and respond to the good news of Jesus Christ\, it is running from the 15th of March – 2nd of April. In order to find out more\, and to encourage and equip each of us to be thinking about the colleagues we would like to be prayerfully inviting\, we will run a launch event on Monday the 8th of March at 13:15–13:45. This is a chance for Christians across the Wharf to meet and pray together on Zoom\, the link is below:\n\nJoin Zoom Meeting\nhttps://us02web.zoom.us/j/87468705679?pwd=ZnZtNVVhYjFESGZpU21rQzJ6SnBjQT09 \nMeeting ID: 874 6870 5679\nPasscode: 568059
URL:https://stpetersbarge.org/bargeevent/questions-for-life-2021-launch-event/
CATEGORIES:Questions of Life event
END:VEVENT
BEGIN:VEVENT
DTSTART;TZID=Europe/London:20200409T180000
DTEND;TZID=Europe/London:20200409T190000
DTSTAMP:20260421T093921
CREATED:20200406T141530Z
LAST-MODIFIED:20200406T141610Z
UID:11523-1586455200-1586458800@stpetersbarge.org
SUMMARY:Questions for Life event - online meeting
DESCRIPTION:Title: What does it really mean to follow Jesus? \nAkeel Sachak is Global Head of Consumer at Rothschild\, with over 30 years of investment banking experience. At this event he will be interviewed about his life and work. He will then speak about how he became a Christian whilst a student at Oxford\, and what it means now for him to follow Christ\, and the difference it makes. Drinks & refreshments will be served afterwards. \nThis event is organised by EY. All welcome. Join Microsoft Teams Meeting
URL:https://stpetersbarge.org/bargeevent/questions-for-life-event-online-meeting/
CATEGORIES:Questions of Life event
ATTACH;FMTTYPE=image/jpeg:https://stpetersbarge.org/wp-content/uploads/2020/02/gaphic-QFL-2020_email-invite-banner-scaled.jpg
END:VEVENT
BEGIN:VEVENT
DTSTART;TZID=Europe/London:20190403T131500
DTEND;TZID=Europe/London:20190403T135000
DTSTAMP:20260421T093921
CREATED:20190215T161340Z
LAST-MODIFIED:20190215T161757Z
UID:9459-1554297300-1554299400@stpetersbarge.org
SUMMARY:Questions for Life 2019
DESCRIPTION:Title: What if I don’t ‘do God’?\nSpeaker: Michael Farmer\nMichael is the founder of the world’s largest trader in copper and of Red Kite Capital Management\, which now has $2 billion of assets under management. Since 2014 he has been a Peer in the House of Lords. For the first half of his life\, Michael didn’t give God much thought\, but that all changed one night when he was 35. Join us as Michael is interviewed and speaks on ‘the path to life’.
URL:https://stpetersbarge.org/bargeevent/questions-for-life-2019/
LOCATION:St Peter’s Barge\, St Peter's Barge\, London\, E14 4AL
CATEGORIES:Lunchtime talk,Questions of Life event
END:VEVENT
BEGIN:VEVENT
DTSTART;TZID=Europe/London:20190403T121500
DTEND;TZID=Europe/London:20190403T125000
DTSTAMP:20260421T093921
CREATED:20181224T164832Z
LAST-MODIFIED:20190215T161243Z
UID:9278-1554293700-1554295800@stpetersbarge.org
SUMMARY:Questions for Life 2019
DESCRIPTION:Title: What if I don’t ‘do God’?\nSpeaker: Michael Farmer\nMichael is the founder of the world’s largest trader in copper and of Red Kite Capital Management\, which now has $2 billion of assets under management. Since 2014 he has been a Peer in the House of Lords. For the first half of his life\, Michael didn’t give God much thought\, but that all changed one night when he was 35. Join us as Michael is interviewed and speaks on ‘the path to life’.
URL:https://stpetersbarge.org/bargeevent/questions-for-life/
LOCATION:Idea Store – Churchill Place\, Idea Store\, Churchill Place Shopping Mall\, London\, E14 5RB\, United Kingdom
CATEGORIES:Questions of Life event
END:VEVENT
BEGIN:VEVENT
DTSTART;TZID=Europe/London:20190213T015500
DTEND;TZID=Europe/London:20190213T015500
DTSTAMP:20260421T093921
CREATED:20181217T162059Z
LAST-MODIFIED:20190115T144012Z
UID:9200-1550022900-1550022900@stpetersbarge.org
SUMMARY:Questions for Life launch event
DESCRIPTION:We’ll welcome the Evangelist Rico Tice to speak to Christians about how they can be involved in sharing their faith. \n“Questions for Life” is an annual week of talks across the Wharf in the run-up to Easter. Run by the Barge and Workplace Christian Groups giving the Wharf the chance to hear the message of Jesus.
URL:https://stpetersbarge.org/bargeevent/questions-for-life-launch-event-2/
LOCATION:St Peter’s Barge\, St Peter's Barge\, London\, E14 4AL
CATEGORIES:Questions of Life event
END:VEVENT
BEGIN:VEVENT
DTSTART;TZID=Europe/London:20180328T121500
DTEND;TZID=Europe/London:20180328T124500
DTSTAMP:20260421T093921
CREATED:20180316T172430Z
LAST-MODIFIED:20180316T172430Z
UID:7763-1522239300-1522241100@stpetersbarge.org
SUMMARY:Questions for life event - Easter Unrwapped
DESCRIPTION:Servant Leadership is a concept that does the rounds in secular management books. But what does it mean and what does it look like in practice? Join us as we see Jesus wash his disciples’ feet\, and how that defines servant leadership and unwraps the whole meaning of Easter. \nBIBLE TEXT: John 13:1-17 \nSPEAKER: Matt Dew-Jones
URL:https://stpetersbarge.org/bargeevent/questions-for-life-event-easter-unrwapped/
LOCATION:Idea Store – Churchill Place\, Idea Store\, Churchill Place Shopping Mall\, London\, E14 5RB\, United Kingdom
CATEGORIES:Questions of Life event
ATTACH;FMTTYPE=image/jpeg:https://stpetersbarge.org/wp-content/uploads/2018/01/QFL-2018-2.jpg
END:VEVENT
BEGIN:VEVENT
DTSTART;TZID=Europe/London:20170402T103000
DTEND;TZID=Europe/London:20170402T193000
DTSTAMP:20260421T093921
CREATED:20161223T155116Z
LAST-MODIFIED:20170207T114701Z
UID:5441-1491129000-1491161400@stpetersbarge.org
SUMMARY:Sunday Service (with Sunday School) 10.30am & at 6pm
DESCRIPTION:Questions of Life event – Is Jesus really good news? \nSome think religion creates more problems than it solves. Join our service as Roger Carswell speaks. \nGuest Speaker: Roger Carswell
URL:https://stpetersbarge.org/bargeevent/sunday-service-with-sunday-school-10-30am-at-6pm-95/
LOCATION:St Peter’s Barge\, St Peter's Barge\, London\, E14 4AL
CATEGORIES:Questions of Life event,Sunday service
ATTACH;FMTTYPE=image/jpeg:https://stpetersbarge.org/wp-content/uploads/2017/02/gaphic-all-QOF-2017-2_events-page.jpg
END:VEVENT
BEGIN:VEVENT
DTSTART;TZID=Europe/London:20170331T130500
DTEND;TZID=Europe/London:20170331T135500
DTSTAMP:20260421T093921
CREATED:20170207T114051Z
LAST-MODIFIED:20170207T114051Z
UID:5625-1490965500-1490968500@stpetersbarge.org
SUMMARY:Questions of Life event - Is there more to life?
DESCRIPTION:Work\, Eat\, Sleep\, Repeat… In this talk Roger Carswell will ask whether there’s more to life and whether Christianity holds out an answer. \nContact athinia.benjamin@jpmorgan.com in good time for security access. \nLocation: JP Morgan \nSpeaker: Roger Carswell
URL:https://stpetersbarge.org/bargeevent/questions-of-life-event-is-there-more-to-life/
CATEGORIES:Questions of Life event
ATTACH;FMTTYPE=image/jpeg:https://stpetersbarge.org/wp-content/uploads/2017/02/gaphic-all-QOF-2017-2_events-page.jpg
END:VEVENT
BEGIN:VEVENT
DTSTART;TZID=Europe/London:20170330T180000
DTEND;TZID=Europe/London:20170330T190000
DTSTAMP:20260421T093921
CREATED:20170207T113554Z
LAST-MODIFIED:20170207T113554Z
UID:5624-1490896800-1490900400@stpetersbarge.org
SUMMARY:Questions of Life event - What difference does this make?
DESCRIPTION:Cyrille Regis was one of the first black professional footballers to play for England. In this interview and talk we’ll explore why Cyrille chose to become a Christian in a culture which thought it so irrelevant. \nEmail khoria.stewart@barclays.com in good time for security access. \nLocation: Barclays – 1 Churchchill Place \nSpeakers: Cyrille Regis and Roger Carswell
URL:https://stpetersbarge.org/bargeevent/questions-of-life-event-what-difference-does-this-make/
CATEGORIES:Questions of Life event
ATTACH;FMTTYPE=image/jpeg:https://stpetersbarge.org/wp-content/uploads/2017/02/gaphic-all-QOF-2017-2_events-page.jpg
END:VEVENT
BEGIN:VEVENT
DTSTART;TZID=Europe/London:20170330T131500
DTEND;TZID=Europe/London:20170330T135000
DTSTAMP:20260421T093921
CREATED:20170207T112948Z
LAST-MODIFIED:20170207T112948Z
UID:5623-1490879700-1490881800@stpetersbarge.org
SUMMARY:Questions of Life event - Is there life after death?
DESCRIPTION:Most in human history have sensed there is. In this talk Roger Carswell asks – Is it true? Can we know? What’s it like? \nEmail info@stpetersbarge.org to register interest. \nSpeaker: Roger Carswell.
URL:https://stpetersbarge.org/bargeevent/questions-of-life-event-is-there-life-after-death/
LOCATION:St Peter’s Barge\, St Peter's Barge\, London\, E14 4AL
CATEGORIES:Questions of Life event
ATTACH;FMTTYPE=image/jpeg:https://stpetersbarge.org/wp-content/uploads/2017/02/gaphic-all-QOF-2017-2_events-page.jpg
END:VEVENT
BEGIN:VEVENT
DTSTART;TZID=Europe/London:20170329T193000
DTEND;TZID=Europe/London:20170329T203000
DTSTAMP:20260421T093921
CREATED:20170207T112711Z
LAST-MODIFIED:20170207T112711Z
UID:5622-1490815800-1490819400@stpetersbarge.org
SUMMARY:Questions of Life event - How bad is too bad?
DESCRIPTION:As Northern Irish paramilitary\, Billy was jailed for murder\, but has since become a Christian pastor. In this interview and talk we’ll hear what he’s come to believe about forgiveness and the power to change. \nEmail info@stpetersbarge.org to register interest. \nSpeakers: Billy McCurrie and Roger Carswell
URL:https://stpetersbarge.org/bargeevent/questions-of-life-event-how-bad-is-too-bad/
LOCATION:St Peter’s Barge\, St Peter's Barge\, London\, E14 4AL
CATEGORIES:Questions of Life event
ATTACH;FMTTYPE=image/jpeg:https://stpetersbarge.org/wp-content/uploads/2017/02/gaphic-all-QOF-2017-2_events-page.jpg
END:VEVENT
BEGIN:VEVENT
DTSTART;TZID=Europe/London:20170329T130500
DTEND;TZID=Europe/London:20170329T135500
DTSTAMP:20260421T093921
CREATED:20170207T112714Z
LAST-MODIFIED:20170207T112714Z
UID:5621-1490792700-1490795700@stpetersbarge.org
SUMMARY:Questions of Life event - How bad is too bad?
DESCRIPTION:As Northern Irish paramilitary\, Billy was jailed for murder\, but has since become a Christian pastor. In this interview and talk we’ll hear what he’s come to believe about forgiveness and the power to change. \nEmail info@stpetersbarge.org to register interest. \nSpeakers: Billy McCurrie and Roger Carswell
URL:https://stpetersbarge.org/bargeevent/questions-of-life-event-how-bad-is-too-bad-2/
LOCATION:St Peter’s Barge\, St Peter's Barge\, London\, E14 4AL
CATEGORIES:Questions of Life event
ATTACH;FMTTYPE=image/jpeg:https://stpetersbarge.org/wp-content/uploads/2017/02/gaphic-all-QOF-2017-2_events-page.jpg
END:VEVENT
BEGIN:VEVENT
DTSTART;TZID=Europe/London:20170329T121500
DTEND;TZID=Europe/London:20170329T125000
DTSTAMP:20260421T093921
CREATED:20170207T112309Z
LAST-MODIFIED:20170207T112334Z
UID:5620-1490789700-1490791800@stpetersbarge.org
SUMMARY:Questions of Life event - How should we process our suffering?
DESCRIPTION:Roger Carswell tackles this important and often painful question. If God is all-powerful and all-good\, how can he allow suffering? \nEmail info@stpetersbarge.org to register interest. \nSpeaker: Roger Carswell
URL:https://stpetersbarge.org/bargeevent/questions-of-life-event-how-should-we-process-our-suffering/
LOCATION:Idea Store – Churchill Place\, Idea Store\, Churchill Place Shopping Mall\, London\, E14 5RB\, United Kingdom
CATEGORIES:Questions of Life event
ATTACH;FMTTYPE=image/jpeg:https://stpetersbarge.org/wp-content/uploads/2017/02/gaphic-all-QOF-2017-2_events-page.jpg
END:VEVENT
BEGIN:VEVENT
DTSTART;TZID=Europe/London:20170328T130500
DTEND;TZID=Europe/London:20170328T135500
DTSTAMP:20260421T093921
CREATED:20170207T111600Z
LAST-MODIFIED:20170207T111600Z
UID:5619-1490706300-1490709300@stpetersbarge.org
SUMMARY:Questions of Life event - What if having it all isn't enough?
DESCRIPTION:Yvonne works in the Wharf and came to trust Jesus while recovering from alcoholism at the Priory. In this interview and talk we’ll hear how Christianity brought satisfaction when nothing else could. \nContact ukfmcik@kpmg.co.uk in good time for security access. \nLocation: KPMG \nSpeakers: Yvonne Edwards and Roger Carswell
URL:https://stpetersbarge.org/bargeevent/questions-of-life-event-what-if-having-it-all-isnt-enough/
CATEGORIES:Questions of Life event
ATTACH;FMTTYPE=image/jpeg:https://stpetersbarge.org/wp-content/uploads/2017/02/gaphic-all-QOF-2017-2_events-page.jpg
END:VEVENT
BEGIN:VEVENT
DTSTART;TZID=Europe/London:20170327T173000
DTEND;TZID=Europe/London:20170327T183000
DTSTAMP:20260421T093921
CREATED:20170206T165802Z
LAST-MODIFIED:20170206T165802Z
UID:5608-1490635800-1490639400@stpetersbarge.org
SUMMARY:Questions of Life event - Does the evidence stack up?
DESCRIPTION:Jeremy is a recently retired High Court Judge who precided over a number of high profile cases. In this interview and talk we’ll hear how he came to be persuaded of the evidence for Christianity and the impact on his life. \nContact peter.thompson1@financial-ombudsman.org.uk in good time for security access. \nLocation: Financial Ombudsman \nSpeakers: Sir Jeremy Cooke and Roger Carswell
URL:https://stpetersbarge.org/bargeevent/questions-of-life-event-does-the-evidence-stack-up/
CATEGORIES:Questions of Life event
ATTACH;FMTTYPE=image/jpeg:https://stpetersbarge.org/wp-content/uploads/2017/02/gaphic-all-QOF-2017-2_events-page.jpg
END:VEVENT
BEGIN:VEVENT
DTSTART;TZID=Europe/London:20170327T120500
DTEND;TZID=Europe/London:20170327T125500
DTSTAMP:20260421T093921
CREATED:20170206T164241Z
LAST-MODIFIED:20170206T164241Z
UID:5607-1490616300-1490619300@stpetersbarge.org
SUMMARY:Questions of Life event - Is this a wise investment?
DESCRIPTION:Simon is Chief Executive of fixed income at M&G investments. In this interview and talk\, we’ll hear why Simon has chosen to invest in Christianity and the difference it makes to his working life. \nContact jonathan.miles@fca.org.uk in good time for security access \nLocation: FCA \nSpeakers: Simon Pilcher and Roger Carswell
URL:https://stpetersbarge.org/bargeevent/questions-of-life-event-is-this-a-wise-investment/
CATEGORIES:Questions of Life event
ATTACH;FMTTYPE=image/jpeg:https://stpetersbarge.org/wp-content/uploads/2017/02/gaphic-all-QOF-2017-2_events-page.jpg
END:VEVENT
BEGIN:VEVENT
DTSTART;TZID=Europe/London:20170207T130500
DTEND;TZID=Europe/London:20170207T135500
DTSTAMP:20260421T093921
CREATED:20161223T162550Z
LAST-MODIFIED:20170202T170941Z
UID:5458-1486472700-1486475700@stpetersbarge.org
SUMMARY:Launch of Questions of Life event
DESCRIPTION:A chance for Christians from across the Wharf to gather 7 weeks before Questions of Life week (27-31st March)\, to hear from Roger Carswell\, the week’s main speaker and to pray for this week of gospel events in firms across the Wharf. \nPlease email ukfmcik@kpmg.co.uk\, RSVP by 6th Feb (12pm) for security clearance. \n \n 
URL:https://stpetersbarge.org/bargeevent/launch-of-questions-of-life-event/
LOCATION:KPMG\, 15 Canada Square\, E14 5GL\, United Kingdom
CATEGORIES:Questions of Life event
END:VEVENT
END:VCALENDAR