BEGIN:VCALENDAR
VERSION:2.0
PRODID:-//St Peter&#039;s Barge - ECPv6.15.20//NONSGML v1.0//EN
CALSCALE:GREGORIAN
METHOD:PUBLISH
X-ORIGINAL-URL:https://stpetersbarge.org
X-WR-CALDESC:Events for St Peter&#039;s Barge
REFRESH-INTERVAL;VALUE=DURATION:PT1H
X-Robots-Tag:noindex
X-PUBLISHED-TTL:PT1H
BEGIN:VTIMEZONE
TZID:Europe/London
BEGIN:DAYLIGHT
TZOFFSETFROM:+0000
TZOFFSETTO:+0100
TZNAME:BST
DTSTART:20130331T010000
END:DAYLIGHT
BEGIN:STANDARD
TZOFFSETFROM:+0100
TZOFFSETTO:+0000
TZNAME:GMT
DTSTART:20131027T010000
END:STANDARD
BEGIN:DAYLIGHT
TZOFFSETFROM:+0000
TZOFFSETTO:+0100
TZNAME:BST
DTSTART:20140330T010000
END:DAYLIGHT
BEGIN:STANDARD
TZOFFSETFROM:+0100
TZOFFSETTO:+0000
TZNAME:GMT
DTSTART:20141026T010000
END:STANDARD
BEGIN:DAYLIGHT
TZOFFSETFROM:+0000
TZOFFSETTO:+0100
TZNAME:BST
DTSTART:20150329T010000
END:DAYLIGHT
BEGIN:STANDARD
TZOFFSETFROM:+0100
TZOFFSETTO:+0000
TZNAME:GMT
DTSTART:20151025T010000
END:STANDARD
END:VTIMEZONE
BEGIN:VEVENT
DTSTART;TZID=Europe/London:20140803T103000
DTEND;TZID=Europe/London:20140803T193000
DTSTAMP:20260423T050604
CREATED:20140716T133842Z
LAST-MODIFIED:20140716T133842Z
UID:1952-1407061800-1407094200@stpetersbarge.org
SUMMARY:Sunday Service (All-age) 10:30a.m. & at 6p.m.
DESCRIPTION:Our longing for certainty\nJohn 14:8-14\nSpeaker: Andrew Latimer
URL:https://stpetersbarge.org/bargeevent/sunday-service-all-age-1030a-m-at-6p-m/
LOCATION:St Peter’s Barge\, St Peter's Barge\, London\, E14 4AL
CATEGORIES:Sunday service
END:VEVENT
BEGIN:VEVENT
DTSTART;TZID=Europe/London:20140727T103000
DTEND;TZID=Europe/London:20140727T193000
DTSTAMP:20260423T050604
CREATED:20140716T133556Z
LAST-MODIFIED:20140716T133556Z
UID:1947-1406457000-1406489400@stpetersbarge.org
SUMMARY:Sunday Service (with Sunday School) 10:30a.m. & at 6p.m.
DESCRIPTION:Our longing for home\nJohn 14:1-7\nSpeaker: Andrew Latimer
URL:https://stpetersbarge.org/bargeevent/sunday-service-with-sunday-school-1030a-m-at-6p-m-5/
LOCATION:St Peter’s Barge\, St Peter's Barge\, London\, E14 4AL
CATEGORIES:Sunday service
END:VEVENT
BEGIN:VEVENT
DTSTART;VALUE=DATE:20140720
DTEND;VALUE=DATE:20140721
DTSTAMP:20260423T050604
CREATED:20140718T143748Z
LAST-MODIFIED:20140718T143748Z
UID:1978-1405814400-1405900799@stpetersbarge.org
SUMMARY:No Sunday services today
DESCRIPTION:There will be no Sunday services at Barge today.
URL:https://stpetersbarge.org/bargeevent/no-sunday-services-today/
LOCATION:St Peter’s Barge\, St Peter's Barge\, London\, E14 4AL
CATEGORIES:Sunday service
END:VEVENT
BEGIN:VEVENT
DTSTART;TZID=Europe/London:20140629T103000
DTEND;TZID=Europe/London:20140629T193000
DTSTAMP:20260423T050604
CREATED:20140523T152949Z
LAST-MODIFIED:20140606T151736Z
UID:1776-1404037800-1404070200@stpetersbarge.org
SUMMARY:Sunday Service (with Sunday School) 10:30a.m. & at 6p.m.
DESCRIPTION:Noah: the end of the world is just the beginning…–Part2\nSpeaker: Andrew Latimer
URL:https://stpetersbarge.org/bargeevent/sunday-service-with-sunday-school-1030a-m-at-6p-m-2/
LOCATION:St Peter’s Barge\, St Peter's Barge\, London\, E14 4AL
CATEGORIES:Sunday service
END:VEVENT
BEGIN:VEVENT
DTSTART;TZID=Europe/London:20140622T103000
DTEND;TZID=Europe/London:20140622T193000
DTSTAMP:20260423T050604
CREATED:20140523T152715Z
LAST-MODIFIED:20140606T151628Z
UID:1775-1403433000-1403465400@stpetersbarge.org
SUMMARY:Sunday Service (with Sunday School) 10:30a.m. & at 6p.m.
DESCRIPTION:Noah: the end of the world is just the beginning…–Part1\nSpeaker: Andrew Latimer
URL:https://stpetersbarge.org/bargeevent/sunday-service-with-sunday-school-1030a-m-at-6p-m/
LOCATION:St Peter’s Barge\, St Peter's Barge\, London\, E14 4AL
CATEGORIES:Sunday service
END:VEVENT
BEGIN:VEVENT
DTSTART;TZID=Europe/London:20140615T180000
DTEND;TZID=Europe/London:20140615T193000
DTSTAMP:20260423T050604
CREATED:20140523T152328Z
LAST-MODIFIED:20140606T151417Z
UID:1774-1402855200-1402860600@stpetersbarge.org
SUMMARY:Sunday service at 6pm
DESCRIPTION: How to be a total loser (Luke 14:15-24)\nSpeaker: Andrew Latimer
URL:https://stpetersbarge.org/bargeevent/sunday-service-at-6pm/
LOCATION:St Peter’s Barge\, St Peter's Barge\, London\, E14 4AL
CATEGORIES:Sunday service
END:VEVENT
BEGIN:VEVENT
DTSTART;TZID=Europe/London:20140615T103000
DTEND;TZID=Europe/London:20140615T120000
DTSTAMP:20260423T050604
CREATED:20140523T151900Z
LAST-MODIFIED:20140606T151312Z
UID:1773-1402828200-1402833600@stpetersbarge.org
SUMMARY:Baptism service at 10:30am (with Sunday School)
DESCRIPTION:Guest service with baptism at 10:30AM\n\n  \nHow to be a total loser (Luke 14:15-24)\nSpeaker: Andrew Latimer
URL:https://stpetersbarge.org/bargeevent/baptism-service-at-1030am-with-sunday-school/
LOCATION:St Peter’s Barge\, St Peter's Barge\, London\, E14 4AL
CATEGORIES:Baptism,Sunday service
END:VEVENT
BEGIN:VEVENT
DTSTART;TZID=Europe/London:20140608T103000
DTEND;TZID=Europe/London:20140608T180000
DTSTAMP:20260423T050604
CREATED:20140425T163448Z
LAST-MODIFIED:20140520T092232Z
UID:1573-1402223400-1402250400@stpetersbarge.org
SUMMARY:Sunday Service (with Sunday School) 10:30a.m. & at 6p.m.
DESCRIPTION:The Prayer \nIsaiah 37\nSpeaker: Marcus Nodder
URL:https://stpetersbarge.org/bargeevent/sunday-service-at-1030amwith-sunday-school-at-6pm-2/
LOCATION:St Peter’s Barge\, St Peter's Barge\, London\, E14 4AL
CATEGORIES:Sunday service
END:VEVENT
BEGIN:VEVENT
DTSTART;TZID=Europe/London:20140601T103000
DTEND;TZID=Europe/London:20140601T180000
DTSTAMP:20260423T050604
CREATED:20140425T165508Z
LAST-MODIFIED:20140520T092253Z
UID:1584-1401618600-1401645600@stpetersbarge.org
SUMMARY:Sunday Service (with Sunday School) 10:30a.m. & at 6p.m.
DESCRIPTION:The Challenge \nIsaiah 36\nSpeaker: Marcus Nodder
URL:https://stpetersbarge.org/bargeevent/sunday-service-at-1030amwith-sunday-school-at-6pm-7/
LOCATION:St Peter’s Barge\, St Peter's Barge\, London\, E14 4AL
CATEGORIES:Sunday service
END:VEVENT
BEGIN:VEVENT
DTSTART;TZID=Europe/London:20140525T103000
DTEND;TZID=Europe/London:20140525T180000
DTSTAMP:20260423T050604
CREATED:20140425T165403Z
LAST-MODIFIED:20140520T092313Z
UID:1583-1401013800-1401040800@stpetersbarge.org
SUMMARY:Sunday Service (with Sunday School) 10:30a.m. & at 6p.m.
DESCRIPTION:The Cornerstone\nIsaiah 28-35\nSpeaker: Marcus Nodder
URL:https://stpetersbarge.org/bargeevent/sunday-service-at-1030amwith-sunday-school-at-6pm-6/
LOCATION:St Peter’s Barge\, St Peter's Barge\, London\, E14 4AL
CATEGORIES:Sunday service
END:VEVENT
BEGIN:VEVENT
DTSTART;TZID=Europe/London:20140518T180000
DTEND;TZID=Europe/London:20140518T193000
DTSTAMP:20260423T050604
CREATED:20140507T091438Z
LAST-MODIFIED:20140507T091438Z
UID:1675-1400436000-1400441400@stpetersbarge.org
SUMMARY:Sunday Service at 6p.m.
DESCRIPTION:
URL:https://stpetersbarge.org/bargeevent/sunday-service-at-6p-m/
LOCATION:St Peter’s Barge\, St Peter's Barge\, London\, E14 4AL
CATEGORIES:Sunday service
END:VEVENT
BEGIN:VEVENT
DTSTART;TZID=Europe/London:20140518T103000
DTEND;TZID=Europe/London:20140518T120000
DTSTAMP:20260423T050605
CREATED:20140425T165010Z
LAST-MODIFIED:20140507T091340Z
UID:1581-1400409000-1400414400@stpetersbarge.org
SUMMARY:Baptism service at 10:30am (with Sunday School)
DESCRIPTION:Isaiah 25-27 / baptism service at 10:30am\, evangelistic talk\nSpeaker: Marcus Nodder
URL:https://stpetersbarge.org/bargeevent/sunday-service-at-1030amwith-sunday-school-at-6pm-4/
LOCATION:St Peter’s Barge\, St Peter's Barge\, London\, E14 4AL
CATEGORIES:Baptism,Sunday service
END:VEVENT
BEGIN:VEVENT
DTSTART;TZID=Europe/London:20140511T103000
DTEND;TZID=Europe/London:20140511T180000
DTSTAMP:20260423T050605
CREATED:20140425T165138Z
LAST-MODIFIED:20140507T091158Z
UID:1582-1399804200-1399831200@stpetersbarge.org
SUMMARY:Sunday Service (with Sunday School) 10:30a.m. & at 6p.m.
DESCRIPTION:AUTHENTIC SPIRITUALITY – LIVING IT!\nJOHN 13:31-38\nSpeaker: Andrew Latimer
URL:https://stpetersbarge.org/bargeevent/sunday-service-at-1030amwith-sunday-school-at-6pm-5/
LOCATION:St Peter’s Barge\, St Peter's Barge\, London\, E14 4AL
CATEGORIES:Sunday service
END:VEVENT
BEGIN:VEVENT
DTSTART;TZID=Europe/London:20140504T103000
DTEND;TZID=Europe/London:20140504T180000
DTSTAMP:20260423T050605
CREATED:20140425T162417Z
LAST-MODIFIED:20140425T163004Z
UID:1570-1399199400-1399226400@stpetersbarge.org
SUMMARY:Sunday service at 10:30am(with Sunday School) & at 6pm
DESCRIPTION:Authentic Spirituality – Experiencing it!\nJohn 13:1-30\nSpeaker: Andrew Latimer
URL:https://stpetersbarge.org/bargeevent/sunday-service-with-sunday-school-at-1030am-and-6pm-service/
LOCATION:St Peter’s Barge\, St Peter's Barge\, London\, E14 4AL
CATEGORIES:Sunday service
END:VEVENT
BEGIN:VEVENT
DTSTART;VALUE=DATE:20140309
DTEND;VALUE=DATE:20140310
DTSTAMP:20260423T050605
CREATED:20140301T111634Z
LAST-MODIFIED:20140301T111634Z
UID:1409-1394323200-1394409599@stpetersbarge.org
SUMMARY:Sunday service - Isaiah
DESCRIPTION:Isaiah 6 – 10:30am Sunday service\, Sunday school and creche \n6pm Sunday service
URL:https://stpetersbarge.org/bargeevent/sunday-service-isaiah/
LOCATION:St Peter’s Barge\, St Peter's Barge\, London\, E14 4AL
CATEGORIES:Sunday service
END:VEVENT
END:VCALENDAR