BEGIN:VCALENDAR
VERSION:2.0
PRODID:-//St Peter&#039;s Barge - ECPv6.15.20//NONSGML v1.0//EN
CALSCALE:GREGORIAN
METHOD:PUBLISH
X-WR-CALNAME:St Peter&#039;s Barge
X-ORIGINAL-URL:https://stpetersbarge.org
X-WR-CALDESC:Events for St Peter&#039;s Barge
REFRESH-INTERVAL;VALUE=DURATION:PT1H
X-Robots-Tag:noindex
X-PUBLISHED-TTL:PT1H
BEGIN:VTIMEZONE
TZID:Europe/London
BEGIN:DAYLIGHT
TZOFFSETFROM:+0000
TZOFFSETTO:+0100
TZNAME:BST
DTSTART:20160327T010000
END:DAYLIGHT
BEGIN:STANDARD
TZOFFSETFROM:+0100
TZOFFSETTO:+0000
TZNAME:GMT
DTSTART:20161030T010000
END:STANDARD
BEGIN:DAYLIGHT
TZOFFSETFROM:+0000
TZOFFSETTO:+0100
TZNAME:BST
DTSTART:20170326T010000
END:DAYLIGHT
BEGIN:STANDARD
TZOFFSETFROM:+0100
TZOFFSETTO:+0000
TZNAME:GMT
DTSTART:20171029T010000
END:STANDARD
BEGIN:DAYLIGHT
TZOFFSETFROM:+0000
TZOFFSETTO:+0100
TZNAME:BST
DTSTART:20180325T010000
END:DAYLIGHT
BEGIN:STANDARD
TZOFFSETFROM:+0100
TZOFFSETTO:+0000
TZNAME:GMT
DTSTART:20181028T010000
END:STANDARD
BEGIN:DAYLIGHT
TZOFFSETFROM:+0000
TZOFFSETTO:+0100
TZNAME:BST
DTSTART:20190331T010000
END:DAYLIGHT
BEGIN:STANDARD
TZOFFSETFROM:+0100
TZOFFSETTO:+0000
TZNAME:GMT
DTSTART:20191027T010000
END:STANDARD
BEGIN:DAYLIGHT
TZOFFSETFROM:+0000
TZOFFSETTO:+0100
TZNAME:BST
DTSTART:20200329T010000
END:DAYLIGHT
BEGIN:STANDARD
TZOFFSETFROM:+0100
TZOFFSETTO:+0000
TZNAME:GMT
DTSTART:20201025T010000
END:STANDARD
END:VTIMEZONE
BEGIN:VEVENT
DTSTART;TZID=Europe/London:20190202T100000
DTEND;TZID=Europe/London:20190202T123000
DTSTAMP:20260423T174649
CREATED:20181214T143931Z
LAST-MODIFIED:20190110T123837Z
UID:9161-1549101600-1549110600@stpetersbarge.org
SUMMARY:Women's Bring and Share Brunch
DESCRIPTION:A chance to come together as women of the Barge\, and spend some quality social time together. Something to look forward to after Christmas\, in the middle of the cold winter!
URL:https://stpetersbarge.org/bargeevent/womens-bring-and-share-brunch/
LOCATION:St Peter’s Barge\, St Peter's Barge\, London\, E14 4AL
CATEGORIES:Women's Breakfast
END:VEVENT
BEGIN:VEVENT
DTSTART;TZID=Europe/London:20181117T100000
DTEND;TZID=Europe/London:20181117T123000
DTSTAMP:20260423T174649
CREATED:20180417T145402Z
LAST-MODIFIED:20181101T165836Z
UID:7918-1542448800-1542457800@stpetersbarge.org
SUMMARY:Women’s Christmas Event
DESCRIPTION:Join us for our Christmas women’s event. We will be learning to make Christmas wreaths. There will be coffee\, cake and Fiona will share a short message on the meaning of Christmas. Cost of the event is £15.
URL:https://stpetersbarge.org/bargeevent/womens-breakfast-3/
LOCATION:St Peter’s Barge\, St Peter's Barge\, London\, E14 4AL
CATEGORIES:Women's Breakfast
ATTACH;FMTTYPE=image/jpeg:https://stpetersbarge.org/wp-content/uploads/2018/04/womens-evnet-Nov-2018-1.jpg
END:VEVENT
BEGIN:VEVENT
DTSTART;TZID=Europe/London:20180616T100000
DTEND;TZID=Europe/London:20180616T120000
DTSTAMP:20260423T174649
CREATED:20180417T145120Z
LAST-MODIFIED:20180515T103954Z
UID:7914-1529143200-1529150400@stpetersbarge.org
SUMMARY:Women's Morning - Design & Creativity
DESCRIPTION:If you are a lady at the barge why not join us on the 16th June! \nWe have hired out Husk Coffee Shop in Limehouse to spend the morning thinking all things creative! \nWe will have an interview with Lidia Jung about life in the luxury fashion world & we will get a chance to get creative too! \nThis would be a great event to bring friends along to – it will be very informal with some really interesting content. \nWhat better way to spend a Saturday morning! \nPlease sign up by emailing info@stpetersbarge.org\n\nPRACTICAL THINGS \n– The cost of the event is £8. This includes the crafts we will doing!\n– We will not be providing food as the cafe does a smashing brunch and provides lovely cakes and coffee!
URL:https://stpetersbarge.org/bargeevent/womens-breakfast-2/
LOCATION:Husk Coffee & Creative Space\, 649-651 Commercial Rd\, Limehouse\, London\, E14 7LW\, United Kingdom
CATEGORIES:Women's Breakfast
END:VEVENT
BEGIN:VEVENT
DTSTART;TZID=Europe/London:20180428T100000
DTEND;TZID=Europe/London:20180428T120000
DTSTAMP:20260423T174649
CREATED:20180417T144412Z
LAST-MODIFIED:20180417T144412Z
UID:7912-1524909600-1524916800@stpetersbarge.org
SUMMARY:Women's breakfast
DESCRIPTION:Join us for a spring breakfast as we think through contentment. What is it? What does the Bible have to say? How do we pursue it? & What is it so difficult to find. For more information & to sign up\, please email info@stpetersbarge.org
URL:https://stpetersbarge.org/bargeevent/womens-breakfast/
LOCATION:St Peter’s Barge\, St Peter's Barge\, London\, E14 4AL
CATEGORIES:Women's Breakfast
END:VEVENT
BEGIN:VEVENT
DTSTART;TZID=Europe/London:20170624T083000
DTEND;TZID=Europe/London:20170624T100000
DTSTAMP:20260423T174649
CREATED:20170605T145153Z
LAST-MODIFIED:20170605T145153Z
UID:6020-1498293000-1498298400@stpetersbarge.org
SUMMARY:Women’s Breakfast (Bring and Share)
DESCRIPTION:Women’s bring and share breakfast \nTitle: Caring for one another as the body of Christ \nSpeaker: Fiona Robb
URL:https://stpetersbarge.org/bargeevent/womens-breakfast-bring-and-share/
LOCATION:St Peter’s Barge\, St Peter's Barge\, London\, E14 4AL
CATEGORIES:Women's Breakfast
END:VEVENT
END:VCALENDAR