BEGIN:VCALENDAR
VERSION:2.0
PRODID:-//St Peter&#039;s Barge - ECPv6.15.20//NONSGML v1.0//EN
CALSCALE:GREGORIAN
METHOD:PUBLISH
X-ORIGINAL-URL:https://stpetersbarge.org
X-WR-CALDESC:Events for St Peter&#039;s Barge
REFRESH-INTERVAL;VALUE=DURATION:PT1H
X-Robots-Tag:noindex
X-PUBLISHED-TTL:PT1H
BEGIN:VTIMEZONE
TZID:Europe/London
BEGIN:DAYLIGHT
TZOFFSETFROM:+0000
TZOFFSETTO:+0100
TZNAME:BST
DTSTART:20180325T010000
END:DAYLIGHT
BEGIN:STANDARD
TZOFFSETFROM:+0100
TZOFFSETTO:+0000
TZNAME:GMT
DTSTART:20181028T010000
END:STANDARD
BEGIN:DAYLIGHT
TZOFFSETFROM:+0000
TZOFFSETTO:+0100
TZNAME:BST
DTSTART:20190331T010000
END:DAYLIGHT
BEGIN:STANDARD
TZOFFSETFROM:+0100
TZOFFSETTO:+0000
TZNAME:GMT
DTSTART:20191027T010000
END:STANDARD
BEGIN:DAYLIGHT
TZOFFSETFROM:+0000
TZOFFSETTO:+0100
TZNAME:BST
DTSTART:20200329T010000
END:DAYLIGHT
BEGIN:STANDARD
TZOFFSETFROM:+0100
TZOFFSETTO:+0000
TZNAME:GMT
DTSTART:20201025T010000
END:STANDARD
BEGIN:DAYLIGHT
TZOFFSETFROM:+0000
TZOFFSETTO:+0100
TZNAME:BST
DTSTART:20210328T010000
END:DAYLIGHT
BEGIN:STANDARD
TZOFFSETFROM:+0100
TZOFFSETTO:+0000
TZNAME:GMT
DTSTART:20211031T010000
END:STANDARD
END:VTIMEZONE
BEGIN:VEVENT
DTSTART;TZID=Europe/London:20200613T100000
DTEND;TZID=Europe/London:20200613T120000
DTSTAMP:20260421T122049
CREATED:20200603T151940Z
LAST-MODIFIED:20200611T134016Z
UID:11871-1592042400-1592049600@stpetersbarge.org
SUMMARY:Women's Morning Conference AT HOME
DESCRIPTION:Women’s Morning Conference AT HOME\nSaturday\, June 13th 10-12\n \nChrist our Hope in the Battles of Life\n \n\n\n\nJoin us for a morning of fellowship and teaching on Revelation from Andrea Trevenna. Andrea is the associate minister for women at St Nicks Church\, Sevenoaks. She is a regular conference speaker and the author of “The Heart of Singleness- How to be Single and Satisfied”. \n\n\n\nWe will be listening to Andrea’s talks on Revelation. They focus on 3 key passages\, helping us to see how wonderfully victorious Jesus is\, as we consider the hope Christians have in Him\, through life’s battles.\n\n\nAs we are unable to meet in person we will be meeting online using Zoom. Meeting ID included below. \nWe have included the timetable below. Hopefully this will make it easier for folk to attend as much as they can.  \n\nWe will be listening to the talks together online during the morning – however if it would be more convenient for you to listen beforehand we have included links to the talks below. You can then join us for the discussion and prayer slots. \n\n\n\nOne of our favourite things about being part of the Barge family is sharing the wonderful food we are so often surrounded by. While we can’t do this in person – why not bring your breakfast or grab yourself a pastry from your local bakery and enjoy it while we share in God’s word! \n\n\n\nAs this is our first Women’s Zoom Morning we are sure there will be lots of questions! If you have any questions please do not hesitate to reach out to events@stpetersbarge.org. \n\n\n\nTIMETABLE\n\n\n0945 – Zoom meeting opens for people to gather\n1000 – Welcome & hello\n1005 – First talk\n1035 – Discussion time\n1050 – Coffee break\n1100 – Second talk\n1140 – Discussion time & prayer\n1200 – Back together\, closing prayer and goodbye\n\n\n\nZOOM MEETING INFO\n\n\n\nhttps://us02web.zoom.us/j/84577391907\nMeeting ID: 845 7739 1907\n\nThe handout can be found here.\n \nTALKS\n \nhttp://www.bristolwomensconference.org/download-talks/\n\n\n\nVictorious Jesus (Part 1) – Revelation 1 – Andrea Trevenna\nVictorious Jesus (Part 2) – Revelation 12 – Andrea Trevenna
URL:https://stpetersbarge.org/bargeevent/womens-morning-conference-at-home/
CATEGORIES:Women's Event
END:VEVENT
BEGIN:VEVENT
DTSTART;TZID=Europe/London:20200201T100000
DTEND;TZID=Europe/London:20200201T120000
DTSTAMP:20260421T122049
CREATED:20200110T143610Z
LAST-MODIFIED:20200110T143610Z
UID:11155-1580551200-1580558400@stpetersbarge.org
SUMMARY:Women's bring and share brunch
DESCRIPTION:A chance to come together as women of the Barge\, and spend some quality social time together. Something to look forward to in the middle of the cold winter! \nThe format for the morning is to have brunch together\, then a short time of reflection and prayer at the end. \nSIGN UP BY EMAIL info@stpetersbarge.org\, OR on Facebook\, OR on the signup sheet on the welcome table.
URL:https://stpetersbarge.org/bargeevent/womens-bring-and-share-brunch-2/
LOCATION:St Peter’s Barge\, St Peter's Barge\, London\, E14 4AL
CATEGORIES:Women's Event
ATTACH;FMTTYPE=image/jpeg:https://stpetersbarge.org/wp-content/uploads/2020/01/unnamed-1.jpg
END:VEVENT
BEGIN:VEVENT
DTSTART;TZID=Europe/London:20191109T100000
DTEND;TZID=Europe/London:20191109T133000
DTSTAMP:20260421T122049
CREATED:20190322T133741Z
LAST-MODIFIED:20191024T095048Z
UID:9603-1573293600-1573306200@stpetersbarge.org
SUMMARY:Women's Christmas event - Christmas calligraphy class
DESCRIPTION:Join us on Saturday 9th November for our last women’s event of 2019. We are hosting a Modern Calligraphy Workshop and hearing a talk on “The Christmas Word” from Fiona Robb.\n\nThe workshop will be lead by professional lettering artist Hilary Kemp of Chassy Calligraphy.\n\nLearn about the different pens and nibs you need for modern calligraphy\, and get comfortable using them as you work through exercises\, alphabets\, couplings\, and words.\n\nThe morning will run from 10 – 1330 and will cost £22. The cost per person includes everything you need for the workshop\, as well as unlimited tea and coffee\, and home-baked cakes.\n\nAs places are limited we ask that you confirm your place and arrange payment by Wednesday 6th November.\n\nFor more info and for guidance on how to pay please email events@stepetersbarge.org.
URL:https://stpetersbarge.org/bargeevent/womens-christmas-event/
LOCATION:St Peter’s Barge\, St Peter's Barge\, London\, E14 4AL
CATEGORIES:Women's Event
ATTACH;FMTTYPE=image/png:https://stpetersbarge.org/wp-content/uploads/2019/10/womens-event-Nov-19-web.png
END:VEVENT
BEGIN:VEVENT
DTSTART;TZID=Europe/London:20190921T100000
DTEND;TZID=Europe/London:20190921T120000
DTSTAMP:20260421T122049
CREATED:20190322T133621Z
LAST-MODIFIED:20190905T103947Z
UID:9601-1569060000-1569067200@stpetersbarge.org
SUMMARY:Women's Event - Autumn Flower Arranging
DESCRIPTION:A lesson on how to make simple seasonal flower arrangements. Followed by a short talk on making space in our lives for God.\nAll women are welcome!
URL:https://stpetersbarge.org/bargeevent/womens-event-2/
LOCATION:St Peter’s Barge\, St Peter's Barge\, London\, E14 4AL
CATEGORIES:Women's Event
END:VEVENT
BEGIN:VEVENT
DTSTART;TZID=Europe/London:20190608T090000
DTEND;TZID=Europe/London:20190608T163000
DTSTAMP:20260421T122049
CREATED:20190322T133454Z
LAST-MODIFIED:20190529T142440Z
UID:9598-1559984400-1560011400@stpetersbarge.org
SUMMARY:Women's day conference - Living Hope
DESCRIPTION:A morning of talks on 1 Peter from Clare Heath-Whyte\, followed by lunch and an afternoon activity. \nThe morning session runs from 9am-1.30pm with a break for lunch (Please bring your own lunch. Tea\, coffee & cake are provided). \nAfternoon activity – Boating on the Serpentine in Hyde Park! £12 per adult. \n  \nEmail info@stpetersbarge.org to book your place.
URL:https://stpetersbarge.org/bargeevent/womens-event-living-hope-womens-day-conference/
LOCATION:St Peter’s Barge\, St Peter's Barge\, London\, E14 4AL
CATEGORIES:Women's Event
END:VEVENT
END:VCALENDAR