BEGIN:VCALENDAR
VERSION:2.0
PRODID:-//St Peter&#039;s Barge - ECPv6.15.20//NONSGML v1.0//EN
CALSCALE:GREGORIAN
METHOD:PUBLISH
X-ORIGINAL-URL:https://stpetersbarge.org
X-WR-CALDESC:Events for St Peter&#039;s Barge
REFRESH-INTERVAL;VALUE=DURATION:PT1H
X-Robots-Tag:noindex
X-PUBLISHED-TTL:PT1H
BEGIN:VTIMEZONE
TZID:Europe/London
BEGIN:DAYLIGHT
TZOFFSETFROM:+0000
TZOFFSETTO:+0100
TZNAME:BST
DTSTART:20250330T010000
END:DAYLIGHT
BEGIN:STANDARD
TZOFFSETFROM:+0100
TZOFFSETTO:+0000
TZNAME:GMT
DTSTART:20251026T010000
END:STANDARD
BEGIN:DAYLIGHT
TZOFFSETFROM:+0000
TZOFFSETTO:+0100
TZNAME:BST
DTSTART:20260329T010000
END:DAYLIGHT
BEGIN:STANDARD
TZOFFSETFROM:+0100
TZOFFSETTO:+0000
TZNAME:GMT
DTSTART:20261025T010000
END:STANDARD
BEGIN:DAYLIGHT
TZOFFSETFROM:+0000
TZOFFSETTO:+0100
TZNAME:BST
DTSTART:20270328T010000
END:DAYLIGHT
BEGIN:STANDARD
TZOFFSETFROM:+0100
TZOFFSETTO:+0000
TZNAME:GMT
DTSTART:20271031T010000
END:STANDARD
END:VTIMEZONE
BEGIN:VEVENT
DTSTART;TZID=Europe/London:20260104T110000
DTEND;TZID=Europe/London:20260104T123000
DTSTAMP:20260419T175122
CREATED:20251204T101846Z
LAST-MODIFIED:20251204T103429Z
UID:23901-1767524400-1767529800@stpetersbarge.org
SUMMARY:Sunday service (with communion)
DESCRIPTION:Series: Luke’s gospel \n\n\n\nTitle: The Parable of the Sower \n\n\n\nBible Text: Luke 8:4-15 \n\n\n\nSpeaker: Callum Elwood
URL:https://stpetersbarge.org/bargeevent/sunday-service-178/
END:VEVENT
BEGIN:VEVENT
DTSTART;TZID=Europe/London:20260104T130000
DTEND;TZID=Europe/London:20260104T150000
DTSTAMP:20260419T175122
CREATED:20251204T102511Z
LAST-MODIFIED:20251204T102513Z
UID:23919-1767531600-1767538800@stpetersbarge.org
SUMMARY:Bring & Share lunch and The Elwoods' leaving Sunday
DESCRIPTION:Bring & share lunch after the service and a chance to say goodbye to the Elwoods. All welcome!
URL:https://stpetersbarge.org/bargeevent/bring-share-lunch-and-the-elwoods-leaving-sunday/
END:VEVENT
BEGIN:VEVENT
DTSTART;TZID=Europe/London:20260107T131500
DTEND;TZID=Europe/London:20260107T135000
DTSTAMP:20260419T175122
CREATED:20251203T162754Z
LAST-MODIFIED:20251203T163402Z
UID:23824-1767791700-1767793800@stpetersbarge.org
SUMMARY:Lunchtime talks on the Barge and on Zoom
DESCRIPTION:Bible Text: Luke 8:4-15 \n\n\n\nSpeaker: Callum Elwood
URL:https://stpetersbarge.org/bargeevent/lunchtime-talks-on-the-barge-and-on-zoom-91/
END:VEVENT
BEGIN:VEVENT
DTSTART;TZID=Europe/London:20260111T110000
DTEND;TZID=Europe/London:20260111T123000
DTSTAMP:20260419T175122
CREATED:20251204T101900Z
LAST-MODIFIED:20251204T103539Z
UID:23902-1768129200-1768134600@stpetersbarge.org
SUMMARY:Sunday service
DESCRIPTION:Series: Luke’s gospel \n\n\n\nTitle: The Good Samaritan \n\n\n\nBible Text: Luke 10:25-37 \n\n\n\nGuest Speaker: Sam Leung
URL:https://stpetersbarge.org/bargeevent/sunday-service-179/
END:VEVENT
BEGIN:VEVENT
DTSTART;TZID=Europe/London:20260111T110000
DTEND;TZID=Europe/London:20260111T123000
DTSTAMP:20260419T175122
CREATED:20251204T104822Z
LAST-MODIFIED:20251204T104824Z
UID:23970-1768129200-1768134600@stpetersbarge.org
SUMMARY:Sunday School at the Museum of London Docklands
DESCRIPTION:We start the service all together on the Barge and then the young ones go out to Sunday School (taken by the parents to the museum) after 10mins or so. For more information\, please contact the church office on info@stpetersbarge.org
URL:https://stpetersbarge.org/bargeevent/sunday-school-at-the-museum-of-london-docklands-88/
END:VEVENT
BEGIN:VEVENT
DTSTART;TZID=Europe/London:20260114T131500
DTEND;TZID=Europe/London:20260114T135000
DTSTAMP:20260419T175122
CREATED:20251203T162810Z
LAST-MODIFIED:20251203T163920Z
UID:23825-1768396500-1768398600@stpetersbarge.org
SUMMARY:Lunchtime talks on the Barge and on Zoom
DESCRIPTION:Hebrews Overview \n\n\n\nGuest speaker: Joel Chia
URL:https://stpetersbarge.org/bargeevent/lunchtime-talks-on-the-barge-and-on-zoom-92/
END:VEVENT
BEGIN:VEVENT
DTSTART;TZID=Europe/London:20260116T100000
DTEND;TZID=Europe/London:20260116T111500
DTSTAMP:20260419T175122
CREATED:20251205T111758Z
LAST-MODIFIED:20251205T142741Z
UID:23998-1768557600-1768562100@stpetersbarge.org
SUMMARY:Little Ducklings
DESCRIPTION:
URL:https://stpetersbarge.org/bargeevent/little-ducklings-54/
END:VEVENT
BEGIN:VEVENT
DTSTART;TZID=Europe/London:20260118T110000
DTEND;TZID=Europe/London:20260118T123000
DTSTAMP:20260419T175122
CREATED:20251204T101912Z
LAST-MODIFIED:20251204T103626Z
UID:23903-1768734000-1768739400@stpetersbarge.org
SUMMARY:Sunday service
DESCRIPTION:Series: Luke’s gospel \n\n\n\nTitle: The Great Banquet \n\n\n\nBible Text: Luke 14:15-24 \n\n\n\nGuest Speaker: Ed Dix
URL:https://stpetersbarge.org/bargeevent/sunday-service-180/
END:VEVENT
BEGIN:VEVENT
DTSTART;TZID=Europe/London:20260118T110000
DTEND;TZID=Europe/London:20260118T123000
DTSTAMP:20260419T175122
CREATED:20251204T104834Z
LAST-MODIFIED:20251204T104836Z
UID:23971-1768734000-1768739400@stpetersbarge.org
SUMMARY:Sunday School at the Museum of London Docklands
DESCRIPTION:We start the service all together on the Barge and then the young ones go out to Sunday School (taken by the parents to the museum) after 10mins or so. For more information\, please contact the church office on info@stpetersbarge.org
URL:https://stpetersbarge.org/bargeevent/sunday-school-at-the-museum-of-london-docklands-89/
END:VEVENT
BEGIN:VEVENT
DTSTART;TZID=Europe/London:20260121T131500
DTEND;TZID=Europe/London:20260121T135000
DTSTAMP:20260419T175122
CREATED:20251203T162821Z
LAST-MODIFIED:20251203T163925Z
UID:23826-1769001300-1769003400@stpetersbarge.org
SUMMARY:Lunchtime talks on the Barge and on Zoom
DESCRIPTION:Bible Text: Hebrews 1:1-2:4 \n\n\n\nGuest speaker: Joel Chia
URL:https://stpetersbarge.org/bargeevent/lunchtime-talks-on-the-barge-and-on-zoom-93/
END:VEVENT
BEGIN:VEVENT
DTSTART;TZID=Europe/London:20260122T183000
DTEND;TZID=Europe/London:20260122T200000
DTSTAMP:20260419T175122
CREATED:20250724T153658Z
LAST-MODIFIED:20250724T153659Z
UID:23410-1769106600-1769112000@stpetersbarge.org
SUMMARY:Women Working Well in the Wharf - midweek women's seminar
DESCRIPTION:“Trusting God at Work: Dealing with disappointment & frustration” \n\n\n\nInteractive evening seminars over dinner with other office workers discussing how to live out our faith at work. \n\n\n\nPlease RSVP info@stpetersbarge.org day before to help with catering
URL:https://stpetersbarge.org/bargeevent/women-working-well-in-the-wharf-midweek-womens-seminar-3/
END:VEVENT
BEGIN:VEVENT
DTSTART;TZID=Europe/London:20260123T100000
DTEND;TZID=Europe/London:20260123T111500
DTSTAMP:20260419T175122
CREATED:20251205T143300Z
LAST-MODIFIED:20251205T143302Z
UID:23999-1769162400-1769166900@stpetersbarge.org
SUMMARY:Little Ducklings
DESCRIPTION:
URL:https://stpetersbarge.org/bargeevent/little-ducklings-67/
END:VEVENT
BEGIN:VEVENT
DTSTART;TZID=Europe/London:20260124T130000
DTEND;TZID=Europe/London:20260124T150000
DTSTAMP:20260419T175122
CREATED:20251205T144825Z
LAST-MODIFIED:20251205T145025Z
UID:24031-1769259600-1769266800@stpetersbarge.org
SUMMARY:Dumplings master class
DESCRIPTION:All welcome to our dumpling masterclass! 🥟 \n\n\n\nLearn to roll\, fold\, and cook dumplings from scratch. Enjoy eating your creations. \n\n\n\nFun\, flour\, and flavour guaranteed! \n\n\n\nA short talk on the Christian message by Sam Leung. \n\n\n\nEmail j.gou@stpetersbarge.org by Wed 21 Jan to book your place.
URL:https://stpetersbarge.org/bargeevent/dumplings-master-class/
END:VEVENT
BEGIN:VEVENT
DTSTART;TZID=Europe/London:20260125T110000
DTEND;TZID=Europe/London:20260125T123000
DTSTAMP:20260419T175122
CREATED:20251204T101927Z
LAST-MODIFIED:20251204T103648Z
UID:23904-1769338800-1769344200@stpetersbarge.org
SUMMARY:Sunday service
DESCRIPTION:Series: Luke’s gospel \n\n\n\nTitle: The Rich Fool \n\n\n\nBible Text: Luke 12:13-34 \n\n\n\nGuest Speaker: Andrew Latimer
URL:https://stpetersbarge.org/bargeevent/sunday-service-181/
END:VEVENT
BEGIN:VEVENT
DTSTART;TZID=Europe/London:20260125T110000
DTEND;TZID=Europe/London:20260125T123000
DTSTAMP:20260419T175122
CREATED:20251204T104851Z
LAST-MODIFIED:20251204T104853Z
UID:23972-1769338800-1769344200@stpetersbarge.org
SUMMARY:Sunday School at the Museum of London Docklands
DESCRIPTION:We start the service all together on the Barge and then the young ones go out to Sunday School (taken by the parents to the museum) after 10mins or so. For more information\, please contact the church office on info@stpetersbarge.org
URL:https://stpetersbarge.org/bargeevent/sunday-school-at-the-museum-of-london-docklands-90/
END:VEVENT
BEGIN:VEVENT
DTSTART;TZID=Europe/London:20260128T131500
DTEND;TZID=Europe/London:20260128T135000
DTSTAMP:20260419T175122
CREATED:20251203T162836Z
LAST-MODIFIED:20251203T163930Z
UID:23827-1769606100-1769608200@stpetersbarge.org
SUMMARY:Lunchtime talks on the Barge and on Zoom
DESCRIPTION:Bible Text: Hebrews 2:5-3:6 \n\n\n\nGuest speaker: Joel Chia
URL:https://stpetersbarge.org/bargeevent/lunchtime-talks-on-the-barge-and-on-zoom-94/
END:VEVENT
BEGIN:VEVENT
DTSTART;TZID=Europe/London:20260130T100000
DTEND;TZID=Europe/London:20260130T111500
DTSTAMP:20260419T175122
CREATED:20251205T143322Z
LAST-MODIFIED:20251205T143324Z
UID:24000-1769767200-1769771700@stpetersbarge.org
SUMMARY:Little Ducklings
DESCRIPTION:
URL:https://stpetersbarge.org/bargeevent/little-ducklings-68/
END:VEVENT
END:VCALENDAR